BEGIN:VCALENDAR
VERSION:2.0
PRODID:EVENTFROG//EVENT//ICAL
BEGIN:VEVENT
UID:20260419T225608Z-7342847991168939031@eventfrog.at
DTSTAMP:20260419T225608Z
DTSTART:20260610T173000Z
SUMMARY:ZUSATZKONZERT Patricia Kopatchinskaja: Beethoven pur
DESCRIPTION:Beethovens Violinsonaten zeigen die Violine als dem Klavier gleichwertig. Kopatchinskaja und Ahonen musizieren im intensiven Dialog und verschmelzen zu einem klanglichen Ganzen.\n\nhttps://eventfrog.at/de/p/klassik-opern/klassik/zusatzkonzert-patricia-kopatchinskaja-beethoven-pur-7342847991168939031.html
LOCATION:Landgasthof Riehen, Grosser Festsaal
GEO:47.584345;7.649792
URL:https://eventfrog.at/de/p/klassik-opern/klassik/zusatzkonzert-patricia-kopatchinskaja-beethoven-pur-7342847991168939031.html
END:VEVENT
END:VCALENDAR