BEGIN:VCALENDAR
VERSION:2.0
PRODID:EVENTFROG//EVENTGROUP//ICAL
BEGIN:VEVENT
UID:20260425T122709Z-7453717022410556445@eventfrog.at
DTSTAMP:20260425T122709Z
DTSTART:20260628T080000Z
DTEND:20260628T110000Z
SUMMARY:Yoga & Z'Morge
DESCRIPTION:Yoga & Z'Morge \n\nhttps://eventfrog.at/de/p/gesundheit-spiritualitaet/gesundheit-wohlbefinden/yoga-z-morge-7453717022410556445.html
LOCATION:Kasernenhof 8
GEO:47.562816;7.589193
URL:https://eventfrog.at/de/p/gesundheit-spiritualitaet/gesundheit-wohlbefinden/yoga-z-morge-7453717022410556445.html
END:VEVENT
BEGIN:VEVENT
UID:20260425T122709Z-7453717510023600372@eventfrog.at
DTSTAMP:20260425T122709Z
DTSTART:20260816T080000Z
DTEND:20260816T110000Z
SUMMARY:Yoga & Z'Morge
DESCRIPTION:Yoga & Z'Morge \n\nhttps://eventfrog.at/de/p/gesundheit-spiritualitaet/gesundheit-wohlbefinden/yoga-z-morge-7453717510023600372.html
LOCATION:Kasernenhof 8
GEO:47.562816;7.589193
URL:https://eventfrog.at/de/p/gesundheit-spiritualitaet/gesundheit-wohlbefinden/yoga-z-morge-7453717510023600372.html
END:VEVENT
END:VCALENDAR