BEGIN:VCALENDAR
VERSION:2.0
PRODID:EVENTFROG//EVENTGROUP//ICAL
BEGIN:VEVENT
UID:20260426T000336Z-7453708886970735450@eventfrog.at
DTSTAMP:20260426T000336Z
DTSTART:20260430T170000Z
DTEND:20260430T190000Z
SUMMARY:Aromapflege für deine Gesundheit & dein Wohlbefinden
DESCRIPTION:Entdecke an einem kostenlosen Abend, wie ätherische Öle / Düfte dein Wohlbefinden auf natürliche Weise verbessern und wie sie dich in deinem Alltag unterstützen können.\n\nhttps://eventfrog.at/de/p/kurse-seminare/sonstige-kurse-seminare/aromapflege-fuer-deine-gesundheit-dein-wohlbefinden-7453708886970735450.html
LOCATION:Praxis Smultronställe Massage &  Energiearbeit
GEO:47.074087;8.277289
URL:https://eventfrog.at/de/p/kurse-seminare/sonstige-kurse-seminare/aromapflege-fuer-deine-gesundheit-dein-wohlbefinden-7453708886970735450.html
END:VEVENT
BEGIN:VEVENT
UID:20260426T000336Z-7453709256597984663@eventfrog.at
DTSTAMP:20260426T000336Z
DTSTART:20260512T170000Z
DTEND:20260512T190000Z
SUMMARY:Aromapflege für deine Gesundheit & dein Wohlbefinden
DESCRIPTION:Entdecke an einem kostenlosen Abend, wie ätherische Öle / Düfte dein Wohlbefinden auf natürliche Weise verbessern und wie sie dich in deinem Alltag unterstützen können.\n\nhttps://eventfrog.at/de/p/kurse-seminare/sonstige-kurse-seminare/aromapflege-fuer-deine-gesundheit-dein-wohlbefinden-7453709256597984663.html
LOCATION:Praxis Smultronställe Massage &  Energiearbeit
GEO:47.074087;8.277289
URL:https://eventfrog.at/de/p/kurse-seminare/sonstige-kurse-seminare/aromapflege-fuer-deine-gesundheit-dein-wohlbefinden-7453709256597984663.html
END:VEVENT
END:VCALENDAR