BEGIN:VCALENDAR
VERSION:2.0
PRODID:EVENTFROG//EVENTGROUP//ICAL
BEGIN:VEVENT
UID:20260425T024127Z-7453450100091702070@eventfrog.at
DTSTAMP:20260425T024127Z
DTSTART:20260427T041500Z
DTEND:20260427T051500Z
SUMMARY:Stark in die Woche - Power Yoga Montagmorgen
DESCRIPTION:Power Yoga am Montagmorgen für alle, die ihre Woche bewusst stark beginnen wollen. Energie, Fokus und ein kraftvoller Start in den Tag.\n\nhttps://eventfrog.at/en/p/sport-fitness/yoga/stark-in-die-woche-power-yoga-montagmorgen-7453450100091702070.html
LOCATION:Yoga2be
GEO:47.391101;8.536788
URL:https://eventfrog.at/en/p/sport-fitness/yoga/stark-in-die-woche-power-yoga-montagmorgen-7453450100091702070.html
END:VEVENT
BEGIN:VEVENT
UID:20260425T024127Z-7453450485770494779@eventfrog.at
DTSTAMP:20260425T024127Z
DTSTART:20260504T041500Z
DTEND:20260504T051500Z
SUMMARY:Stark in die Woche - Power Yoga Montagmorgen
DESCRIPTION:Power Yoga am Montagmorgen für alle, die ihre Woche bewusst stark beginnen wollen. Energie, Fokus und ein kraftvoller Start in den Tag.\n\nhttps://eventfrog.at/en/p/sport-fitness/yoga/stark-in-die-woche-power-yoga-montagmorgen-7453450485770494779.html
LOCATION:Yoga2be
GEO:47.391101;8.536788
URL:https://eventfrog.at/en/p/sport-fitness/yoga/stark-in-die-woche-power-yoga-montagmorgen-7453450485770494779.html
END:VEVENT
BEGIN:VEVENT
UID:20260425T024127Z-7453450485988599215@eventfrog.at
DTSTAMP:20260425T024127Z
DTSTART:20260511T041500Z
DTEND:20260511T051500Z
SUMMARY:Stark in die Woche - Power Yoga Montagmorgen
DESCRIPTION:Power Yoga am Montagmorgen für alle, die ihre Woche bewusst stark beginnen wollen. Energie, Fokus und ein kraftvoller Start in den Tag.\n\nhttps://eventfrog.at/en/p/sport-fitness/yoga/stark-in-die-woche-power-yoga-montagmorgen-7453450485988599215.html
LOCATION:Yoga2be
GEO:47.391101;8.536788
URL:https://eventfrog.at/en/p/sport-fitness/yoga/stark-in-die-woche-power-yoga-montagmorgen-7453450485988599215.html
END:VEVENT
BEGIN:VEVENT
UID:20260425T024127Z-7453450486118622653@eventfrog.at
DTSTAMP:20260425T024127Z
DTSTART:20260518T041500Z
DTEND:20260518T051500Z
SUMMARY:Stark in die Woche - Power Yoga Montagmorgen
DESCRIPTION:Power Yoga am Montagmorgen für alle, die ihre Woche bewusst stark beginnen wollen. Energie, Fokus und ein kraftvoller Start in den Tag.\n\nhttps://eventfrog.at/en/p/sport-fitness/yoga/stark-in-die-woche-power-yoga-montagmorgen-7453450486118622653.html
LOCATION:Yoga2be
GEO:47.391101;8.536788
URL:https://eventfrog.at/en/p/sport-fitness/yoga/stark-in-die-woche-power-yoga-montagmorgen-7453450486118622653.html
END:VEVENT
BEGIN:VEVENT
UID:20260425T024127Z-7453450486273811975@eventfrog.at
DTSTAMP:20260425T024127Z
DTSTART:20260525T041500Z
DTEND:20260525T051500Z
SUMMARY:Stark in die Woche - Power Yoga Montagmorgen
DESCRIPTION:Power Yoga am Montagmorgen für alle, die ihre Woche bewusst stark beginnen wollen. Energie, Fokus und ein kraftvoller Start in den Tag.\n\nhttps://eventfrog.at/en/p/sport-fitness/yoga/stark-in-die-woche-power-yoga-montagmorgen-7453450486273811975.html
LOCATION:Yoga2be
GEO:47.391101;8.536788
URL:https://eventfrog.at/en/p/sport-fitness/yoga/stark-in-die-woche-power-yoga-montagmorgen-7453450486273811975.html
END:VEVENT
BEGIN:VEVENT
UID:20260425T024127Z-7453450486454167059@eventfrog.at
DTSTAMP:20260425T024127Z
DTSTART:20260601T041500Z
DTEND:20260601T051500Z
SUMMARY:Stark in die Woche - Power Yoga Montagmorgen
DESCRIPTION:Power Yoga am Montagmorgen für alle, die ihre Woche bewusst stark beginnen wollen. Energie, Fokus und ein kraftvoller Start in den Tag.\n\nhttps://eventfrog.at/en/p/sport-fitness/yoga/stark-in-die-woche-power-yoga-montagmorgen-7453450486454167059.html
LOCATION:Yoga2be
GEO:47.391101;8.536788
URL:https://eventfrog.at/en/p/sport-fitness/yoga/stark-in-die-woche-power-yoga-montagmorgen-7453450486454167059.html
END:VEVENT
BEGIN:VEVENT
UID:20260425T024127Z-7453450486592579093@eventfrog.at
DTSTAMP:20260425T024127Z
DTSTART:20260608T041500Z
DTEND:20260608T051500Z
SUMMARY:Stark in die Woche - Power Yoga Montagmorgen
DESCRIPTION:Power Yoga am Montagmorgen für alle, die ihre Woche bewusst stark beginnen wollen. Energie, Fokus und ein kraftvoller Start in den Tag.\n\nhttps://eventfrog.at/en/p/sport-fitness/yoga/stark-in-die-woche-power-yoga-montagmorgen-7453450486592579093.html
LOCATION:Yoga2be
GEO:47.391101;8.536788
URL:https://eventfrog.at/en/p/sport-fitness/yoga/stark-in-die-woche-power-yoga-montagmorgen-7453450486592579093.html
END:VEVENT
BEGIN:VEVENT
UID:20260425T024127Z-7453450486726796823@eventfrog.at
DTSTAMP:20260425T024127Z
DTSTART:20260615T041500Z
DTEND:20260615T051500Z
SUMMARY:Stark in die Woche - Power Yoga Montagmorgen
DESCRIPTION:Power Yoga am Montagmorgen für alle, die ihre Woche bewusst stark beginnen wollen. Energie, Fokus und ein kraftvoller Start in den Tag.\n\nhttps://eventfrog.at/en/p/sport-fitness/yoga/stark-in-die-woche-power-yoga-montagmorgen-7453450486726796823.html
LOCATION:Yoga2be
GEO:47.391101;8.536788
URL:https://eventfrog.at/en/p/sport-fitness/yoga/stark-in-die-woche-power-yoga-montagmorgen-7453450486726796823.html
END:VEVENT
BEGIN:VEVENT
UID:20260425T024127Z-7453450486890374762@eventfrog.at
DTSTAMP:20260425T024127Z
DTSTART:20260622T041500Z
DTEND:20260622T051500Z
SUMMARY:Stark in die Woche - Power Yoga Montagmorgen
DESCRIPTION:Power Yoga am Montagmorgen für alle, die ihre Woche bewusst stark beginnen wollen. Energie, Fokus und ein kraftvoller Start in den Tag.\n\nhttps://eventfrog.at/en/p/sport-fitness/yoga/stark-in-die-woche-power-yoga-montagmorgen-7453450486890374762.html
LOCATION:Yoga2be
GEO:47.391101;8.536788
URL:https://eventfrog.at/en/p/sport-fitness/yoga/stark-in-die-woche-power-yoga-montagmorgen-7453450486890374762.html
END:VEVENT
BEGIN:VEVENT
UID:20260425T024127Z-7453450487020398201@eventfrog.at
DTSTAMP:20260425T024127Z
DTSTART:20260629T041500Z
DTEND:20260629T051500Z
SUMMARY:Stark in die Woche - Power Yoga Montagmorgen
DESCRIPTION:Power Yoga am Montagmorgen für alle, die ihre Woche bewusst stark beginnen wollen. Energie, Fokus und ein kraftvoller Start in den Tag.\n\nhttps://eventfrog.at/en/p/sport-fitness/yoga/stark-in-die-woche-power-yoga-montagmorgen-7453450487020398201.html
LOCATION:Yoga2be
GEO:47.391101;8.536788
URL:https://eventfrog.at/en/p/sport-fitness/yoga/stark-in-die-woche-power-yoga-montagmorgen-7453450487020398201.html
END:VEVENT
BEGIN:VEVENT
UID:20260425T024127Z-7453450487494354578@eventfrog.at
DTSTAMP:20260425T024127Z
DTSTART:20260720T041500Z
DTEND:20260720T051500Z
SUMMARY:Stark in die Woche - Power Yoga Montagmorgen
DESCRIPTION:Power Yoga am Montagmorgen für alle, die ihre Woche bewusst stark beginnen wollen. Energie, Fokus und ein kraftvoller Start in den Tag.\n\nhttps://eventfrog.at/en/p/sport-fitness/yoga/stark-in-die-woche-power-yoga-montagmorgen-7453450487494354578.html
LOCATION:Yoga2be
GEO:47.391101;8.536788
URL:https://eventfrog.at/en/p/sport-fitness/yoga/stark-in-die-woche-power-yoga-montagmorgen-7453450487494354578.html
END:VEVENT
END:VCALENDAR