BEGIN:VCALENDAR
VERSION:2.0
PRODID:EVENTFROG//EVENTGROUP//ICAL
BEGIN:VEVENT
UID:20260426T003438Z-7453422845709830478@eventfrog.at
DTSTAMP:20260426T003438Z
DTSTART:20260510T120000Z
DTEND:20260510T150000Z
SUMMARY:Zwei Ausstellungen in der Villa Wild
DESCRIPTION:Christiane Hinrichs und Ueli Strebel verwandeln die Villa Wild mit ihren Licht- und Foto-Installationen in einen spannenden Ausstellungsort. \n\nhttps://eventfrog.at/de/p/kunst-ausstellungen/ausstellung/zwei-ausstellungen-in-der-villa-wild-7453422845709830478.html
LOCATION:Kunsthaus Villa Wild
GEO:47.276268;8.339623
URL:https://eventfrog.at/de/p/kunst-ausstellungen/ausstellung/zwei-ausstellungen-in-der-villa-wild-7453422845709830478.html
END:VEVENT
BEGIN:VEVENT
UID:20260426T003438Z-7453422901196283617@eventfrog.at
DTSTAMP:20260426T003438Z
DTSTART:20260515T120000Z
DTEND:20260515T150000Z
SUMMARY:Zwei Ausstellungen in der Villa Wild
DESCRIPTION:Christiane Hinrichs und Ueli Strebel verwandeln die Villa Wild mit ihren Licht- und Foto-Installationen in einen spannenden Ausstellungsort. Musik: Felix Brühwiler; Einführung: Michaela Allemann\n\nhttps://eventfrog.at/de/p/kunst-ausstellungen/ausstellung/zwei-ausstellungen-in-der-villa-wild-7453422901196283617.html
LOCATION:Kunsthaus Villa Wild
GEO:47.276268;8.339623
URL:https://eventfrog.at/de/p/kunst-ausstellungen/ausstellung/zwei-ausstellungen-in-der-villa-wild-7453422901196283617.html
END:VEVENT
BEGIN:VEVENT
UID:20260426T003438Z-7453422902030950836@eventfrog.at
DTSTAMP:20260426T003438Z
DTSTART:20260515T120000Z
DTEND:20260515T150000Z
SUMMARY:Zwei Ausstellungen in der Villa Wild
DESCRIPTION:Christiane Hinrichs und Ueli Strebel verwandeln die Villa Wild mit ihren Licht- und Foto-Installationen in einen spannenden Ausstellungsort. Musik: Felix Brühwiler; Einführung: Michaela Allemann\n\nhttps://eventfrog.at/de/p/kunst-ausstellungen/ausstellung/zwei-ausstellungen-in-der-villa-wild-7453422902030950836.html
LOCATION:Kunsthaus Villa Wild
GEO:47.276268;8.339623
URL:https://eventfrog.at/de/p/kunst-ausstellungen/ausstellung/zwei-ausstellungen-in-der-villa-wild-7453422902030950836.html
END:VEVENT
BEGIN:VEVENT
UID:20260426T003438Z-7453422901506662740@eventfrog.at
DTSTAMP:20260426T003438Z
DTSTART:20260516T120000Z
DTEND:20260516T150000Z
SUMMARY:Zwei Ausstellungen in der Villa Wild
DESCRIPTION:Christiane Hinrichs und Ueli Strebel verwandeln die Villa Wild mit ihren Licht- und Foto-Installationen in einen spannenden Ausstellungsort. Musik: Felix Brühwiler; Einführung: Michaela Allemann\n\nhttps://eventfrog.at/de/p/kunst-ausstellungen/ausstellung/zwei-ausstellungen-in-der-villa-wild-7453422901506662740.html
LOCATION:Kunsthaus Villa Wild
GEO:47.276268;8.339623
URL:https://eventfrog.at/de/p/kunst-ausstellungen/ausstellung/zwei-ausstellungen-in-der-villa-wild-7453422901506662740.html
END:VEVENT
BEGIN:VEVENT
UID:20260426T003438Z-7453422902177751478@eventfrog.at
DTSTAMP:20260426T003438Z
DTSTART:20260516T120000Z
DTEND:20260516T150000Z
SUMMARY:Zwei Ausstellungen in der Villa Wild
DESCRIPTION:Christiane Hinrichs und Ueli Strebel verwandeln die Villa Wild mit ihren Licht- und Foto-Installationen in einen spannenden Ausstellungsort. Musik: Felix Brühwiler; Einführung: Michaela Allemann\n\nhttps://eventfrog.at/de/p/kunst-ausstellungen/ausstellung/zwei-ausstellungen-in-der-villa-wild-7453422902177751478.html
LOCATION:Kunsthaus Villa Wild
GEO:47.276268;8.339623
URL:https://eventfrog.at/de/p/kunst-ausstellungen/ausstellung/zwei-ausstellungen-in-der-villa-wild-7453422902177751478.html
END:VEVENT
BEGIN:VEVENT
UID:20260426T003438Z-7453422901687017883@eventfrog.at
DTSTAMP:20260426T003438Z
DTSTART:20260517T120000Z
DTEND:20260517T140000Z
SUMMARY:Zwei Ausstellungen in der Villa Wild
DESCRIPTION:Christiane Hinrichs und Ueli Strebel verwandeln die Villa Wild mit ihren Licht- und Foto-Installationen in einen spannenden Ausstellungsort. Musik: Felix Brühwiler; Einführung: Michaela Allemann\n\nhttps://eventfrog.at/de/p/kunst-ausstellungen/ausstellung/zwei-ausstellungen-in-der-villa-wild-7453422901687017883.html
LOCATION:Kunsthaus Villa Wild
GEO:47.276268;8.339623
URL:https://eventfrog.at/de/p/kunst-ausstellungen/ausstellung/zwei-ausstellungen-in-der-villa-wild-7453422901687017883.html
END:VEVENT
BEGIN:VEVENT
UID:20260426T003438Z-7453422902316163593@eventfrog.at
DTSTAMP:20260426T003438Z
DTSTART:20260517T120000Z
DTEND:20260517T150000Z
SUMMARY:Zwei Ausstellungen in der Villa Wild
DESCRIPTION:Christiane Hinrichs und Ueli Strebel verwandeln die Villa Wild mit ihren Licht- und Foto-Installationen in einen spannenden Ausstellungsort. Musik: Felix Brühwiler; Einführung: Michaela Allemann\n\nhttps://eventfrog.at/de/p/kunst-ausstellungen/ausstellung/zwei-ausstellungen-in-der-villa-wild-7453422902316163593.html
LOCATION:Kunsthaus Villa Wild
GEO:47.276268;8.339623
URL:https://eventfrog.at/de/p/kunst-ausstellungen/ausstellung/zwei-ausstellungen-in-der-villa-wild-7453422902316163593.html
END:VEVENT
BEGIN:VEVENT
UID:20260426T003438Z-7453422902454575629@eventfrog.at
DTSTAMP:20260426T003438Z
DTSTART:20260522T120000Z
DTEND:20260522T150000Z
SUMMARY:Zwei Ausstellungen in der Villa Wild
DESCRIPTION:Christiane Hinrichs und Ueli Strebel verwandeln die Villa Wild mit ihren Licht- und Foto-Installationen in einen spannenden Ausstellungsort. Musik: Felix Brühwiler; Einführung: Michaela Allemann\n\nhttps://eventfrog.at/de/p/kunst-ausstellungen/ausstellung/zwei-ausstellungen-in-der-villa-wild-7453422902454575629.html
LOCATION:Kunsthaus Villa Wild
GEO:47.276268;8.339623
URL:https://eventfrog.at/de/p/kunst-ausstellungen/ausstellung/zwei-ausstellungen-in-der-villa-wild-7453422902454575629.html
END:VEVENT
BEGIN:VEVENT
UID:20260426T003438Z-7453422902592987663@eventfrog.at
DTSTAMP:20260426T003438Z
DTSTART:20260523T120000Z
DTEND:20260523T150000Z
SUMMARY:Zwei Ausstellungen in der Villa Wild
DESCRIPTION:Christiane Hinrichs und Ueli Strebel verwandeln die Villa Wild mit ihren Licht- und Foto-Installationen in einen spannenden Ausstellungsort. Musik: Felix Brühwiler; Einführung: Michaela Allemann\n\nhttps://eventfrog.at/de/p/kunst-ausstellungen/ausstellung/zwei-ausstellungen-in-der-villa-wild-7453422902592987663.html
LOCATION:Kunsthaus Villa Wild
GEO:47.276268;8.339623
URL:https://eventfrog.at/de/p/kunst-ausstellungen/ausstellung/zwei-ausstellungen-in-der-villa-wild-7453422902592987663.html
END:VEVENT
BEGIN:VEVENT
UID:20260426T003438Z-7453422902727205394@eventfrog.at
DTSTAMP:20260426T003438Z
DTSTART:20260524T120000Z
DTEND:20260524T150000Z
SUMMARY:Zwei Ausstellungen in der Villa Wild
DESCRIPTION:Christiane Hinrichs und Ueli Strebel verwandeln die Villa Wild mit ihren Licht- und Foto-Installationen in einen spannenden Ausstellungsort. Musik: Felix Brühwiler; Einführung: Michaela Allemann\n\nhttps://eventfrog.at/de/p/kunst-ausstellungen/ausstellung/zwei-ausstellungen-in-der-villa-wild-7453422902727205394.html
LOCATION:Kunsthaus Villa Wild
GEO:47.276268;8.339623
URL:https://eventfrog.at/de/p/kunst-ausstellungen/ausstellung/zwei-ausstellungen-in-der-villa-wild-7453422902727205394.html
END:VEVENT
BEGIN:VEVENT
UID:20260426T003438Z-7453422902865617428@eventfrog.at
DTSTAMP:20260426T003438Z
DTSTART:20260529T120000Z
DTEND:20260529T150000Z
SUMMARY:Zwei Ausstellungen in der Villa Wild
DESCRIPTION:Christiane Hinrichs und Ueli Strebel verwandeln die Villa Wild mit ihren Licht- und Foto-Installationen in einen spannenden Ausstellungsort. Musik: Felix Brühwiler; Einführung: Michaela Allemann\n\nhttps://eventfrog.at/de/p/kunst-ausstellungen/ausstellung/zwei-ausstellungen-in-der-villa-wild-7453422902865617428.html
LOCATION:Kunsthaus Villa Wild
GEO:47.276268;8.339623
URL:https://eventfrog.at/de/p/kunst-ausstellungen/ausstellung/zwei-ausstellungen-in-der-villa-wild-7453422902865617428.html
END:VEVENT
BEGIN:VEVENT
UID:20260426T003438Z-7453422903041778201@eventfrog.at
DTSTAMP:20260426T003438Z
DTSTART:20260530T120000Z
DTEND:20260530T150000Z
SUMMARY:Zwei Ausstellungen in der Villa Wild
DESCRIPTION:Christiane Hinrichs und Ueli Strebel verwandeln die Villa Wild mit ihren Licht- und Foto-Installationen in einen spannenden Ausstellungsort. Musik: Felix Brühwiler; Einführung: Michaela Allemann\n\nhttps://eventfrog.at/de/p/kunst-ausstellungen/ausstellung/zwei-ausstellungen-in-der-villa-wild-7453422903041778201.html
LOCATION:Kunsthaus Villa Wild
GEO:47.276268;8.339623
URL:https://eventfrog.at/de/p/kunst-ausstellungen/ausstellung/zwei-ausstellungen-in-der-villa-wild-7453422903041778201.html
END:VEVENT
BEGIN:VEVENT
UID:20260426T003438Z-7453422903175995931@eventfrog.at
DTSTAMP:20260426T003438Z
DTSTART:20260531T120000Z
DTEND:20260531T150000Z
SUMMARY:Zwei Ausstellungen in der Villa Wild
DESCRIPTION:Christiane Hinrichs und Ueli Strebel verwandeln die Villa Wild mit ihren Licht- und Foto-Installationen in einen spannenden Ausstellungsort. Musik: Felix Brühwiler; Einführung: Michaela Allemann\n\nhttps://eventfrog.at/de/p/kunst-ausstellungen/ausstellung/zwei-ausstellungen-in-der-villa-wild-7453422903175995931.html
LOCATION:Kunsthaus Villa Wild
GEO:47.276268;8.339623
URL:https://eventfrog.at/de/p/kunst-ausstellungen/ausstellung/zwei-ausstellungen-in-der-villa-wild-7453422903175995931.html
END:VEVENT
BEGIN:VEVENT
UID:20260426T003438Z-7453422903331185193@eventfrog.at
DTSTAMP:20260426T003438Z
DTSTART:20260605T120000Z
DTEND:20260605T150000Z
SUMMARY:Zwei Ausstellungen in der Villa Wild
DESCRIPTION:Christiane Hinrichs und Ueli Strebel verwandeln die Villa Wild mit ihren Licht- und Foto-Installationen in einen spannenden Ausstellungsort. Musik: Felix Brühwiler; Einführung: Michaela Allemann\n\nhttps://eventfrog.at/de/p/kunst-ausstellungen/ausstellung/zwei-ausstellungen-in-der-villa-wild-7453422903331185193.html
LOCATION:Kunsthaus Villa Wild
GEO:47.276268;8.339623
URL:https://eventfrog.at/de/p/kunst-ausstellungen/ausstellung/zwei-ausstellungen-in-der-villa-wild-7453422903331185193.html
END:VEVENT
BEGIN:VEVENT
UID:20260426T003438Z-7453422903473791531@eventfrog.at
DTSTAMP:20260426T003438Z
DTSTART:20260606T120000Z
DTEND:20260606T150000Z
SUMMARY:Zwei Ausstellungen in der Villa Wild
DESCRIPTION:Christiane Hinrichs und Ueli Strebel verwandeln die Villa Wild mit ihren Licht- und Foto-Installationen in einen spannenden Ausstellungsort. Musik: Felix Brühwiler; Einführung: Michaela Allemann\n\nhttps://eventfrog.at/de/p/kunst-ausstellungen/ausstellung/zwei-ausstellungen-in-der-villa-wild-7453422903473791531.html
LOCATION:Kunsthaus Villa Wild
GEO:47.276268;8.339623
URL:https://eventfrog.at/de/p/kunst-ausstellungen/ausstellung/zwei-ausstellungen-in-der-villa-wild-7453422903473791531.html
END:VEVENT
END:VCALENDAR