BEGIN:VCALENDAR
VERSION:2.0
PRODID:EVENTFROG//EVENTGROUP//ICAL
BEGIN:VEVENT
UID:20260424T202835Z-7453401032942474111@eventfrog.at
DTSTAMP:20260424T202835Z
DTSTART:20260605T170000Z
DTEND:20260605T190000Z
SUMMARY:Come from away
DESCRIPTION:Ein Musical über Menschlichkeit im Ausnahmezustand und die wahren Begegnungen, die daraus entstanden. Einakter ohne Pause, mit Liveband.\n\nhttps://eventfrog.at/de/p/musicals-shows/musical/come-from-away-7453401032942474111.html
LOCATION:Centre Francais de Berlin
GEO:52.558430;13.339050
URL:https://eventfrog.at/de/p/musicals-shows/musical/come-from-away-7453401032942474111.html
END:VEVENT
BEGIN:VEVENT
UID:20260424T202835Z-7453402124686205235@eventfrog.at
DTSTAMP:20260424T202835Z
DTSTART:20260606T120000Z
DTEND:20260606T160000Z
SUMMARY:Come from away
DESCRIPTION:Ein Musical über Menschlichkeit im Ausnahmezustand und die wahren Begegnungen, die daraus entstanden. Einakter ohne Pause, mit Liveband.\n\nhttps://eventfrog.at/de/p/musicals-shows/musical/come-from-away-7453402124686205235.html
LOCATION:Centre Francais de Berlin
GEO:52.558430;13.339050
URL:https://eventfrog.at/de/p/musicals-shows/musical/come-from-away-7453402124686205235.html
END:VEVENT
BEGIN:VEVENT
UID:20260424T202835Z-7453402125080470343@eventfrog.at
DTSTAMP:20260424T202835Z
DTSTART:20260606T170000Z
DTEND:20260606T190000Z
SUMMARY:Come from away
DESCRIPTION:Ein Musical über Menschlichkeit im Ausnahmezustand und die wahren Begegnungen, die daraus entstanden. Einakter ohne Pause, mit Liveband.\n\nhttps://eventfrog.at/de/p/musicals-shows/musical/come-from-away-7453402125080470343.html
LOCATION:Centre Francais de Berlin
GEO:52.558430;13.339050
URL:https://eventfrog.at/de/p/musicals-shows/musical/come-from-away-7453402125080470343.html
END:VEVENT
BEGIN:VEVENT
UID:20260424T202835Z-7453402125214688173@eventfrog.at
DTSTAMP:20260424T202835Z
DTSTART:20260607T160000Z
DTEND:20260607T180000Z
SUMMARY:Come from away
DESCRIPTION:Ein Musical über Menschlichkeit im Ausnahmezustand und die wahren Begegnungen, die daraus entstanden. Einakter ohne Pause, mit Liveband.\n\nhttps://eventfrog.at/de/p/musicals-shows/musical/come-from-away-7453402125214688173.html
LOCATION:Centre Francais de Berlin
GEO:52.558430;13.339050
URL:https://eventfrog.at/de/p/musicals-shows/musical/come-from-away-7453402125214688173.html
END:VEVENT
BEGIN:VEVENT
UID:20260424T202835Z-7453402125340517319@eventfrog.at
DTSTAMP:20260424T202835Z
DTSTART:20260612T170000Z
DTEND:20260612T190000Z
SUMMARY:Come from away
DESCRIPTION:Ein Musical über Menschlichkeit im Ausnahmezustand und die wahren Begegnungen, die daraus entstanden. Einakter ohne Pause, mit Liveband.\n\nhttps://eventfrog.at/de/p/musicals-shows/musical/come-from-away-7453402125340517319.html
LOCATION:Centre Francais de Berlin
GEO:52.558430;13.339050
URL:https://eventfrog.at/de/p/musicals-shows/musical/come-from-away-7453402125340517319.html
END:VEVENT
BEGIN:VEVENT
UID:20260424T202835Z-7453402125474735101@eventfrog.at
DTSTAMP:20260424T202835Z
DTSTART:20260613T120000Z
DTEND:20260613T140000Z
SUMMARY:Come from away
DESCRIPTION:Ein Musical über Menschlichkeit im Ausnahmezustand und die wahren Begegnungen, die daraus entstanden. Einakter ohne Pause, mit Liveband.\n\nhttps://eventfrog.at/de/p/musicals-shows/musical/come-from-away-7453402125474735101.html
LOCATION:Centre Francais de Berlin
GEO:52.558430;13.339050
URL:https://eventfrog.at/de/p/musicals-shows/musical/come-from-away-7453402125474735101.html
END:VEVENT
BEGIN:VEVENT
UID:20260424T202835Z-7453402125608952844@eventfrog.at
DTSTAMP:20260424T202835Z
DTSTART:20260613T170000Z
DTEND:20260613T190000Z
SUMMARY:Come from away
DESCRIPTION:Ein Musical über Menschlichkeit im Ausnahmezustand und die wahren Begegnungen, die daraus entstanden. Einakter ohne Pause, mit Liveband.\n\nhttps://eventfrog.at/de/p/musicals-shows/musical/come-from-away-7453402125608952844.html
LOCATION:Centre Francais de Berlin
GEO:52.558430;13.339050
URL:https://eventfrog.at/de/p/musicals-shows/musical/come-from-away-7453402125608952844.html
END:VEVENT
BEGIN:VEVENT
UID:20260424T202835Z-7453402125776725006@eventfrog.at
DTSTAMP:20260424T202835Z
DTSTART:20260614T160000Z
DTEND:20260614T180000Z
SUMMARY:Come from away
DESCRIPTION:Ein Musical über Menschlichkeit im Ausnahmezustand und die wahren Begegnungen, die daraus entstanden. Einakter ohne Pause, mit Liveband.\n\nhttps://eventfrog.at/de/p/musicals-shows/musical/come-from-away-7453402125776725006.html
LOCATION:Centre Francais de Berlin
GEO:52.558430;13.339050
URL:https://eventfrog.at/de/p/musicals-shows/musical/come-from-away-7453402125776725006.html
END:VEVENT
END:VCALENDAR