BEGIN:VCALENDAR
VERSION:2.0
PRODID:EVENTFROG//EVENTGROUP//ICAL
BEGIN:VEVENT
UID:20260424T140705Z-7453375111766274992@eventfrog.at
DTSTAMP:20260424T140705Z
DTSTART:20260611T120000Z
DTEND:20260611T180000Z
SUMMARY:Summer-Kunschti
DESCRIPTION:Entdecke eine bunte Welt aus Sport, Spiel und Spass auf der Kunsteisbahn Margarethen. Heute mit Grill - Grill vorhanden, Essen & Trinken selber mitbringen.\n\nhttps://eventfrog.at/de/p/kinderveranstaltungen/familienveranstaltungen/summer-kunschti-7453375111766274992.html
LOCATION:Kunsteisbahn Margarethen
GEO:47.540713;7.586089
URL:https://eventfrog.at/de/p/kinderveranstaltungen/familienveranstaltungen/summer-kunschti-7453375111766274992.html
END:VEVENT
BEGIN:VEVENT
UID:20260424T140705Z-7453375192829526964@eventfrog.at
DTSTAMP:20260424T140705Z
DTSTART:20260611T120000Z
DTEND:20260611T180000Z
SUMMARY:Summer-Kunschti
DESCRIPTION:Entdecke eine bunte Welt aus Sport, Spiel und Spass auf der Kunsteisbahn Margarethen. Heute mit Grill - Grill vorhanden, Essen & Trinken selber mitbringen.\n\nhttps://eventfrog.at/de/p/kinderveranstaltungen/familienveranstaltungen/summer-kunschti-7453375192829526964.html
LOCATION:Kunsteisbahn Margarethen
GEO:47.540713;7.586089
URL:https://eventfrog.at/de/p/kinderveranstaltungen/familienveranstaltungen/summer-kunschti-7453375192829526964.html
END:VEVENT
BEGIN:VEVENT
UID:20260424T140705Z-7453375193051825702@eventfrog.at
DTSTAMP:20260424T140705Z
DTSTART:20260618T120000Z
DTEND:20260618T180000Z
SUMMARY:Summer-Kunschti
DESCRIPTION:Entdecke eine bunte Welt aus Sport, Spiel und Spass auf der Kunsteisbahn Margarethen. Heute mit Grill - Grill vorhanden, Essen & Trinken selber mitbringen.\n\nhttps://eventfrog.at/de/p/kinderveranstaltungen/familienveranstaltungen/summer-kunschti-7453375193051825702.html
LOCATION:Kunsteisbahn Margarethen
GEO:47.540713;7.586089
URL:https://eventfrog.at/de/p/kinderveranstaltungen/familienveranstaltungen/summer-kunschti-7453375193051825702.html
END:VEVENT
BEGIN:VEVENT
UID:20260424T140705Z-7453375193169266240@eventfrog.at
DTSTAMP:20260424T140705Z
DTSTART:20260625T120000Z
DTEND:20260625T180000Z
SUMMARY:Summer-Kunschti
DESCRIPTION:Entdecke eine bunte Welt aus Sport, Spiel und Spass auf der Kunsteisbahn Margarethen. Heute mit Grill - Grill vorhanden, Essen & Trinken selber mitbringen.\n\nhttps://eventfrog.at/de/p/kinderveranstaltungen/familienveranstaltungen/summer-kunschti-7453375193169266240.html
LOCATION:Kunsteisbahn Margarethen
GEO:47.540713;7.586089
URL:https://eventfrog.at/de/p/kinderveranstaltungen/familienveranstaltungen/summer-kunschti-7453375193169266240.html
END:VEVENT
BEGIN:VEVENT
UID:20260424T140705Z-7453375193295095421@eventfrog.at
DTSTAMP:20260424T140705Z
DTSTART:20260702T120000Z
DTEND:20260702T180000Z
SUMMARY:Summer-Kunschti
DESCRIPTION:Entdecke eine bunte Welt aus Sport, Spiel und Spass auf der Kunsteisbahn Margarethen. Heute mit Grill - Grill vorhanden, Essen & Trinken selber mitbringen.\n\nhttps://eventfrog.at/de/p/kinderveranstaltungen/familienveranstaltungen/summer-kunschti-7453375193295095421.html
LOCATION:Kunsteisbahn Margarethen
GEO:47.540713;7.586089
URL:https://eventfrog.at/de/p/kinderveranstaltungen/familienveranstaltungen/summer-kunschti-7453375193295095421.html
END:VEVENT
BEGIN:VEVENT
UID:20260424T140705Z-7453375193429313169@eventfrog.at
DTSTAMP:20260424T140705Z
DTSTART:20260709T120000Z
DTEND:20260709T180000Z
SUMMARY:Summer-Kunschti
DESCRIPTION:Entdecke eine bunte Welt aus Sport, Spiel und Spass auf der Kunsteisbahn Margarethen. Heute mit Grill - Grill vorhanden, Essen & Trinken selber mitbringen.\n\nhttps://eventfrog.at/de/p/kinderveranstaltungen/familienveranstaltungen/summer-kunschti-7453375193429313169.html
LOCATION:Kunsteisbahn Margarethen
GEO:47.540713;7.586089
URL:https://eventfrog.at/de/p/kinderveranstaltungen/familienveranstaltungen/summer-kunschti-7453375193429313169.html
END:VEVENT
BEGIN:VEVENT
UID:20260424T140705Z-7453375193555142291@eventfrog.at
DTSTAMP:20260424T140705Z
DTSTART:20260716T120000Z
DTEND:20260716T180000Z
SUMMARY:Summer-Kunschti
DESCRIPTION:Entdecke eine bunte Welt aus Sport, Spiel und Spass auf der Kunsteisbahn Margarethen. Heute mit Grill - Grill vorhanden, Essen & Trinken selber mitbringen.\n\nhttps://eventfrog.at/de/p/kinderveranstaltungen/familienveranstaltungen/summer-kunschti-7453375193555142291.html
LOCATION:Kunsteisbahn Margarethen
GEO:47.540713;7.586089
URL:https://eventfrog.at/de/p/kinderveranstaltungen/familienveranstaltungen/summer-kunschti-7453375193555142291.html
END:VEVENT
BEGIN:VEVENT
UID:20260424T140705Z-7453375193718720149@eventfrog.at
DTSTAMP:20260424T140705Z
DTSTART:20260723T120000Z
DTEND:20260723T180000Z
SUMMARY:Summer-Kunschti
DESCRIPTION:Entdecke eine bunte Welt aus Sport, Spiel und Spass auf der Kunsteisbahn Margarethen. Heute mit Grill - Grill vorhanden, Essen & Trinken selber mitbringen.\n\nhttps://eventfrog.at/de/p/kinderveranstaltungen/familienveranstaltungen/summer-kunschti-7453375193718720149.html
LOCATION:Kunsteisbahn Margarethen
GEO:47.540713;7.586089
URL:https://eventfrog.at/de/p/kinderveranstaltungen/familienveranstaltungen/summer-kunschti-7453375193718720149.html
END:VEVENT
BEGIN:VEVENT
UID:20260424T140705Z-7453375193848743652@eventfrog.at
DTSTAMP:20260424T140705Z
DTSTART:20260730T120000Z
DTEND:20260730T180000Z
SUMMARY:Summer-Kunschti
DESCRIPTION:Entdecke eine bunte Welt aus Sport, Spiel und Spass auf der Kunsteisbahn Margarethen. Heute mit Grill - Grill vorhanden, Essen & Trinken selber mitbringen.\n\nhttps://eventfrog.at/de/p/kinderveranstaltungen/familienveranstaltungen/summer-kunschti-7453375193848743652.html
LOCATION:Kunsteisbahn Margarethen
GEO:47.540713;7.586089
URL:https://eventfrog.at/de/p/kinderveranstaltungen/familienveranstaltungen/summer-kunschti-7453375193848743652.html
END:VEVENT
BEGIN:VEVENT
UID:20260424T140705Z-7453375193974572780@eventfrog.at
DTSTAMP:20260424T140705Z
DTSTART:20260806T120000Z
DTEND:20260806T180000Z
SUMMARY:Summer-Kunschti
DESCRIPTION:Entdecke eine bunte Welt aus Sport, Spiel und Spass auf der Kunsteisbahn Margarethen. Heute mit Grill - Grill vorhanden, Essen & Trinken selber mitbringen.\n\nhttps://eventfrog.at/de/p/kinderveranstaltungen/familienveranstaltungen/summer-kunschti-7453375193974572780.html
LOCATION:Kunsteisbahn Margarethen
GEO:47.540713;7.586089
URL:https://eventfrog.at/de/p/kinderveranstaltungen/familienveranstaltungen/summer-kunschti-7453375193974572780.html
END:VEVENT
END:VCALENDAR