BEGIN:VCALENDAR
VERSION:2.0
PRODID:EVENTFROG//EVENTGROUP//ICAL
BEGIN:VEVENT
UID:20260426T021204Z-7453361295162639311@eventfrog.at
DTSTAMP:20260426T021204Z
DTSTART:20260430T150000Z
DTEND:20260430T210000Z
SUMMARY:11. Streetfooddays Bülach
DESCRIPTION:Vier Tage Streetfood mit Gerichten aus aller Welt und Live-Musik auf dem Lindenhof Bülach laden zum gemeinsamen Schlemmen ein.\n\nhttps://eventfrog.at/de/p/essen-trinken/11-streetfooddays-buelach-7453361295162639311.html
LOCATION:Lindenhof
GEO:47.520115;8.538807
URL:https://eventfrog.at/de/p/essen-trinken/11-streetfooddays-buelach-7453361295162639311.html
END:VEVENT
BEGIN:VEVENT
UID:20260426T021204Z-7453361333263701762@eventfrog.at
DTSTAMP:20260426T021204Z
DTSTART:20260501T100000Z
DTEND:20260501T210000Z
SUMMARY:11. Streetfooddays Bülach
DESCRIPTION:Vier Tage Streetfood mit Gerichten aus aller Welt und Live-Musik auf dem Lindenhof Bülach laden zum gemeinsamen Schlemmen ein.\n\nhttps://eventfrog.at/de/p/essen-trinken/11-streetfooddays-buelach-7453361333263701762.html
LOCATION:Lindenhof
GEO:47.520115;8.538807
URL:https://eventfrog.at/de/p/essen-trinken/11-streetfooddays-buelach-7453361333263701762.html
END:VEVENT
BEGIN:VEVENT
UID:20260426T021204Z-7453361333473416968@eventfrog.at
DTSTAMP:20260426T021204Z
DTSTART:20260502T100000Z
DTEND:20260502T210000Z
SUMMARY:11. Streetfooddays Bülach
DESCRIPTION:Vier Tage Streetfood mit Gerichten aus aller Welt und Live-Musik auf dem Lindenhof Bülach laden zum gemeinsamen Schlemmen ein.\n\nhttps://eventfrog.at/de/p/essen-trinken/11-streetfooddays-buelach-7453361333473416968.html
LOCATION:Lindenhof
GEO:47.520115;8.538807
URL:https://eventfrog.at/de/p/essen-trinken/11-streetfooddays-buelach-7453361333473416968.html
END:VEVENT
BEGIN:VEVENT
UID:20260426T021204Z-7453361333607635485@eventfrog.at
DTSTAMP:20260426T021204Z
DTSTART:20260503T100000Z
DTEND:20260503T180000Z
SUMMARY:11. Streetfooddays Bülach
DESCRIPTION:Vier Tage Streetfood mit Gerichten aus aller Welt und Live-Musik auf dem Lindenhof Bülach laden zum gemeinsamen Schlemmen ein.\n\nhttps://eventfrog.at/de/p/essen-trinken/11-streetfooddays-buelach-7453361333607635485.html
LOCATION:Lindenhof
GEO:47.520115;8.538807
URL:https://eventfrog.at/de/p/essen-trinken/11-streetfooddays-buelach-7453361333607635485.html
END:VEVENT
END:VCALENDAR