BEGIN:VCALENDAR
VERSION:2.0
PRODID:EVENTFROG//EVENTGROUP//ICAL
BEGIN:VEVENT
UID:20260424T050958Z-7453202062404286160@eventfrog.at
DTSTAMP:20260424T050958Z
DTSTART:20260424T220000Z
DTEND:20260619T215900Z
SUMMARY:30 Jahre Tüüfner Poscht - Ein Dorf schreibt Geschichte
DESCRIPTION:Ausstellung zum 30-Jahre-Jubiläum der «Tüüfner Poscht».\n\nhttps://eventfrog.at/de/p/wissenschaft-und-technik/30-jahre-tueuefner-poscht-ein-dorf-schreibt-geschichte-7453202062404286160.html
LOCATION:ehem. Schulhaus Dorf
GEO:47.390341;9.387145
URL:https://eventfrog.at/de/p/wissenschaft-und-technik/30-jahre-tueuefner-poscht-ein-dorf-schreibt-geschichte-7453202062404286160.html
END:VEVENT
BEGIN:VEVENT
UID:20260424T050958Z-7453202062928574177@eventfrog.at
DTSTAMP:20260424T050958Z
DTSTART:20260425T093000Z
DTEND:20260425T130000Z
SUMMARY:30 Jahre Tüüfner Poscht - Ein Dorf schreibt Geschichte
DESCRIPTION:Ausstellung zum 30-Jahre-Jubiläum der «Tüüfner Poscht».\n\nhttps://eventfrog.at/de/p/wissenschaft-und-technik/30-jahre-tueuefner-poscht-ein-dorf-schreibt-geschichte-7453202062928574177.html
LOCATION:ehem. Schulhaus Dorf
GEO:47.390341;9.387145
URL:https://eventfrog.at/de/p/wissenschaft-und-technik/30-jahre-tueuefner-poscht-ein-dorf-schreibt-geschichte-7453202062928574177.html
END:VEVENT
BEGIN:VEVENT
UID:20260424T050958Z-7453202062580446943@eventfrog.at
DTSTAMP:20260424T050958Z
DTSTART:20260427T140000Z
DTEND:20260427T180000Z
SUMMARY:30 Jahre Tüüfner Poscht - Ein Dorf schreibt Geschichte
DESCRIPTION:Ausstellung zum 30-Jahre-Jubiläum der «Tüüfner Poscht».\n\nhttps://eventfrog.at/de/p/wissenschaft-und-technik/30-jahre-tueuefner-poscht-ein-dorf-schreibt-geschichte-7453202062580446943.html
LOCATION:ehem. Schulhaus Dorf
GEO:47.390341;9.387145
URL:https://eventfrog.at/de/p/wissenschaft-und-technik/30-jahre-tueuefner-poscht-ein-dorf-schreibt-geschichte-7453202062580446943.html
END:VEVENT
BEGIN:VEVENT
UID:20260424T050958Z-7453202063100540642@eventfrog.at
DTSTAMP:20260424T050958Z
DTSTART:20260521T170000Z
SUMMARY:30 Jahre Tüüfner Poscht - Ein Dorf schreibt Geschichte
DESCRIPTION:Ausstellung zum 30-Jahre-Jubiläum der «Tüüfner Poscht».\n\nhttps://eventfrog.at/de/p/wissenschaft-und-technik/30-jahre-tueuefner-poscht-ein-dorf-schreibt-geschichte-7453202063100540642.html
LOCATION:ehem. Schulhaus Dorf
GEO:47.390341;9.387145
URL:https://eventfrog.at/de/p/wissenschaft-und-technik/30-jahre-tueuefner-poscht-ein-dorf-schreibt-geschichte-7453202063100540642.html
END:VEVENT
BEGIN:VEVENT
UID:20260424T050958Z-7453202063272507107@eventfrog.at
DTSTAMP:20260424T050958Z
DTSTART:20260530T070000Z
DTEND:20260530T090000Z
SUMMARY:30 Jahre Tüüfner Poscht - Ein Dorf schreibt Geschichte
DESCRIPTION:Ausstellung zum 30-Jahre-Jubiläum der «Tüüfner Poscht».\n\nhttps://eventfrog.at/de/p/wissenschaft-und-technik/30-jahre-tueuefner-poscht-ein-dorf-schreibt-geschichte-7453202063272507107.html
LOCATION:ehem. Schulhaus Dorf
GEO:47.390341;9.387145
URL:https://eventfrog.at/de/p/wissenschaft-und-technik/30-jahre-tueuefner-poscht-ein-dorf-schreibt-geschichte-7453202063272507107.html
END:VEVENT
BEGIN:VEVENT
UID:20260424T050958Z-7453202062756607712@eventfrog.at
DTSTAMP:20260424T050958Z
DTSTART:20260608T140000Z
DTEND:20260608T180000Z
SUMMARY:30 Jahre Tüüfner Poscht - Ein Dorf schreibt Geschichte
DESCRIPTION:Ausstellung zum 30-Jahre-Jubiläum der «Tüüfner Poscht».\n\nhttps://eventfrog.at/de/p/wissenschaft-und-technik/30-jahre-tueuefner-poscht-ein-dorf-schreibt-geschichte-7453202062756607712.html
LOCATION:ehem. Schulhaus Dorf
GEO:47.390341;9.387145
URL:https://eventfrog.at/de/p/wissenschaft-und-technik/30-jahre-tueuefner-poscht-ein-dorf-schreibt-geschichte-7453202062756607712.html
END:VEVENT
END:VCALENDAR