BEGIN:VCALENDAR
VERSION:2.0
PRODID:EVENTFROG//EVENTGROUP//ICAL
BEGIN:VEVENT
UID:20260424T063027Z-7453202034038203671@eventfrog.at
DTSTAMP:20260424T063027Z
DTSTART:20260506T160000Z
DTEND:20260506T180000Z
SUMMARY:Stadtführung
DESCRIPTION:Geführter Spaziergang durch die Geschichte der Stadt Gossau.\n\nhttps://eventfrog.at/de/p/wissenschaft-und-technik/stadtfuehrung-7453202034038203671.html
LOCATION:Gossau
GEO:47.417359;9.259289
URL:https://eventfrog.at/de/p/wissenschaft-und-technik/stadtfuehrung-7453202034038203671.html
END:VEVENT
BEGIN:VEVENT
UID:20260424T063027Z-7453202034214364440@eventfrog.at
DTSTAMP:20260424T063027Z
DTSTART:20260606T120000Z
DTEND:20260606T140000Z
SUMMARY:Stadtführung
DESCRIPTION:Geführter Spaziergang durch die Geschichte der Stadt Gossau.\n\nhttps://eventfrog.at/de/p/wissenschaft-und-technik/stadtfuehrung-7453202034214364440.html
LOCATION:Gossau
GEO:47.417359;9.259289
URL:https://eventfrog.at/de/p/wissenschaft-und-technik/stadtfuehrung-7453202034214364440.html
END:VEVENT
BEGIN:VEVENT
UID:20260424T063027Z-7453202034386330905@eventfrog.at
DTSTAMP:20260424T063027Z
DTSTART:20260701T160000Z
DTEND:20260701T180000Z
SUMMARY:Stadtführung
DESCRIPTION:Geführter Spaziergang durch die Geschichte der Stadt Gossau.\n\nhttps://eventfrog.at/de/p/wissenschaft-und-technik/stadtfuehrung-7453202034386330905.html
LOCATION:Gossau
GEO:47.417359;9.259289
URL:https://eventfrog.at/de/p/wissenschaft-und-technik/stadtfuehrung-7453202034386330905.html
END:VEVENT
BEGIN:VEVENT
UID:20260424T063027Z-7453202034558297370@eventfrog.at
DTSTAMP:20260424T063027Z
DTSTART:20260815T120000Z
DTEND:20260815T140000Z
SUMMARY:Stadtführung
DESCRIPTION:Geführter Spaziergang durch die Geschichte der Stadt Gossau.\n\nhttps://eventfrog.at/de/p/wissenschaft-und-technik/stadtfuehrung-7453202034558297370.html
LOCATION:Gossau
GEO:47.417359;9.259289
URL:https://eventfrog.at/de/p/wissenschaft-und-technik/stadtfuehrung-7453202034558297370.html
END:VEVENT
BEGIN:VEVENT
UID:20260424T063027Z-7453202034730263835@eventfrog.at
DTSTAMP:20260424T063027Z
DTSTART:20260905T120000Z
DTEND:20260905T140000Z
SUMMARY:Stadtführung
DESCRIPTION:Geführter Spaziergang durch die Geschichte der Stadt Gossau.\n\nhttps://eventfrog.at/de/p/wissenschaft-und-technik/stadtfuehrung-7453202034730263835.html
LOCATION:Gossau
GEO:47.417359;9.259289
URL:https://eventfrog.at/de/p/wissenschaft-und-technik/stadtfuehrung-7453202034730263835.html
END:VEVENT
BEGIN:VEVENT
UID:20260424T063027Z-7453202034906424604@eventfrog.at
DTSTAMP:20260424T063027Z
DTSTART:20261024T120000Z
DTEND:20261024T140000Z
SUMMARY:Stadtführung
DESCRIPTION:Geführter Spaziergang durch die Geschichte der Stadt Gossau.\n\nhttps://eventfrog.at/de/p/wissenschaft-und-technik/stadtfuehrung-7453202034906424604.html
LOCATION:Gossau
GEO:47.417359;9.259289
URL:https://eventfrog.at/de/p/wissenschaft-und-technik/stadtfuehrung-7453202034906424604.html
END:VEVENT
BEGIN:VEVENT
UID:20260424T063027Z-7453202035078391069@eventfrog.at
DTSTAMP:20260424T063027Z
DTSTART:20261107T130000Z
DTEND:20261107T150000Z
SUMMARY:Stadtführung
DESCRIPTION:Geführter Spaziergang durch die Geschichte der Stadt Gossau.\n\nhttps://eventfrog.at/de/p/wissenschaft-und-technik/stadtfuehrung-7453202035078391069.html
LOCATION:Gossau
GEO:47.417359;9.259289
URL:https://eventfrog.at/de/p/wissenschaft-und-technik/stadtfuehrung-7453202035078391069.html
END:VEVENT
END:VCALENDAR