BEGIN:VCALENDAR
VERSION:2.0
PRODID:EVENTFROG//EVENTGROUP//ICAL
BEGIN:VEVENT
UID:20260424T045915Z-7453078528310939063@eventfrog.at
DTSTAMP:20260424T045915Z
DTSTART:20260424T150000Z
DTEND:20260424T190000Z
SUMMARY:Neueröffnung Malkuth – Brocante & Café im Grünen
DESCRIPTION: Brocante & Vintage, Secondhand\n  Natur & Freizeit\n️ ️ Café im Grünen\n  Live Musik & Apèro\n  Neueröffnung \nAuf dem Mayenfels, Pratteln, Baselland\n Fr: 17h - 21h / Sa & So: 10h - 18h \n\n\nhttps://eventfrog.at/de/p/essen-trinken/neueroeffnung-malkuth-brocante-cafe-im-gruenen-7453078528310939063.html
LOCATION:Malkuth - Brocante & Café
GEO:47.514135;7.681758
URL:https://eventfrog.at/de/p/essen-trinken/neueroeffnung-malkuth-brocante-cafe-im-gruenen-7453078528310939063.html
END:VEVENT
BEGIN:VEVENT
UID:20260424T045915Z-7453078874735297082@eventfrog.at
DTSTAMP:20260424T045915Z
DTSTART:20260425T080000Z
DTEND:20260425T160000Z
SUMMARY:Neueröffnung Malkuth – Brocante & Café im Grünen
DESCRIPTION: Brocante & Vintage, Secondhand\n Natur & Freizeit\n️ Café im Grünen\n Live Musik & Apèro\n Neueröffnung \nAuf dem Mayenfels, Pratteln\n\n\nhttps://eventfrog.at/de/p/essen-trinken/neueroeffnung-malkuth-brocante-cafe-im-gruenen-7453078874735297082.html
LOCATION:Malkuth - Brocante & Café
GEO:47.514135;7.681758
URL:https://eventfrog.at/de/p/essen-trinken/neueroeffnung-malkuth-brocante-cafe-im-gruenen-7453078874735297082.html
END:VEVENT
BEGIN:VEVENT
UID:20260424T045915Z-7453078874810794557@eventfrog.at
DTSTAMP:20260424T045915Z
DTSTART:20260426T080000Z
DTEND:20260426T160000Z
SUMMARY:Neueröffnung Malkuth – Brocante & Café im Grünen
DESCRIPTION: Brocante & Vintage, Secondhand\n Natur & Freizeit\n️ Café im Grünen\n Live Musik & Apèro\n Neueröffnung \nAuf dem Mayenfels, Pratteln\n\n\nhttps://eventfrog.at/de/p/essen-trinken/neueroeffnung-malkuth-brocante-cafe-im-gruenen-7453078874810794557.html
LOCATION:Malkuth - Brocante & Café
GEO:47.514135;7.681758
URL:https://eventfrog.at/de/p/essen-trinken/neueroeffnung-malkuth-brocante-cafe-im-gruenen-7453078874810794557.html
END:VEVENT
END:VCALENDAR