BEGIN:VCALENDAR
VERSION:2.0
PRODID:EVENTFROG//EVENTGROUP//ICAL
BEGIN:VEVENT
UID:20260425T231650Z-7452951133805406653@eventfrog.at
DTSTAMP:20260425T231650Z
DTSTART:20260501T083000Z
DTEND:20260501T163000Z
SUMMARY:be mAI friend
DESCRIPTION:Im Humboldt Forum erlebt man «AFFEKTATOR 3000», einen KI-Chatbot, der in interaktiven Gesprächen Nähe und Einsamkeit thematisiert.\n\nhttps://eventfrog.at/de/p/diverses/be-mai-friend-7452951133805406653.html
LOCATION:Humboldt Forum
GEO:52.517275;13.401640
URL:https://eventfrog.at/de/p/diverses/be-mai-friend-7452951133805406653.html
END:VEVENT
BEGIN:VEVENT
UID:20260425T231650Z-7452951227447440264@eventfrog.at
DTSTAMP:20260425T231650Z
DTSTART:20260502T083000Z
DTEND:20260502T163000Z
SUMMARY:be mAI friend
DESCRIPTION:Im Humboldt Forum erlebt man «AFFEKTATOR 3000», einen KI-Chatbot, der in interaktiven Gesprächen Nähe und Einsamkeit thematisiert.\n\nhttps://eventfrog.at/de/p/diverses/be-mai-friend-7452951227447440264.html
LOCATION:Humboldt Forum
GEO:52.517275;13.401640
URL:https://eventfrog.at/de/p/diverses/be-mai-friend-7452951227447440264.html
END:VEVENT
END:VCALENDAR