BEGIN:VCALENDAR
VERSION:2.0
PRODID:EVENTFROG//EVENTGROUP//ICAL
BEGIN:VEVENT
UID:20260423T085138Z-7452838634405758893@eventfrog.at
DTSTAMP:20260423T085138Z
DTSTART:20260425T170000Z
DTEND:20260425T182000Z
SUMMARY:Vier Chöre laden ein
DESCRIPTION:Gemeinsames Chorkonzert von 4 Vereinen.\n\nhttps://eventfrog.at/de/p/konzerte/vier-choere-laden-ein-7452838634405758893.html
LOCATION:Evang.-ref. Kirche Kreuzkirche
GEO:47.463140;9.047160
URL:https://eventfrog.at/de/p/konzerte/vier-choere-laden-ein-7452838634405758893.html
END:VEVENT
BEGIN:VEVENT
UID:20260423T085138Z-7452838636817483781@eventfrog.at
DTSTAMP:20260423T085138Z
DTSTART:20260426T150000Z
DTEND:20260426T162000Z
SUMMARY:Vier Chöre laden ein
DESCRIPTION:Gemeinsames Chorkonzert von 4 Vereinen.\n\nhttps://eventfrog.at/de/p/konzerte/vier-choere-laden-ein-7452838636817483781.html
LOCATION:Evang.-ref. Kirche Kreuzkirche
GEO:47.463140;9.047160
URL:https://eventfrog.at/de/p/konzerte/vier-choere-laden-ein-7452838636817483781.html
END:VEVENT
END:VCALENDAR