BEGIN:VCALENDAR
VERSION:2.0
PRODID:EVENTFROG//EVENTGROUP//ICAL
BEGIN:VEVENT
UID:20260424T075854Z-7452763111424063446@eventfrog.at
DTSTAMP:20260424T075854Z
DTSTART:20260605T110000Z
DTEND:20260605T133000Z
SUMMARY:Beckenboden Wochenende
DESCRIPTION:Frauen stärken an einem Intensivwochenende ihren Beckenboden mit Übungen und Wissen - kompakt und ohne Vorkenntnisse.\n\nhttps://eventfrog.at/de/p/gesundheit-spiritualitaet/gesundheit-wohlbefinden/beckenboden-wochenende-7452763111424063446.html
LOCATION:Gwattstrasse 2b
GEO:46.740820;7.627497
URL:https://eventfrog.at/de/p/gesundheit-spiritualitaet/gesundheit-wohlbefinden/beckenboden-wochenende-7452763111424063446.html
END:VEVENT
BEGIN:VEVENT
UID:20260424T075854Z-7452763183368897854@eventfrog.at
DTSTAMP:20260424T075854Z
DTSTART:20260606T110000Z
DTEND:20260606T133000Z
SUMMARY:Beckenboden Wochenende
DESCRIPTION:Frauen stärken an einem Intensivwochenende ihren Beckenboden mit Übungen und Wissen - kompakt und ohne Vorkenntnisse.\n\nhttps://eventfrog.at/de/p/gesundheit-spiritualitaet/gesundheit-wohlbefinden/beckenboden-wochenende-7452763183368897854.html
LOCATION:Gwattstrasse 2b
GEO:46.740820;7.627497
URL:https://eventfrog.at/de/p/gesundheit-spiritualitaet/gesundheit-wohlbefinden/beckenboden-wochenende-7452763183368897854.html
END:VEVENT
BEGIN:VEVENT
UID:20260424T075854Z-7452763183654111152@eventfrog.at
DTSTAMP:20260424T075854Z
DTSTART:20260607T110000Z
DTEND:20260607T133000Z
SUMMARY:Beckenboden Wochenende
DESCRIPTION:Frauen stärken an einem Intensivwochenende ihren Beckenboden mit Übungen und Wissen - kompakt und ohne Vorkenntnisse.\n\nhttps://eventfrog.at/de/p/gesundheit-spiritualitaet/gesundheit-wohlbefinden/beckenboden-wochenende-7452763183654111152.html
LOCATION:Gwattstrasse 2b
GEO:46.740820;7.627497
URL:https://eventfrog.at/de/p/gesundheit-spiritualitaet/gesundheit-wohlbefinden/beckenboden-wochenende-7452763183654111152.html
END:VEVENT
END:VCALENDAR