BEGIN:VCALENDAR
VERSION:2.0
PRODID:EVENTFROG//EVENTGROUP//ICAL
BEGIN:VEVENT
UID:20260424T090229Z-7452700168086914298@eventfrog.at
DTSTAMP:20260424T090229Z
DTSTART:20260708T143000Z
SUMMARY:Zirkus Chnopf - UFE
DESCRIPTION:UFE ist die neuste Produktion vom Zirkus Chnopf mit 5 Profis und 5 Jugendlichen und jungen Artist:innen zwischen 14 und 23 - unter freiem Himmel.\n\nhttps://eventfrog.at/de/p/musicals-shows/zirkus/zirkus-chnopf-ufe-7452700168086914298.html
LOCATION:Holligenpark Ost
GEO:46.944905;7.418246
URL:https://eventfrog.at/de/p/musicals-shows/zirkus/zirkus-chnopf-ufe-7452700168086914298.html
END:VEVENT
BEGIN:VEVENT
UID:20260424T090229Z-7452701041559088718@eventfrog.at
DTSTAMP:20260424T090229Z
DTSTART:20260710T173000Z
SUMMARY:Zirkus Chnopf - UFE
DESCRIPTION:UFE ist die neuste Produktion vom Zirkus Chnopf mit 5 Profis und 5 Jugendlichen und jungen Artist:innen zwischen 14 und 23 - unter freiem Himmel.\n\nhttps://eventfrog.at/de/p/musicals-shows/zirkus/zirkus-chnopf-ufe-7452701041559088718.html
LOCATION:Holligenpark Ost
GEO:46.944905;7.418246
URL:https://eventfrog.at/de/p/musicals-shows/zirkus/zirkus-chnopf-ufe-7452701041559088718.html
END:VEVENT
BEGIN:VEVENT
UID:20260424T090229Z-7452702912063531364@eventfrog.at
DTSTAMP:20260424T090229Z
DTSTART:20260711T143000Z
SUMMARY:Zirkus Chnopf - UFE
DESCRIPTION:UFE ist die neuste Produktion vom Zirkus Chnopf mit 5 Profis und 5 Jugendlichen und jungen Artist:innen zwischen 14 und 23 - unter freiem Himmel.\n\nhttps://eventfrog.at/de/p/musicals-shows/zirkus/zirkus-chnopf-ufe-7452702912063531364.html
LOCATION:Holligenpark Ost
GEO:46.944905;7.418246
URL:https://eventfrog.at/de/p/musicals-shows/zirkus/zirkus-chnopf-ufe-7452702912063531364.html
END:VEVENT
BEGIN:VEVENT
UID:20260424T090229Z-7452703104208733782@eventfrog.at
DTSTAMP:20260424T090229Z
DTSTART:20260711T173000Z
SUMMARY:Zirkus Chnopf - UFE
DESCRIPTION:UFE ist die neuste Produktion vom Zirkus Chnopf mit 5 Profis und 5 Jugendlichen und jungen Artist:innen zwischen 14 und 23 - unter freiem Himmel.\n\nhttps://eventfrog.at/de/p/musicals-shows/zirkus/zirkus-chnopf-ufe-7452703104208733782.html
LOCATION:Holligenpark Ost
GEO:46.944905;7.418246
URL:https://eventfrog.at/de/p/musicals-shows/zirkus/zirkus-chnopf-ufe-7452703104208733782.html
END:VEVENT
BEGIN:VEVENT
UID:20260424T090229Z-7452703202565167577@eventfrog.at
DTSTAMP:20260424T090229Z
DTSTART:20260712T143000Z
SUMMARY:Zirkus Chnopf - UFE
DESCRIPTION:UFE ist die neuste Produktion vom Zirkus Chnopf mit 5 Profis und 5 Jugendlichen und jungen Artist:innen zwischen 14 und 23 - unter freiem Himmel.\n\nhttps://eventfrog.at/de/p/musicals-shows/zirkus/zirkus-chnopf-ufe-7452703202565167577.html
LOCATION:Holligenpark Ost
GEO:46.944905;7.418246
URL:https://eventfrog.at/de/p/musicals-shows/zirkus/zirkus-chnopf-ufe-7452703202565167577.html
END:VEVENT
END:VCALENDAR