BEGIN:VCALENDAR
VERSION:2.0
PRODID:EVENTFROG//EVENTGROUP//ICAL
BEGIN:VEVENT
UID:20260424T072443Z-7452675527238803551@eventfrog.at
DTSTAMP:20260424T072443Z
DTSTART:20260510T080000Z
DTEND:20260510T100000Z
SUMMARY:Un paysage dans le journal: atelier d'artiste
DESCRIPTION:Atelier avec Sophie Bouvier Ausländer pour explorer son œuvre au MHL et créer une réponse plastique en lien avec l'exposition.\n\nhttps://eventfrog.at/fr/p/art-expositions/autres-evenements-artistiques/un-paysage-dans-le-journal-atelier-d-artiste-7452675527238803551.html
LOCATION:Musée historique de Lausanne
GEO:46.522100;6.634880
URL:https://eventfrog.at/fr/p/art-expositions/autres-evenements-artistiques/un-paysage-dans-le-journal-atelier-d-artiste-7452675527238803551.html
END:VEVENT
BEGIN:VEVENT
UID:20260424T072443Z-7452676405203096018@eventfrog.at
DTSTAMP:20260424T072443Z
DTSTART:20260527T123000Z
DTEND:20260527T140000Z
SUMMARY:Paysage, l'horizon hésite: dessin dans le jardin du musée
DESCRIPTION:Participez à un atelier de dessin avec Isabelle Schiper dans le jardin, puis créez une œuvre inspirée de son univers.\n\nhttps://eventfrog.at/fr/p/art-expositions/autres-evenements-artistiques/paysage-l-horizon-hesite-dessin-dans-le-jardin-du-musee-7452676405203096018.html
LOCATION:Musée historique de Lausanne
GEO:46.522100;6.634880
URL:https://eventfrog.at/fr/p/art-expositions/autres-evenements-artistiques/paysage-l-horizon-hesite-dessin-dans-le-jardin-du-musee-7452676405203096018.html
END:VEVENT
BEGIN:VEVENT
UID:20260424T072443Z-7452677967103139890@eventfrog.at
DTSTAMP:20260424T072443Z
DTSTART:20260611T153000Z
DTEND:20260611T163000Z
SUMMARY:Art, mémoire et engagement : rencontre avec Caroline Ventura
DESCRIPTION:Rencontrez Caroline Ventura, explorez son œuvre et discutez librement de sa démarche artistique et de ses outils.\n\nhttps://eventfrog.at/fr/p/art-expositions/autres-evenements-artistiques/art-memoire-et-engagement-rencontre-avec-caroline-ventura-7452677967103139890.html
LOCATION:Musée historique de Lausanne
GEO:46.522100;6.634880
URL:https://eventfrog.at/fr/p/art-expositions/autres-evenements-artistiques/art-memoire-et-engagement-rencontre-avec-caroline-ventura-7452677967103139890.html
END:VEVENT
BEGIN:VEVENT
UID:20260424T072443Z-7452675631202960700@eventfrog.at
DTSTAMP:20260424T072443Z
DTSTART:20260628T080000Z
DTEND:20260628T100000Z
SUMMARY:Un paysage dans le journal: atelier d'artiste
DESCRIPTION:Atelier avec Sophie Bouvier Ausländer pour explorer son œuvre au MHL et créer une réponse plastique en lien avec l'exposition.\n\nhttps://eventfrog.at/fr/p/art-expositions/autres-evenements-artistiques/un-paysage-dans-le-journal-atelier-d-artiste-7452675631202960700.html
LOCATION:Musée historique de Lausanne
GEO:46.522100;6.634880
URL:https://eventfrog.at/fr/p/art-expositions/autres-evenements-artistiques/un-paysage-dans-le-journal-atelier-d-artiste-7452675631202960700.html
END:VEVENT
END:VCALENDAR