BEGIN:VCALENDAR
VERSION:2.0
PRODID:EVENTFROG//EVENTGROUP//ICAL
BEGIN:VEVENT
UID:20260425T193622Z-7452644072605386866@eventfrog.at
DTSTAMP:20260425T193622Z
DTSTART:20260923T123000Z
DTEND:20260923T203000Z
SUMMARY:Dinner in the Sky Düsseldorf
DESCRIPTION:Dinner in the Sky serviert exklusive Gerichte in 50 m Höhe mit spektakulärem Panorama über Köln, Düsseldorf und Hamburg.\n\nhttps://eventfrog.at/de/p/essen-trinken/dinner-in-the-sky-duesseldorf-7452644072605386866.html
LOCATION:Hansaallee 313
GEO:51.244464;6.716604
URL:https://eventfrog.at/de/p/essen-trinken/dinner-in-the-sky-duesseldorf-7452644072605386866.html
END:VEVENT
BEGIN:VEVENT
UID:20260425T193622Z-7452644072676690037@eventfrog.at
DTSTAMP:20260425T193622Z
DTSTART:20260924T123000Z
DTEND:20260924T203000Z
SUMMARY:Dinner in the Sky Düsseldorf
DESCRIPTION:Dinner in the Sky serviert exklusive Gerichte in 50 m Höhe mit spektakulärem Panorama über Köln, Düsseldorf und Hamburg.\n\nhttps://eventfrog.at/de/p/essen-trinken/dinner-in-the-sky-duesseldorf-7452644072676690037.html
LOCATION:Hansaallee 313
GEO:51.244464;6.716604
URL:https://eventfrog.at/de/p/essen-trinken/dinner-in-the-sky-duesseldorf-7452644072676690037.html
END:VEVENT
BEGIN:VEVENT
UID:20260425T193622Z-7452644072743798903@eventfrog.at
DTSTAMP:20260425T193622Z
DTSTART:20260925T100000Z
DTEND:20260925T203000Z
SUMMARY:Dinner in the Sky Düsseldorf
DESCRIPTION:Dinner in the Sky serviert exklusive Gerichte in 50 m Höhe mit spektakulärem Panorama über Köln, Düsseldorf und Hamburg.\n\nhttps://eventfrog.at/de/p/essen-trinken/dinner-in-the-sky-duesseldorf-7452644072743798903.html
LOCATION:Hansaallee 313
GEO:51.244464;6.716604
URL:https://eventfrog.at/de/p/essen-trinken/dinner-in-the-sky-duesseldorf-7452644072743798903.html
END:VEVENT
BEGIN:VEVENT
UID:20260425T193622Z-7452644072823490681@eventfrog.at
DTSTAMP:20260425T193622Z
DTSTART:20260926T100000Z
DTEND:20260926T203000Z
SUMMARY:Dinner in the Sky Düsseldorf
DESCRIPTION:Dinner in the Sky serviert exklusive Gerichte in 50 m Höhe mit spektakulärem Panorama über Köln, Düsseldorf und Hamburg.\n\nhttps://eventfrog.at/de/p/essen-trinken/dinner-in-the-sky-duesseldorf-7452644072823490681.html
LOCATION:Hansaallee 313
GEO:51.244464;6.716604
URL:https://eventfrog.at/de/p/essen-trinken/dinner-in-the-sky-duesseldorf-7452644072823490681.html
END:VEVENT
BEGIN:VEVENT
UID:20260425T193622Z-7452644072890599547@eventfrog.at
DTSTAMP:20260425T193622Z
DTSTART:20260927T100000Z
DTEND:20260927T203000Z
SUMMARY:Dinner in the Sky Düsseldorf
DESCRIPTION:Dinner in the Sky serviert exklusive Gerichte in 50 m Höhe mit spektakulärem Panorama über Köln, Düsseldorf und Hamburg.\n\nhttps://eventfrog.at/de/p/essen-trinken/dinner-in-the-sky-duesseldorf-7452644072890599547.html
LOCATION:Hansaallee 313
GEO:51.244464;6.716604
URL:https://eventfrog.at/de/p/essen-trinken/dinner-in-the-sky-duesseldorf-7452644072890599547.html
END:VEVENT
BEGIN:VEVENT
UID:20260425T193622Z-7452644072957708413@eventfrog.at
DTSTAMP:20260425T193622Z
DTSTART:20260930T123000Z
DTEND:20260930T203000Z
SUMMARY:Dinner in the Sky Düsseldorf
DESCRIPTION:Dinner in the Sky serviert exklusive Gerichte in 50 m Höhe mit spektakulärem Panorama über Köln, Düsseldorf und Hamburg.\n\nhttps://eventfrog.at/de/p/essen-trinken/dinner-in-the-sky-duesseldorf-7452644072957708413.html
LOCATION:Hansaallee 313
GEO:51.244464;6.716604
URL:https://eventfrog.at/de/p/essen-trinken/dinner-in-the-sky-duesseldorf-7452644072957708413.html
END:VEVENT
BEGIN:VEVENT
UID:20260425T193622Z-7452644073029011584@eventfrog.at
DTSTAMP:20260425T193622Z
DTSTART:20261001T123000Z
DTEND:20261001T203000Z
SUMMARY:Dinner in the Sky Düsseldorf
DESCRIPTION:Dinner in the Sky serviert exklusive Gerichte in 50 m Höhe mit spektakulärem Panorama über Köln, Düsseldorf und Hamburg.\n\nhttps://eventfrog.at/de/p/essen-trinken/dinner-in-the-sky-duesseldorf-7452644073029011584.html
LOCATION:Hansaallee 313
GEO:51.244464;6.716604
URL:https://eventfrog.at/de/p/essen-trinken/dinner-in-the-sky-duesseldorf-7452644073029011584.html
END:VEVENT
BEGIN:VEVENT
UID:20260425T193622Z-7452644073091926146@eventfrog.at
DTSTAMP:20260425T193622Z
DTSTART:20261002T100000Z
DTEND:20261002T203000Z
SUMMARY:Dinner in the Sky Düsseldorf
DESCRIPTION:Dinner in the Sky serviert exklusive Gerichte in 50 m Höhe mit spektakulärem Panorama über Köln, Düsseldorf und Hamburg.\n\nhttps://eventfrog.at/de/p/essen-trinken/dinner-in-the-sky-duesseldorf-7452644073091926146.html
LOCATION:Hansaallee 313
GEO:51.244464;6.716604
URL:https://eventfrog.at/de/p/essen-trinken/dinner-in-the-sky-duesseldorf-7452644073091926146.html
END:VEVENT
BEGIN:VEVENT
UID:20260425T193622Z-7452644073171617924@eventfrog.at
DTSTAMP:20260425T193622Z
DTSTART:20261003T100000Z
DTEND:20261003T203000Z
SUMMARY:Dinner in the Sky Düsseldorf
DESCRIPTION:Dinner in the Sky serviert exklusive Gerichte in 50 m Höhe mit spektakulärem Panorama über Köln, Düsseldorf und Hamburg.\n\nhttps://eventfrog.at/de/p/essen-trinken/dinner-in-the-sky-duesseldorf-7452644073171617924.html
LOCATION:Hansaallee 313
GEO:51.244464;6.716604
URL:https://eventfrog.at/de/p/essen-trinken/dinner-in-the-sky-duesseldorf-7452644073171617924.html
END:VEVENT
BEGIN:VEVENT
UID:20260425T193622Z-7452644073284864134@eventfrog.at
DTSTAMP:20260425T193622Z
DTSTART:20261004T100000Z
DTEND:20261004T203000Z
SUMMARY:Dinner in the Sky Düsseldorf
DESCRIPTION:Dinner in the Sky serviert exklusive Gerichte in 50 m Höhe mit spektakulärem Panorama über Köln, Düsseldorf und Hamburg.\n\nhttps://eventfrog.at/de/p/essen-trinken/dinner-in-the-sky-duesseldorf-7452644073284864134.html
LOCATION:Hansaallee 313
GEO:51.244464;6.716604
URL:https://eventfrog.at/de/p/essen-trinken/dinner-in-the-sky-duesseldorf-7452644073284864134.html
END:VEVENT
END:VCALENDAR