BEGIN:VCALENDAR
VERSION:2.0
PRODID:EVENTFROG//EVENTGROUP//ICAL
BEGIN:VEVENT
UID:20260424T084059Z-7452593661064255277@eventfrog.at
DTSTAMP:20260424T084059Z
DTSTART:20260502T080000Z
DTEND:20260502T150000Z
SUMMARY:Kleine Schönheiten - Raritätengärtnerei- Eisendeko
DESCRIPTION:Raritätengärtnerei mit einem grossen Sortiment an Delosperma(Mittagsblumen), Sempervivum ( Hauswurz) und viele Raritätenpflanzen!\n\nEisen und Pflanzenkunst, Sälbergmachts und vieles mehr....\n\nhttps://eventfrog.at/de/p/maerkte/sonstige-maerkte/kleine-schoenheiten-raritaetengaertnerei-eisendeko-7452593661064255277.html
LOCATION:Staudengärtnerei Keller-Engel
GEO:47.389699;8.277921
URL:https://eventfrog.at/de/p/maerkte/sonstige-maerkte/kleine-schoenheiten-raritaetengaertnerei-eisendeko-7452593661064255277.html
END:VEVENT
BEGIN:VEVENT
UID:20260424T084059Z-7452593934692266066@eventfrog.at
DTSTAMP:20260424T084059Z
DTSTART:20260503T080000Z
DTEND:20260503T150000Z
SUMMARY:Kleine Schönheiten - Raritätengärtnerei- Eisendeko
DESCRIPTION:Raritätengärtnerei mit einem grossen Sortiment an Delosperma(Mittagsblumen), Sempervivum ( Hauswurz) und viele Raritätenpflanzen!\n\nEisen und Pflanzenkunst, Sälbergmachts und vieles mehr....\n\nhttps://eventfrog.at/de/p/maerkte/sonstige-maerkte/kleine-schoenheiten-raritaetengaertnerei-eisendeko-7452593934692266066.html
LOCATION:Staudengärtnerei Keller-Engel
GEO:47.389699;8.277921
URL:https://eventfrog.at/de/p/maerkte/sonstige-maerkte/kleine-schoenheiten-raritaetengaertnerei-eisendeko-7452593934692266066.html
END:VEVENT
END:VCALENDAR