BEGIN:VCALENDAR
VERSION:2.0
PRODID:EVENTFROG//EVENTGROUP//ICAL
BEGIN:VEVENT
UID:20260423T171109Z-7452439862110588556@eventfrog.at
DTSTAMP:20260423T171109Z
DTSTART:20260507T190000Z
SUMMARY:Baraoke 59 - Karaoke
DESCRIPTION:come and sing with us or just chill with friends, but have fun!\n\nhttps://eventfrog.at/de/p/partys/karaoke/baraoke-59-karaoke-7452439862110588556.html
LOCATION:Bar59
GEO:47.041981;8.311045
URL:https://eventfrog.at/de/p/partys/karaoke/baraoke-59-karaoke-7452439862110588556.html
END:VEVENT
BEGIN:VEVENT
UID:20260423T171109Z-7452439937503207228@eventfrog.at
DTSTAMP:20260423T171109Z
DTSTART:20260514T190000Z
SUMMARY:Baraoke 59 - Karaoke
DESCRIPTION:come and sing with us or just chill with friends, but have fun!\n\nhttps://eventfrog.at/de/p/partys/karaoke/baraoke-59-karaoke-7452439937503207228.html
LOCATION:Bar59
GEO:47.041981;8.311045
URL:https://eventfrog.at/de/p/partys/karaoke/baraoke-59-karaoke-7452439937503207228.html
END:VEVENT
BEGIN:VEVENT
UID:20260423T171109Z-7452439937801003438@eventfrog.at
DTSTAMP:20260423T171109Z
DTSTART:20260521T190000Z
SUMMARY:Baraoke 59 - Karaoke
DESCRIPTION:come and sing with us or just chill with friends, but have fun!\n\nhttps://eventfrog.at/de/p/partys/karaoke/baraoke-59-karaoke-7452439937801003438.html
LOCATION:Bar59
GEO:47.041981;8.311045
URL:https://eventfrog.at/de/p/partys/karaoke/baraoke-59-karaoke-7452439937801003438.html
END:VEVENT
BEGIN:VEVENT
UID:20260423T171109Z-7452439937935221249@eventfrog.at
DTSTAMP:20260423T171109Z
DTSTART:20260528T190000Z
SUMMARY:Baraoke 59 - Karaoke
DESCRIPTION:come and sing with us or just chill with friends, but have fun!\n\nhttps://eventfrog.at/de/p/partys/karaoke/baraoke-59-karaoke-7452439937935221249.html
LOCATION:Bar59
GEO:47.041981;8.311045
URL:https://eventfrog.at/de/p/partys/karaoke/baraoke-59-karaoke-7452439937935221249.html
END:VEVENT
END:VCALENDAR