BEGIN:VCALENDAR
VERSION:2.0
PRODID:EVENTFROG//EVENTGROUP//ICAL
BEGIN:VEVENT
UID:20260424T072510Z-7452424781876468904@eventfrog.at
DTSTAMP:20260424T072510Z
DTSTART:20260507T170000Z
DTEND:20260507T200000Z
SUMMARY:Oliviero Gorza - Vernissage "Innere Welten"
DESCRIPTION:Oliviero Gorza zeigt kraftvolle Bronzeskulpturen, die handwerkliche Präzision und emotionale Tiefe verbinden. Ausstellung in der Kulturkirche Starrkirch-Wil.\n\nhttps://eventfrog.at/de/p/kunst-ausstellungen/ausstellung/oliviero-gorza-vernissage-innere-welten-7452424781876468904.html
LOCATION:Kulturkirche Starrkirch-Wil
GEO:47.352722;7.929255
URL:https://eventfrog.at/de/p/kunst-ausstellungen/ausstellung/oliviero-gorza-vernissage-innere-welten-7452424781876468904.html
END:VEVENT
BEGIN:VEVENT
UID:20260424T072510Z-7452424959253605265@eventfrog.at
DTSTAMP:20260424T072510Z
DTSTART:20260508T170000Z
DTEND:20260508T200000Z
SUMMARY:Oliviero Gorza - Ausstellung "Innere Welten"
DESCRIPTION:Oliviero Gorza zeigt kraftvolle Bronzeskulpturen, die handwerkliche Präzision und emotionale Tiefe verbinden.\n\nhttps://eventfrog.at/de/p/kunst-ausstellungen/ausstellung/oliviero-gorza-ausstellung-innere-welten-7452424959253605265.html
LOCATION:Kulturkirche Starrkirch-Wil
GEO:47.352722;7.929255
URL:https://eventfrog.at/de/p/kunst-ausstellungen/ausstellung/oliviero-gorza-ausstellung-innere-welten-7452424959253605265.html
END:VEVENT
BEGIN:VEVENT
UID:20260424T072510Z-7452424959694007878@eventfrog.at
DTSTAMP:20260424T072510Z
DTSTART:20260509T120000Z
DTEND:20260509T160000Z
SUMMARY:Oliviero Gorza - Ausstellung "Innere Welten"
DESCRIPTION:Oliviero Gorza zeigt kraftvolle Bronzeskulpturen, die handwerkliche Präzision und emotionale Tiefe verbinden.\n\nhttps://eventfrog.at/de/p/kunst-ausstellungen/ausstellung/oliviero-gorza-ausstellung-innere-welten-7452424959694007878.html
LOCATION:Kulturkirche Starrkirch-Wil
GEO:47.352722;7.929255
URL:https://eventfrog.at/de/p/kunst-ausstellungen/ausstellung/oliviero-gorza-ausstellung-innere-welten-7452424959694007878.html
END:VEVENT
BEGIN:VEVENT
UID:20260424T072510Z-7452424959878557280@eventfrog.at
DTSTAMP:20260424T072510Z
DTSTART:20260510T120000Z
DTEND:20260510T160000Z
SUMMARY:Oliviero Gorza - Ausstellung "Innere Welten"
DESCRIPTION:Oliviero Gorza zeigt kraftvolle Bronzeskulpturen, die handwerkliche Präzision und emotionale Tiefe verbinden.\n\nhttps://eventfrog.at/de/p/kunst-ausstellungen/ausstellung/oliviero-gorza-ausstellung-innere-welten-7452424959878557280.html
LOCATION:Kulturkirche Starrkirch-Wil
GEO:47.352722;7.929255
URL:https://eventfrog.at/de/p/kunst-ausstellungen/ausstellung/oliviero-gorza-ausstellung-innere-welten-7452424959878557280.html
END:VEVENT
END:VCALENDAR