BEGIN:VCALENDAR
VERSION:2.0
PRODID:EVENTFROG//EVENTGROUP//ICAL
BEGIN:VEVENT
UID:20260421T214149Z-7452386014457288997@eventfrog.at
DTSTAMP:20260421T214149Z
DTSTART:20260423T184500Z
SUMMARY:EMMA FRANKLAND No Apologies
DESCRIPTION:War Kurt Cobain trans*? NO APOLOGIES taucht tief ein in Internet-Diskurse und klassische Mythologie – und »erinnert« Nirvanas ikonisches MTV Unplugged-Konzert von 1993 absichtlich radikal falsch.\n\nhttps://eventfrog.at/de/p/musicals-shows/show/emma-frankland-no-apologies-7452386014457288997.html
LOCATION:Kampnagel, Internationale Kulturfabrik
GEO:53.583863;10.020338
URL:https://eventfrog.at/de/p/musicals-shows/show/emma-frankland-no-apologies-7452386014457288997.html
END:VEVENT
BEGIN:VEVENT
UID:20260421T214149Z-7452386070010851369@eventfrog.at
DTSTAMP:20260421T214149Z
DTSTART:20260424T170000Z
SUMMARY:EMMA FRANKLAND No Apologies
DESCRIPTION:War Kurt Cobain trans*? NO APOLOGIES taucht tief ein in Internet-Diskurse und klassische Mythologie – und »erinnert« Nirvanas ikonisches MTV Unplugged-Konzert von 1993 absichtlich radikal falsch.\n\nhttps://eventfrog.at/de/p/musicals-shows/show/emma-frankland-no-apologies-7452386070010851369.html
LOCATION:Kampnagel, Internationale Kulturfabrik
GEO:53.583863;10.020338
URL:https://eventfrog.at/de/p/musicals-shows/show/emma-frankland-no-apologies-7452386070010851369.html
END:VEVENT
BEGIN:VEVENT
UID:20260421T214149Z-7452386070451254232@eventfrog.at
DTSTAMP:20260421T214149Z
DTSTART:20260425T170000Z
SUMMARY:EMMA FRANKLAND No Apologies
DESCRIPTION:War Kurt Cobain trans*? NO APOLOGIES taucht tief ein in Internet-Diskurse und klassische Mythologie – und »erinnert« Nirvanas ikonisches MTV Unplugged-Konzert von 1993 absichtlich radikal falsch.\n\nhttps://eventfrog.at/de/p/musicals-shows/show/emma-frankland-no-apologies-7452386070451254232.html
LOCATION:Kampnagel, Internationale Kulturfabrik
GEO:53.583863;10.020338
URL:https://eventfrog.at/de/p/musicals-shows/show/emma-frankland-no-apologies-7452386070451254232.html
END:VEVENT
END:VCALENDAR