BEGIN:VCALENDAR
VERSION:2.0
PRODID:EVENTFROG//EVENTGROUP//ICAL
BEGIN:VEVENT
UID:20260422T113304Z-7436852869989443989@eventfrog.at
DTSTAMP:20260422T113304Z
DTSTART:20260426T120000Z
DTEND:20260426T143000Z
SUMMARY:Build Your Own Jug - Pottery Workshop
DESCRIPTION:Keramik-Workshop am 26. April in Zürich: Krug töpfern, 80 CHF inkl. Material, für alle Erfahrungsstufen.\n\nhttps://eventfrog.at/en/p/courses-seminars/art-culture/build-your-own-jug-pottery-workshop-7436852869989443989.html
LOCATION:CeramicsOnWheels Studio
GEO:47.404456;8.548438
URL:https://eventfrog.at/en/p/courses-seminars/art-culture/build-your-own-jug-pottery-workshop-7436852869989443989.html
END:VEVENT
BEGIN:VEVENT
UID:20260422T113304Z-7452379684673744715@eventfrog.at
DTSTAMP:20260422T113304Z
DTSTART:20260517T120000Z
DTEND:20260517T143000Z
SUMMARY:Build Your Own Jug - Pottery Workshop
DESCRIPTION:Keramik-Workshop am 17. Mai in Zürich: Krug töpfern, 80 CHF inkl. Material, für alle Erfahrungsstufen.\n\nhttps://eventfrog.at/en/p/courses-seminars/art-culture/build-your-own-jug-pottery-workshop-7452379684673744715.html
LOCATION:CeramicsOnWheels Studio
GEO:47.404456;8.548438
URL:https://eventfrog.at/en/p/courses-seminars/art-culture/build-your-own-jug-pottery-workshop-7452379684673744715.html
END:VEVENT
END:VCALENDAR