BEGIN:VCALENDAR
VERSION:2.0
PRODID:EVENTFROG//EVENTGROUP//ICAL
BEGIN:VEVENT
UID:20260422T022830Z-7452340208069006452@eventfrog.at
DTSTAMP:20260422T022830Z
DTSTART:20260627T183000Z
DTEND:20260628T010000Z
SUMMARY:Abailar Tanzaufführung
DESCRIPTION:Zwei Tage, zwei Stile, ein unvergessliches Erlebnis. Komm zur Abailar Tanzaufführung in Bern und geniesse Urban Dance, Salsa Cubana und Afrocontemp live auf der Bühne. Spüre die Energie live. \n\nhttps://eventfrog.at/fr/p/soirees-fetes/autres-fetes/abailar-tanzauffuehrung-7452340208069006452.html
LOCATION:Dance Passion
GEO:46.939948;7.445486
URL:https://eventfrog.at/fr/p/soirees-fetes/autres-fetes/abailar-tanzauffuehrung-7452340208069006452.html
END:VEVENT
BEGIN:VEVENT
UID:20260422T022830Z-7452341707805329982@eventfrog.at
DTSTAMP:20260422T022830Z
DTSTART:20260628T153000Z
DTEND:20260628T210000Z
SUMMARY:Abailar Tanzaufführung
DESCRIPTION:Zwei Tage, zwei Stile, ein unvergessliches Erlebnis. Komm zur Abailar Tanzaufführung in Bern und geniesse Urban Dance, Salsa Cubana und Afrocontemp live auf der Bühne. Spüre die Energie live. \n\nhttps://eventfrog.at/fr/p/soirees-fetes/autres-fetes/abailar-tanzauffuehrung-7452341707805329982.html
LOCATION:Dance Passion
GEO:46.939948;7.445486
URL:https://eventfrog.at/fr/p/soirees-fetes/autres-fetes/abailar-tanzauffuehrung-7452341707805329982.html
END:VEVENT
END:VCALENDAR