BEGIN:VCALENDAR
VERSION:2.0
PRODID:EVENTFROG//EVENTGROUP//ICAL
BEGIN:VEVENT
UID:20260422T022836Z-7452336251506539528@eventfrog.at
DTSTAMP:20260422T022836Z
DTSTART:20260611T181500Z
SUMMARY:PERFECT MATCHES - RomCom im Kino statt Fussball im TV
DESCRIPTION:An 18 WM-Abenden bringen wir romantische Kultfilme zurück ins Kino.\n\nhttps://eventfrog.at/de/p/freizeit-ausfluege/film-kino/perfect-matches-romcom-im-kino-statt-fussball-im-tv-7452336251506539528.html
LOCATION:Kino CineClub (Vineyard Bern)
GEO:46.947097;7.434988
URL:https://eventfrog.at/de/p/freizeit-ausfluege/film-kino/perfect-matches-romcom-im-kino-statt-fussball-im-tv-7452336251506539528.html
END:VEVENT
BEGIN:VEVENT
UID:20260422T022836Z-7452336297820046096@eventfrog.at
DTSTAMP:20260422T022836Z
DTSTART:20260615T181500Z
SUMMARY:PERFECT MATCHES - RomCom im Kino statt Fussball im TV
DESCRIPTION:An 18 WM-Abenden bringen wir romantische Kultfilme zurück ins Kino.\n\nhttps://eventfrog.at/de/p/freizeit-ausfluege/film-kino/perfect-matches-romcom-im-kino-statt-fussball-im-tv-7452336297820046096.html
LOCATION:Kino CineClub (Vineyard Bern)
GEO:46.947097;7.434988
URL:https://eventfrog.at/de/p/freizeit-ausfluege/film-kino/perfect-matches-romcom-im-kino-statt-fussball-im-tv-7452336297820046096.html
END:VEVENT
BEGIN:VEVENT
UID:20260422T022836Z-7452336298101065074@eventfrog.at
DTSTAMP:20260422T022836Z
DTSTART:20260616T181500Z
SUMMARY:PERFECT MATCHES - RomCom im Kino statt Fussball im TV
DESCRIPTION:An 18 WM-Abenden bringen wir romantische Kultfilme zurück ins Kino.\n\nhttps://eventfrog.at/de/p/freizeit-ausfluege/film-kino/perfect-matches-romcom-im-kino-statt-fussball-im-tv-7452336298101065074.html
LOCATION:Kino CineClub (Vineyard Bern)
GEO:46.947097;7.434988
URL:https://eventfrog.at/de/p/freizeit-ausfluege/film-kino/perfect-matches-romcom-im-kino-statt-fussball-im-tv-7452336298101065074.html
END:VEVENT
BEGIN:VEVENT
UID:20260422T022836Z-7452336298235282863@eventfrog.at
DTSTAMP:20260422T022836Z
DTSTART:20260617T181500Z
SUMMARY:PERFECT MATCHES - RomCom im Kino statt Fussball im TV
DESCRIPTION:An 18 WM-Abenden bringen wir romantische Kultfilme zurück ins Kino.\n\nhttps://eventfrog.at/de/p/freizeit-ausfluege/film-kino/perfect-matches-romcom-im-kino-statt-fussball-im-tv-7452336298235282863.html
LOCATION:Kino CineClub (Vineyard Bern)
GEO:46.947097;7.434988
URL:https://eventfrog.at/de/p/freizeit-ausfluege/film-kino/perfect-matches-romcom-im-kino-statt-fussball-im-tv-7452336298235282863.html
END:VEVENT
BEGIN:VEVENT
UID:20260422T022836Z-7452336298403055054@eventfrog.at
DTSTAMP:20260422T022836Z
DTSTART:20260618T181500Z
SUMMARY:PERFECT MATCHES - RomCom im Kino statt Fussball im TV
DESCRIPTION:An 18 WM-Abenden bringen wir romantische Kultfilme zurück ins Kino.\n\nhttps://eventfrog.at/de/p/freizeit-ausfluege/film-kino/perfect-matches-romcom-im-kino-statt-fussball-im-tv-7452336298403055054.html
LOCATION:Kino CineClub (Vineyard Bern)
GEO:46.947097;7.434988
URL:https://eventfrog.at/de/p/freizeit-ausfluege/film-kino/perfect-matches-romcom-im-kino-statt-fussball-im-tv-7452336298403055054.html
END:VEVENT
BEGIN:VEVENT
UID:20260422T022836Z-7452336298528884177@eventfrog.at
DTSTAMP:20260422T022836Z
DTSTART:20260622T181500Z
SUMMARY:PERFECT MATCHES - RomCom im Kino statt Fussball im TV
DESCRIPTION:An 18 WM-Abenden bringen wir romantische Kultfilme zurück ins Kino.\n\nhttps://eventfrog.at/de/p/freizeit-ausfluege/film-kino/perfect-matches-romcom-im-kino-statt-fussball-im-tv-7452336298528884177.html
LOCATION:Kino CineClub (Vineyard Bern)
GEO:46.947097;7.434988
URL:https://eventfrog.at/de/p/freizeit-ausfluege/film-kino/perfect-matches-romcom-im-kino-statt-fussball-im-tv-7452336298528884177.html
END:VEVENT
BEGIN:VEVENT
UID:20260422T022836Z-7452336298650518995@eventfrog.at
DTSTAMP:20260422T022836Z
DTSTART:20260623T181500Z
SUMMARY:PERFECT MATCHES - RomCom im Kino statt Fussball im TV
DESCRIPTION:An 18 WM-Abenden bringen wir romantische Kultfilme zurück ins Kino.\n\nhttps://eventfrog.at/de/p/freizeit-ausfluege/film-kino/perfect-matches-romcom-im-kino-statt-fussball-im-tv-7452336298650518995.html
LOCATION:Kino CineClub (Vineyard Bern)
GEO:46.947097;7.434988
URL:https://eventfrog.at/de/p/freizeit-ausfluege/film-kino/perfect-matches-romcom-im-kino-statt-fussball-im-tv-7452336298650518995.html
END:VEVENT
BEGIN:VEVENT
UID:20260422T022836Z-7452336298767959509@eventfrog.at
DTSTAMP:20260422T022836Z
DTSTART:20260624T181500Z
SUMMARY:PERFECT MATCHES - RomCom im Kino statt Fussball im TV
DESCRIPTION:An 18 WM-Abenden bringen wir romantische Kultfilme zurück ins Kino.\n\nhttps://eventfrog.at/de/p/freizeit-ausfluege/film-kino/perfect-matches-romcom-im-kino-statt-fussball-im-tv-7452336298767959509.html
LOCATION:Kino CineClub (Vineyard Bern)
GEO:46.947097;7.434988
URL:https://eventfrog.at/de/p/freizeit-ausfluege/film-kino/perfect-matches-romcom-im-kino-statt-fussball-im-tv-7452336298767959509.html
END:VEVENT
BEGIN:VEVENT
UID:20260422T022836Z-7452336298889594406@eventfrog.at
DTSTAMP:20260422T022836Z
DTSTART:20260625T181500Z
SUMMARY:PERFECT MATCHES - RomCom im Kino statt Fussball im TV
DESCRIPTION:An 18 WM-Abenden bringen wir romantische Kultfilme zurück ins Kino.\n\nhttps://eventfrog.at/de/p/freizeit-ausfluege/film-kino/perfect-matches-romcom-im-kino-statt-fussball-im-tv-7452336298889594406.html
LOCATION:Kino CineClub (Vineyard Bern)
GEO:46.947097;7.434988
URL:https://eventfrog.at/de/p/freizeit-ausfluege/film-kino/perfect-matches-romcom-im-kino-statt-fussball-im-tv-7452336298889594406.html
END:VEVENT
BEGIN:VEVENT
UID:20260422T022836Z-7452336607770742881@eventfrog.at
DTSTAMP:20260422T022836Z
DTSTART:20260629T181500Z
SUMMARY:PERFECT MATCHES - RomCom im Kino statt Fussball im TV
DESCRIPTION:An 18 WM-Abenden bringen wir romantische Kultfilme zurück ins Kino.\n\nhttps://eventfrog.at/de/p/freizeit-ausfluege/film-kino/perfect-matches-romcom-im-kino-statt-fussball-im-tv-7452336607770742881.html
LOCATION:Kino CineClub (Vineyard Bern)
GEO:46.947097;7.434988
URL:https://eventfrog.at/de/p/freizeit-ausfluege/film-kino/perfect-matches-romcom-im-kino-statt-fussball-im-tv-7452336607770742881.html
END:VEVENT
BEGIN:VEVENT
UID:20260422T022836Z-7452336708052359757@eventfrog.at
DTSTAMP:20260422T022836Z
DTSTART:20260630T181500Z
SUMMARY:PERFECT MATCHES - RomCom im Kino statt Fussball im TV
DESCRIPTION:An 18 WM-Abenden bringen wir romantische Kultfilme zurück ins Kino.\n\nhttps://eventfrog.at/de/p/freizeit-ausfluege/film-kino/perfect-matches-romcom-im-kino-statt-fussball-im-tv-7452336708052359757.html
LOCATION:Kino CineClub (Vineyard Bern)
GEO:46.947097;7.434988
URL:https://eventfrog.at/de/p/freizeit-ausfluege/film-kino/perfect-matches-romcom-im-kino-statt-fussball-im-tv-7452336708052359757.html
END:VEVENT
BEGIN:VEVENT
UID:20260422T022836Z-7452336811219659709@eventfrog.at
DTSTAMP:20260422T022836Z
DTSTART:20260701T181500Z
SUMMARY:PERFECT MATCHES - RomCom im Kino statt Fussball im TV
DESCRIPTION:An 18 WM-Abenden bringen wir romantische Kultfilme zurück ins Kino.\n\nhttps://eventfrog.at/de/p/freizeit-ausfluege/film-kino/perfect-matches-romcom-im-kino-statt-fussball-im-tv-7452336811219659709.html
LOCATION:Kino CineClub (Vineyard Bern)
GEO:46.947097;7.434988
URL:https://eventfrog.at/de/p/freizeit-ausfluege/film-kino/perfect-matches-romcom-im-kino-statt-fussball-im-tv-7452336811219659709.html
END:VEVENT
BEGIN:VEVENT
UID:20260422T022836Z-7452336918203774877@eventfrog.at
DTSTAMP:20260422T022836Z
DTSTART:20260702T181500Z
SUMMARY:PERFECT MATCHES - RomCom im Kino statt Fussball im TV
DESCRIPTION:An 18 WM-Abenden bringen wir romantische Kultfilme zurück ins Kino.\n\nhttps://eventfrog.at/de/p/freizeit-ausfluege/film-kino/perfect-matches-romcom-im-kino-statt-fussball-im-tv-7452336918203774877.html
LOCATION:Kino CineClub (Vineyard Bern)
GEO:46.947097;7.434988
URL:https://eventfrog.at/de/p/freizeit-ausfluege/film-kino/perfect-matches-romcom-im-kino-statt-fussball-im-tv-7452336918203774877.html
END:VEVENT
BEGIN:VEVENT
UID:20260422T022836Z-7452337022222517672@eventfrog.at
DTSTAMP:20260422T022836Z
DTSTART:20260706T181500Z
SUMMARY:PERFECT MATCHES - RomCom im Kino statt Fussball im TV
DESCRIPTION:An 18 WM-Abenden bringen wir romantische Kultfilme zurück ins Kino.\n\nhttps://eventfrog.at/de/p/freizeit-ausfluege/film-kino/perfect-matches-romcom-im-kino-statt-fussball-im-tv-7452337022222517672.html
LOCATION:Kino CineClub (Vineyard Bern)
GEO:46.947097;7.434988
URL:https://eventfrog.at/de/p/freizeit-ausfluege/film-kino/perfect-matches-romcom-im-kino-statt-fussball-im-tv-7452337022222517672.html
END:VEVENT
BEGIN:VEVENT
UID:20260422T022836Z-7452337119169664991@eventfrog.at
DTSTAMP:20260422T022836Z
DTSTART:20260707T181500Z
SUMMARY:PERFECT MATCHES - RomCom im Kino statt Fussball im TV
DESCRIPTION:An 18 WM-Abenden bringen wir romantische Kultfilme zurück ins Kino.\n\nhttps://eventfrog.at/de/p/freizeit-ausfluege/film-kino/perfect-matches-romcom-im-kino-statt-fussball-im-tv-7452337119169664991.html
LOCATION:Kino CineClub (Vineyard Bern)
GEO:46.947097;7.434988
URL:https://eventfrog.at/de/p/freizeit-ausfluege/film-kino/perfect-matches-romcom-im-kino-statt-fussball-im-tv-7452337119169664991.html
END:VEVENT
BEGIN:VEVENT
UID:20260422T022836Z-7452337233590282697@eventfrog.at
DTSTAMP:20260422T022836Z
DTSTART:20260709T181500Z
SUMMARY:PERFECT MATCHES - RomCom im Kino statt Fussball im TV
DESCRIPTION:An 18 WM-Abenden bringen wir romantische Kultfilme zurück ins Kino.\n\nhttps://eventfrog.at/de/p/freizeit-ausfluege/film-kino/perfect-matches-romcom-im-kino-statt-fussball-im-tv-7452337233590282697.html
LOCATION:Kino CineClub (Vineyard Bern)
GEO:46.947097;7.434988
URL:https://eventfrog.at/de/p/freizeit-ausfluege/film-kino/perfect-matches-romcom-im-kino-statt-fussball-im-tv-7452337233590282697.html
END:VEVENT
BEGIN:VEVENT
UID:20260422T022836Z-7452337328138288444@eventfrog.at
DTSTAMP:20260422T022836Z
DTSTART:20260714T181500Z
SUMMARY:PERFECT MATCHES - RomCom im Kino statt Fussball im TV
DESCRIPTION:An 18 WM-Abenden bringen wir romantische Kultfilme zurück ins Kino.\n\nhttps://eventfrog.at/de/p/freizeit-ausfluege/film-kino/perfect-matches-romcom-im-kino-statt-fussball-im-tv-7452337328138288444.html
LOCATION:Kino CineClub (Vineyard Bern)
GEO:46.947097;7.434988
URL:https://eventfrog.at/de/p/freizeit-ausfluege/film-kino/perfect-matches-romcom-im-kino-statt-fussball-im-tv-7452337328138288444.html
END:VEVENT
BEGIN:VEVENT
UID:20260422T022836Z-7452337428356930268@eventfrog.at
DTSTAMP:20260422T022836Z
DTSTART:20260715T181500Z
SUMMARY:PERFECT MATCHES - RomCom im Kino statt Fussball im TV
DESCRIPTION:An 18 WM-Abenden bringen wir romantische Kultfilme zurück ins Kino.\n\nhttps://eventfrog.at/de/p/freizeit-ausfluege/film-kino/perfect-matches-romcom-im-kino-statt-fussball-im-tv-7452337428356930268.html
LOCATION:Kino CineClub (Vineyard Bern)
GEO:46.947097;7.434988
URL:https://eventfrog.at/de/p/freizeit-ausfluege/film-kino/perfect-matches-romcom-im-kino-statt-fussball-im-tv-7452337428356930268.html
END:VEVENT
END:VCALENDAR