BEGIN:VCALENDAR
VERSION:2.0
PRODID:EVENTFROG//EVENTGROUP//ICAL
BEGIN:VEVENT
UID:20260424T105139Z-7451943388885065937@eventfrog.at
DTSTAMP:20260424T105139Z
DTSTART:20260618T120000Z
DTEND:20260618T133000Z
SUMMARY:Open Lab Day Lernlabor Cybersicherheit – Faktor Mensch​​
DESCRIPTION:Unternehmenssicherheit beginnt beim Menschen​\n\nhttps://eventfrog.at/de/p/wissenschaft-und-technik/open-lab-day-lernlabor-cybersicherheit-faktor-mensch-7451943388885065937.html
LOCATION:Open Lab Day - Erlebniswelt
GEO:49.150139;9.216152
URL:https://eventfrog.at/de/p/wissenschaft-und-technik/open-lab-day-lernlabor-cybersicherheit-faktor-mensch-7451943388885065937.html
END:VEVENT
BEGIN:VEVENT
UID:20260424T105139Z-7452232216157938439@eventfrog.at
DTSTAMP:20260424T105139Z
DTSTART:20260716T120000Z
DTEND:20260716T133000Z
SUMMARY:Open Lab Day Lernlabor Cybersicherheit – Faktor Mensch​​
DESCRIPTION:​Unternehmenssicherheit beginnt beim Menschen\n\nhttps://eventfrog.at/de/p/wissenschaft-und-technik/open-lab-day-lernlabor-cybersicherheit-faktor-mensch-7452232216157938439.html
LOCATION:Open Lab Day - Erlebniswelt
GEO:49.150139;9.216152
URL:https://eventfrog.at/de/p/wissenschaft-und-technik/open-lab-day-lernlabor-cybersicherheit-faktor-mensch-7452232216157938439.html
END:VEVENT
BEGIN:VEVENT
UID:20260424T105139Z-7452233923973622796@eventfrog.at
DTSTAMP:20260424T105139Z
DTSTART:20260924T120000Z
DTEND:20260924T133000Z
SUMMARY:Open Lab Day Lernlabor Cybersicherheit – Faktor Mensch​​
DESCRIPTION:​Unternehmenssicherheit beginnt beim Menschen.\n\nhttps://eventfrog.at/de/p/wissenschaft-und-technik/open-lab-day-lernlabor-cybersicherheit-faktor-mensch-7452233923973622796.html
LOCATION:Open Lab Day - Erlebniswelt
GEO:49.150139;9.216152
URL:https://eventfrog.at/de/p/wissenschaft-und-technik/open-lab-day-lernlabor-cybersicherheit-faktor-mensch-7452233923973622796.html
END:VEVENT
BEGIN:VEVENT
UID:20260424T105139Z-7452235719341288019@eventfrog.at
DTSTAMP:20260424T105139Z
DTSTART:20261015T080000Z
DTEND:20261015T093000Z
SUMMARY:Open Lab Day Lernlabor Cybersicherheit – Faktor Mensch​​
DESCRIPTION:​Unternehmenssicherheit beginnt beim Menschen.\n\nhttps://eventfrog.at/de/p/wissenschaft-und-technik/open-lab-day-lernlabor-cybersicherheit-faktor-mensch-7452235719341288019.html
LOCATION:Open Lab Day - Erlebniswelt
GEO:49.150139;9.216152
URL:https://eventfrog.at/de/p/wissenschaft-und-technik/open-lab-day-lernlabor-cybersicherheit-faktor-mensch-7452235719341288019.html
END:VEVENT
END:VCALENDAR