BEGIN:VCALENDAR
VERSION:2.0
PRODID:EVENTFROG//EVENTGROUP//ICAL
BEGIN:VEVENT
UID:20260424T120927Z-7452115920665721857@eventfrog.at
DTSTAMP:20260424T120927Z
DTSTART:20260508T123000Z
SUMMARY:Café TrotzDem Wil
DESCRIPTION:Treffpunkt für Menschen mit Demenz und ihre Angehörigen.\n\nhttps://eventfrog.at/de/p/diverses/cafe-trotzdem-wil-7452115920665721857.html
LOCATION:Kafi Peter, Pfarreizentrum
GEO:47.463925;9.043746
URL:https://eventfrog.at/de/p/diverses/cafe-trotzdem-wil-7452115920665721857.html
END:VEVENT
END:VCALENDAR