BEGIN:VCALENDAR
VERSION:2.0
PRODID:EVENTFROG//EVENTGROUP//ICAL
BEGIN:VEVENT
UID:20260424T072536Z-7452264402835763645@eventfrog.at
DTSTAMP:20260424T072536Z
DTSTART:20260427T150000Z
DTEND:20260427T160000Z
SUMMARY:Fitboxing Basics
DESCRIPTION:Fitboxing ist ein intensives Ganzkörperworkout mit Elementen aus dem Kickboxen\n\nhttps://eventfrog.at/de/p/sport-fitness/kampfsport/fitboxing-basics-7452264402835763645.html
LOCATION:Marienthaler Str. 137
GEO:50.718820;12.453851
URL:https://eventfrog.at/de/p/sport-fitness/kampfsport/fitboxing-basics-7452264402835763645.html
END:VEVENT
BEGIN:VEVENT
UID:20260424T072536Z-7451920068420598937@eventfrog.at
DTSTAMP:20260424T072536Z
DTSTART:20260501T083000Z
DTEND:20260501T093000Z
SUMMARY:Fitboxing Basics
DESCRIPTION:Fitboxing ist ein intensives Ganzkörperworkout mit Elementen aus dem Kickboxen. \n\nhttps://eventfrog.at/de/p/sport-fitness/kampfsport/fitboxing-basics-7451920068420598937.html
LOCATION:Marienthaler Str. 137
GEO:50.718820;12.453851
URL:https://eventfrog.at/de/p/sport-fitness/kampfsport/fitboxing-basics-7451920068420598937.html
END:VEVENT
BEGIN:VEVENT
UID:20260424T072536Z-7451982168950087582@eventfrog.at
DTSTAMP:20260424T072536Z
DTSTART:20260504T150000Z
DTEND:20260504T160000Z
SUMMARY:Fitboxing Basics
DESCRIPTION:Fitboxing ist ein intensives Ganzkörperworkout mit Elementen aus dem Kickboxen.\n\nhttps://eventfrog.at/de/p/sport-fitness/kampfsport/fitboxing-basics-7451982168950087582.html
LOCATION:Marienthaler Str. 137
GEO:50.718820;12.453851
URL:https://eventfrog.at/de/p/sport-fitness/kampfsport/fitboxing-basics-7451982168950087582.html
END:VEVENT
BEGIN:VEVENT
UID:20260424T072536Z-7451982438392188463@eventfrog.at
DTSTAMP:20260424T072536Z
DTSTART:20260508T150000Z
DTEND:20260508T160000Z
SUMMARY:Fitboxing Basics
DESCRIPTION:Fitboxing ist ein intensives Ganzkörperworkout mit Elementen aus dem Kickboxen.\n\nhttps://eventfrog.at/de/p/sport-fitness/kampfsport/fitboxing-basics-7451982438392188463.html
LOCATION:Marienthaler Str. 137
GEO:50.718820;12.453851
URL:https://eventfrog.at/de/p/sport-fitness/kampfsport/fitboxing-basics-7451982438392188463.html
END:VEVENT
BEGIN:VEVENT
UID:20260424T072536Z-7451983515191631985@eventfrog.at
DTSTAMP:20260424T072536Z
DTSTART:20260511T150000Z
DTEND:20260511T160000Z
SUMMARY:Fitboxing Basics
DESCRIPTION:Fitboxing ist ein intensives Ganzkörperworkout mit Elementen aus dem Kickboxen.\n\nhttps://eventfrog.at/de/p/sport-fitness/kampfsport/fitboxing-basics-7451983515191631985.html
LOCATION:Marienthaler Str. 137
GEO:50.718820;12.453851
URL:https://eventfrog.at/de/p/sport-fitness/kampfsport/fitboxing-basics-7451983515191631985.html
END:VEVENT
BEGIN:VEVENT
UID:20260424T072536Z-7451985114077077572@eventfrog.at
DTSTAMP:20260424T072536Z
DTSTART:20260515T150000Z
DTEND:20260515T160000Z
SUMMARY:Fitboxing Basics
DESCRIPTION:Fitboxing ist ein intensives Ganzkörperworkout mit Elementen aus dem Kickboxen.\n\nhttps://eventfrog.at/de/p/sport-fitness/kampfsport/fitboxing-basics-7451985114077077572.html
LOCATION:Marienthaler Str. 137
GEO:50.718820;12.453851
URL:https://eventfrog.at/de/p/sport-fitness/kampfsport/fitboxing-basics-7451985114077077572.html
END:VEVENT
BEGIN:VEVENT
UID:20260424T072536Z-7451985181743786365@eventfrog.at
DTSTAMP:20260424T072536Z
DTSTART:20260518T150000Z
DTEND:20260518T160000Z
SUMMARY:Fitboxing Basics
DESCRIPTION:Fitboxing ist ein intensives Ganzkörperworkout mit Elementen aus dem Kickboxen.\n\nhttps://eventfrog.at/de/p/sport-fitness/kampfsport/fitboxing-basics-7451985181743786365.html
LOCATION:Marienthaler Str. 137
GEO:50.718820;12.453851
URL:https://eventfrog.at/de/p/sport-fitness/kampfsport/fitboxing-basics-7451985181743786365.html
END:VEVENT
BEGIN:VEVENT
UID:20260424T072536Z-7451985181831867250@eventfrog.at
DTSTAMP:20260424T072536Z
DTSTART:20260522T150000Z
DTEND:20260522T160000Z
SUMMARY:Fitboxing Basics
DESCRIPTION:Fitboxing ist ein intensives Ganzkörperworkout mit Elementen aus dem Kickboxen.\n\nhttps://eventfrog.at/de/p/sport-fitness/kampfsport/fitboxing-basics-7451985181831867250.html
LOCATION:Marienthaler Str. 137
GEO:50.718820;12.453851
URL:https://eventfrog.at/de/p/sport-fitness/kampfsport/fitboxing-basics-7451985181831867250.html
END:VEVENT
BEGIN:VEVENT
UID:20260424T072536Z-7451985181907364723@eventfrog.at
DTSTAMP:20260424T072536Z
DTSTART:20260525T083000Z
DTEND:20260525T093000Z
SUMMARY:Fitboxing Basics
DESCRIPTION:Fitboxing ist ein intensives Ganzkörperworkout mit Elementen aus dem Kickboxen.\n\nhttps://eventfrog.at/de/p/sport-fitness/kampfsport/fitboxing-basics-7451985181907364723.html
LOCATION:Marienthaler Str. 137
GEO:50.718820;12.453851
URL:https://eventfrog.at/de/p/sport-fitness/kampfsport/fitboxing-basics-7451985181907364723.html
END:VEVENT
END:VCALENDAR