BEGIN:VCALENDAR
VERSION:2.0
PRODID:EVENTFROG//EVENTGROUP//ICAL
BEGIN:VEVENT
UID:20260423T034456Z-7451980166929059250@eventfrog.at
DTSTAMP:20260423T034456Z
DTSTART:20260425T150000Z
DTEND:20260503T150000Z
SUMMARY:HEELS DANCE WORKSHOP EVENT - by Naomi Romero
DESCRIPTION:2x Heels Dance Workshop Events - Dancing, Learning, Working, Fun + Sip and Yap included  25.04 und 03.05 \n\nhttps://eventfrog.at/de/p/sport-fitness/tanzsport/heels-dance-workshop-event-by-naomi-romero-7451980166929059250.html
LOCATION:Tanzwerk 101
GEO:47.390273;8.507417
URL:https://eventfrog.at/de/p/sport-fitness/tanzsport/heels-dance-workshop-event-by-naomi-romero-7451980166929059250.html
END:VEVENT
END:VCALENDAR