BEGIN:VCALENDAR
VERSION:2.0
PRODID:EVENTFROG//EVENTGROUP//ICAL
BEGIN:VEVENT
UID:20260424T155100Z-7451895671337052060@eventfrog.at
DTSTAMP:20260424T155100Z
DTSTART:20260530T070000Z
DTEND:20260530T130000Z
SUMMARY:CLEAN-UP-ESCHENBACH
DESCRIPTION:Am 30. Mai und 19. September 2026 startet die Umweltkommission Eschenbach mit Fötzeli-Spaziergang und Grillplausch die Kampagne für saubere Spielplätze.\n\nhttps://eventfrog.at/de/p/diverses/clean-up-eschenbach-7451895671337052060.html
LOCATION:Dorftreff Eschenbach
GEO:47.237687;8.918560
URL:https://eventfrog.at/de/p/diverses/clean-up-eschenbach-7451895671337052060.html
END:VEVENT
BEGIN:VEVENT
UID:20260424T155100Z-7451895695357833210@eventfrog.at
DTSTAMP:20260424T155100Z
DTSTART:20260919T070000Z
DTEND:20260919T130000Z
SUMMARY:CLEAN-UP-ESCHENBACH
DESCRIPTION:Am 30. Mai und 19. September 2026 startet die Umweltkommission Eschenbach mit Fötzeli-Spaziergang und Grillplausch die Kampagne für saubere Spielplätze.\n\nhttps://eventfrog.at/de/p/diverses/clean-up-eschenbach-7451895695357833210.html
LOCATION:Dorftreff Eschenbach
GEO:47.237687;8.918560
URL:https://eventfrog.at/de/p/diverses/clean-up-eschenbach-7451895695357833210.html
END:VEVENT
END:VCALENDAR