BEGIN:VCALENDAR
VERSION:2.0
PRODID:EVENTFROG//EVENTGROUP//ICAL
BEGIN:VEVENT
UID:20260424T085024Z-7451826941898848857@eventfrog.at
DTSTAMP:20260424T085024Z
DTSTART:20261107T090000Z
DTEND:20261108T170000Z
SUMMARY:Grundlagen der energetischen Heilung, Teil 1/4 (Sa & So)
DESCRIPTION:Ganzheitliche Heilung: Der Weg zu deinem wahren Selbst\nHeilung erfordert eine harmonische Verbindung von Geist, Emotionen, Körper und Energie für nachhaltige Veränderung.\n\nhttps://eventfrog.at/de/p/gesundheit-spiritualitaet/gesundheit-wohlbefinden/grundlagen-der-energetischen-heilung-teil-1-4-sa-so-7451826941898848857.html
LOCATION:RUUM 8
GEO:47.227448;8.674305
URL:https://eventfrog.at/de/p/gesundheit-spiritualitaet/gesundheit-wohlbefinden/grundlagen-der-energetischen-heilung-teil-1-4-sa-so-7451826941898848857.html
END:VEVENT
BEGIN:VEVENT
UID:20260424T085024Z-7451827191531180060@eventfrog.at
DTSTAMP:20260424T085024Z
DTSTART:20261205T090000Z
DTEND:20261206T170000Z
SUMMARY:Grundlagen der energetischen Heilung, Teil 2/4 (Sa & So)
DESCRIPTION:Ganzheitliche Heilung: Der Weg zu deinem wahren Selbst\nHeilung erfordert eine harmonische Verbindung von Geist, Emotionen, Körper und Energie für nachhaltige Veränderung.\n\nhttps://eventfrog.at/de/p/gesundheit-spiritualitaet/gesundheit-wohlbefinden/grundlagen-der-energetischen-heilung-teil-2-4-sa-so-7451827191531180060.html
LOCATION:RUUM 8
GEO:47.227448;8.674305
URL:https://eventfrog.at/de/p/gesundheit-spiritualitaet/gesundheit-wohlbefinden/grundlagen-der-energetischen-heilung-teil-2-4-sa-so-7451827191531180060.html
END:VEVENT
BEGIN:VEVENT
UID:20260424T085024Z-7451827191665397890@eventfrog.at
DTSTAMP:20260424T085024Z
DTSTART:20270109T090000Z
DTEND:20270110T170000Z
SUMMARY:Grundlagen der energetischen Heilung, Teil 3/4 (Sa & So)
DESCRIPTION:Ganzheitliche Heilung: Der Weg zu deinem wahren Selbst\nHeilung erfordert eine harmonische Verbindung von Geist, Emotionen, Körper und Energie für nachhaltige Veränderung.\n\nhttps://eventfrog.at/de/p/gesundheit-spiritualitaet/gesundheit-wohlbefinden/grundlagen-der-energetischen-heilung-teil-3-4-sa-so-7451827191665397890.html
LOCATION:RUUM 8
GEO:47.227448;8.674305
URL:https://eventfrog.at/de/p/gesundheit-spiritualitaet/gesundheit-wohlbefinden/grundlagen-der-energetischen-heilung-teil-3-4-sa-so-7451827191665397890.html
END:VEVENT
BEGIN:VEVENT
UID:20260424T085024Z-7451827191791227039@eventfrog.at
DTSTAMP:20260424T085024Z
DTSTART:20270213T090000Z
DTEND:20270214T170000Z
SUMMARY:Grundlagen der energetischen Heilung, Teil 4/4 (Sa & So)
DESCRIPTION:Ganzheitliche Heilung: Der Weg zu deinem wahren Selbst\nHeilung erfordert eine harmonische Verbindung von Geist, Emotionen, Körper und Energie für nachhaltige Veränderung.\n\nhttps://eventfrog.at/de/p/gesundheit-spiritualitaet/gesundheit-wohlbefinden/grundlagen-der-energetischen-heilung-teil-4-4-sa-so-7451827191791227039.html
LOCATION:RUUM 8
GEO:47.227448;8.674305
URL:https://eventfrog.at/de/p/gesundheit-spiritualitaet/gesundheit-wohlbefinden/grundlagen-der-energetischen-heilung-teil-4-4-sa-so-7451827191791227039.html
END:VEVENT
END:VCALENDAR