BEGIN:VCALENDAR
VERSION:2.0
PRODID:EVENTFROG//EVENTGROUP//ICAL
BEGIN:VEVENT
UID:20260424T104549Z-7443794995075632003@eventfrog.at
DTSTAMP:20260424T104549Z
DTSTART:20260501T140000Z
SUMMARY:Badebomben-Workshop
DESCRIPTION:Badebomben Workshop bei LUSH\n\nhttps://eventfrog.at/de/p/kurse-seminare/badebomben-workshop-7443794995075632003.html
LOCATION:Lush (Switzerland) AG
GEO:47.424414;9.375418
URL:https://eventfrog.at/de/p/kurse-seminare/badebomben-workshop-7443794995075632003.html
END:VEVENT
BEGIN:VEVENT
UID:20260424T104549Z-7443794995239209860@eventfrog.at
DTSTAMP:20260424T104549Z
DTSTART:20260502T120000Z
SUMMARY:Badebomben-Workshop
DESCRIPTION:Badebomben Workshop bei LUSH\n\nhttps://eventfrog.at/de/p/kurse-seminare/badebomben-workshop-7443794995239209860.html
LOCATION:Lush (Switzerland) AG
GEO:47.424414;9.375418
URL:https://eventfrog.at/de/p/kurse-seminare/badebomben-workshop-7443794995239209860.html
END:VEVENT
END:VCALENDAR