BEGIN:VCALENDAR
VERSION:2.0
PRODID:EVENTFROG//EVENTGROUP//ICAL
BEGIN:VEVENT
UID:20260424T072505Z-7442707599319918288@eventfrog.at
DTSTAMP:20260424T072505Z
DTSTART:20260523T113000Z
DTEND:20260523T221500Z
SUMMARY:heiden festival – Dieci
DESCRIPTION:Über 80 Stunden Live-Musik auf diversen Bühnen.\n\nhttps://eventfrog.at/de/p/konzerte/heiden-festival-dieci-7442707599319918288.html
LOCATION:Heiden
GEO:47.441412;9.529387
URL:https://eventfrog.at/de/p/konzerte/heiden-festival-dieci-7442707599319918288.html
END:VEVENT
BEGIN:VEVENT
UID:20260424T072505Z-7442707599487690449@eventfrog.at
DTSTAMP:20260424T072505Z
DTSTART:20260524T121500Z
DTEND:20260524T223000Z
SUMMARY:heiden festival – Dieci
DESCRIPTION:Über 80 Stunden Live-Musik auf diversen Bühnen.\n\nhttps://eventfrog.at/de/p/konzerte/heiden-festival-dieci-7442707599487690449.html
LOCATION:Heiden
GEO:47.441412;9.529387
URL:https://eventfrog.at/de/p/konzerte/heiden-festival-dieci-7442707599487690449.html
END:VEVENT
BEGIN:VEVENT
UID:20260424T072505Z-7442707599655462610@eventfrog.at
DTSTAMP:20260424T072505Z
DTSTART:20260525T073000Z
DTEND:20260525T143000Z
SUMMARY:heiden festival – Dieci
DESCRIPTION:Über 80 Stunden Live-Musik auf diversen Bühnen.\n\nhttps://eventfrog.at/de/p/konzerte/heiden-festival-dieci-7442707599655462610.html
LOCATION:Heiden
GEO:47.441412;9.529387
URL:https://eventfrog.at/de/p/konzerte/heiden-festival-dieci-7442707599655462610.html
END:VEVENT
END:VCALENDAR