BEGIN:VCALENDAR
VERSION:2.0
PRODID:EVENTFROG//EVENTGROUP//ICAL
BEGIN:VEVENT
UID:20260424T072533Z-7450301577963787354@eventfrog.at
DTSTAMP:20260424T072533Z
DTSTART:20260503T130000Z
SUMMARY:G.O.A.T.: Bock auf Grosse Sprünge
DESCRIPTION:Eine originelle Actionkomödie, Animation.\n\nhttps://eventfrog.at/de/p/freizeit-ausfluege/g-o-a-t-bock-auf-grosse-spruenge-7450301577963787354.html
LOCATION:Kino Rosental
GEO:47.442578;9.533443
URL:https://eventfrog.at/de/p/freizeit-ausfluege/g-o-a-t-bock-auf-grosse-spruenge-7450301577963787354.html
END:VEVENT
BEGIN:VEVENT
UID:20260424T072533Z-7450301578173502586@eventfrog.at
DTSTAMP:20260424T072533Z
DTSTART:20260510T130000Z
SUMMARY:G.O.A.T.: Bock auf Grosse Sprünge
DESCRIPTION:Eine originelle Actionkomödie, Animation.\n\nhttps://eventfrog.at/de/p/freizeit-ausfluege/g-o-a-t-bock-auf-grosse-spruenge-7450301578173502586.html
LOCATION:Kino Rosental
GEO:47.442578;9.533443
URL:https://eventfrog.at/de/p/freizeit-ausfluege/g-o-a-t-bock-auf-grosse-spruenge-7450301578173502586.html
END:VEVENT
BEGIN:VEVENT
UID:20260424T072533Z-7450301578399995139@eventfrog.at
DTSTAMP:20260424T072533Z
DTSTART:20260520T130000Z
SUMMARY:G.O.A.T.: Bock auf Grosse Sprünge
DESCRIPTION:Eine originelle Actionkomödie, Animation.\n\nhttps://eventfrog.at/de/p/freizeit-ausfluege/g-o-a-t-bock-auf-grosse-spruenge-7450301578399995139.html
LOCATION:Kino Rosental
GEO:47.442578;9.533443
URL:https://eventfrog.at/de/p/freizeit-ausfluege/g-o-a-t-bock-auf-grosse-spruenge-7450301578399995139.html
END:VEVENT
END:VCALENDAR