BEGIN:VCALENDAR
VERSION:2.0
PRODID:EVENTFROG//EVENTGROUP//ICAL
BEGIN:VEVENT
UID:20260426T033723Z-7441255988387169362@eventfrog.at
DTSTAMP:20260426T033723Z
DTSTART:20260514T181500Z
SUMMARY:Las corrientes
DESCRIPTION:Las corrientes\n\nhttps://eventfrog.at/de/p/freizeit-ausfluege/las-corrientes-7441255988387169362.html
LOCATION:Kino Cameo
GEO:47.494450;8.718060
URL:https://eventfrog.at/de/p/freizeit-ausfluege/las-corrientes-7441255988387169362.html
END:VEVENT
BEGIN:VEVENT
UID:20260426T033723Z-7441255988559135850@eventfrog.at
DTSTAMP:20260426T033723Z
DTSTART:20260519T160000Z
SUMMARY:Las corrientes
DESCRIPTION:Las corrientes\n\nhttps://eventfrog.at/de/p/freizeit-ausfluege/las-corrientes-7441255988559135850.html
LOCATION:Kino Cameo
GEO:47.494450;8.718060
URL:https://eventfrog.at/de/p/freizeit-ausfluege/las-corrientes-7441255988559135850.html
END:VEVENT
BEGIN:VEVENT
UID:20260426T033723Z-7441255988743685227@eventfrog.at
DTSTAMP:20260426T033723Z
DTSTART:20260526T160000Z
SUMMARY:Las corrientes
DESCRIPTION:Las corrientes\n\nhttps://eventfrog.at/de/p/freizeit-ausfluege/las-corrientes-7441255988743685227.html
LOCATION:Kino Cameo
GEO:47.494450;8.718060
URL:https://eventfrog.at/de/p/freizeit-ausfluege/las-corrientes-7441255988743685227.html
END:VEVENT
BEGIN:VEVENT
UID:20260426T033723Z-7441255988915651780@eventfrog.at
DTSTAMP:20260426T033723Z
DTSTART:20260529T101500Z
SUMMARY:Las corrientes
DESCRIPTION:Las corrientes\n\nhttps://eventfrog.at/de/p/freizeit-ausfluege/las-corrientes-7441255988915651780.html
LOCATION:Kino Cameo
GEO:47.494450;8.718060
URL:https://eventfrog.at/de/p/freizeit-ausfluege/las-corrientes-7441255988915651780.html
END:VEVENT
BEGIN:VEVENT
UID:20260426T033723Z-7441255989083423941@eventfrog.at
DTSTAMP:20260426T033723Z
DTSTART:20260530T181500Z
SUMMARY:Las corrientes
DESCRIPTION:Las corrientes\n\nhttps://eventfrog.at/de/p/freizeit-ausfluege/las-corrientes-7441255989083423941.html
LOCATION:Kino Cameo
GEO:47.494450;8.718060
URL:https://eventfrog.at/de/p/freizeit-ausfluege/las-corrientes-7441255989083423941.html
END:VEVENT
END:VCALENDAR