BEGIN:VCALENDAR
VERSION:2.0
PRODID:EVENTFROG//EVENTGROUP//ICAL
BEGIN:VEVENT
UID:20260424T062239Z-7451748252863466356@eventfrog.at
DTSTAMP:20260424T062239Z
DTSTART:20260505T183000Z
SUMMARY:37. Schaffhauser Jazzfestival
DESCRIPTION:Diverse Acts.\n\nhttps://eventfrog.at/de/p/konzerte/37-schaffhauser-jazzfestival-7451748252863466356.html
LOCATION:Kammgarn
GEO:47.695890;8.638049
URL:https://eventfrog.at/de/p/konzerte/37-schaffhauser-jazzfestival-7451748252863466356.html
END:VEVENT
BEGIN:VEVENT
UID:20260424T062239Z-7451748253219982200@eventfrog.at
DTSTAMP:20260424T062239Z
DTSTART:20260506T180000Z
SUMMARY:37. Schaffhauser Jazzfestival
DESCRIPTION:Diverse Acts.\n\nhttps://eventfrog.at/de/p/konzerte/37-schaffhauser-jazzfestival-7451748253219982200.html
LOCATION:Kammgarn
GEO:47.695890;8.638049
URL:https://eventfrog.at/de/p/konzerte/37-schaffhauser-jazzfestival-7451748253219982200.html
END:VEVENT
BEGIN:VEVENT
UID:20260424T062239Z-7451748253031238517@eventfrog.at
DTSTAMP:20260424T062239Z
DTSTART:20260507T180000Z
SUMMARY:37. Schaffhauser Jazzfestival
DESCRIPTION:Diverse Acts.\n\nhttps://eventfrog.at/de/p/konzerte/37-schaffhauser-jazzfestival-7451748253031238517.html
LOCATION:Kammgarn
GEO:47.695890;8.638049
URL:https://eventfrog.at/de/p/konzerte/37-schaffhauser-jazzfestival-7451748253031238517.html
END:VEVENT
BEGIN:VEVENT
UID:20260424T062239Z-7451748253400337285@eventfrog.at
DTSTAMP:20260424T062239Z
DTSTART:20260508T180000Z
SUMMARY:37. Schaffhauser Jazzfestival
DESCRIPTION:Diverse Acts.\n\nhttps://eventfrog.at/de/p/konzerte/37-schaffhauser-jazzfestival-7451748253400337285.html
LOCATION:Kammgarn
GEO:47.695890;8.638049
URL:https://eventfrog.at/de/p/konzerte/37-schaffhauser-jazzfestival-7451748253400337285.html
END:VEVENT
BEGIN:VEVENT
UID:20260424T062239Z-7451748253576498056@eventfrog.at
DTSTAMP:20260424T062239Z
DTSTART:20260509T173000Z
SUMMARY:37. Schaffhauser Jazzfestival
DESCRIPTION:Diverse Acts.\n\nhttps://eventfrog.at/de/p/konzerte/37-schaffhauser-jazzfestival-7451748253576498056.html
LOCATION:Kammgarn
GEO:47.695890;8.638049
URL:https://eventfrog.at/de/p/konzerte/37-schaffhauser-jazzfestival-7451748253576498056.html
END:VEVENT
END:VCALENDAR