BEGIN:VCALENDAR
VERSION:2.0
PRODID:EVENTFROG//EVENTGROUP//ICAL
BEGIN:VEVENT
UID:20260420T005630Z-7403564733419281598@eventfrog.at
DTSTAMP:20260420T005630Z
DTSTART:20260521T173000Z
DTEND:20260521T190000Z
SUMMARY:Bernarda Albas Haus
DESCRIPTION:Schauspiel von Alice Birch nach Federico García Lorca.\n\nhttps://eventfrog.at/de/p/theater-buehne/bernarda-albas-haus-7403564733419281598.html
LOCATION:Theater Winterthur
GEO:47.502060;8.727860
URL:https://eventfrog.at/de/p/theater-buehne/bernarda-albas-haus-7403564733419281598.html
END:VEVENT
BEGIN:VEVENT
UID:20260420T005630Z-7403564733582859455@eventfrog.at
DTSTAMP:20260420T005630Z
DTSTART:20260522T173000Z
DTEND:20260522T190000Z
SUMMARY:Bernarda Albas Haus
DESCRIPTION:Schauspiel von Alice Birch nach Federico García Lorca.\n\nhttps://eventfrog.at/de/p/theater-buehne/bernarda-albas-haus-7403564733582859455.html
LOCATION:Theater Winterthur
GEO:47.502060;8.727860
URL:https://eventfrog.at/de/p/theater-buehne/bernarda-albas-haus-7403564733582859455.html
END:VEVENT
END:VCALENDAR