BEGIN:VCALENDAR
VERSION:2.0
PRODID:EVENTFROG//EVENTGROUP//ICAL
BEGIN:VEVENT
UID:20260420T205339Z-7451623105926008810@eventfrog.at
DTSTAMP:20260420T205339Z
DTSTART:20260425T130000Z
DTEND:20260830T180000Z
SUMMARY:Virgin Guards Magdeburg Dauerkarte - Saison 2026 (Heim)
DESCRIPTION:Sichere dir die Saisonkarte für alle 5 Heimspiele der Virgin Guards Magdeburg 2026 und erlebe volle Action live auf dem Spielfeld.\n\nhttps://eventfrog.at/de/p/sport-fitness/american-football/virgin-guards-magdeburg-dauerkarte-saison-2026-heim-7451623105926008810.html
LOCATION:Heinrich Germer Stadion
GEO:52.105740;11.601539
URL:https://eventfrog.at/de/p/sport-fitness/american-football/virgin-guards-magdeburg-dauerkarte-saison-2026-heim-7451623105926008810.html
END:VEVENT
BEGIN:VEVENT
UID:20260420T205339Z-7451648781894828271@eventfrog.at
DTSTAMP:20260420T205339Z
DTSTART:20260425T130000Z
DTEND:20260425T170000Z
SUMMARY:Virgin Guards Magdeburg vs. Erfurt Indigos (Heim)
DESCRIPTION:25.04.: Revanche gegen die Indigos – nach der Heimniederlage letzte Saison wollen wir Antwort geben.\n\n\nhttps://eventfrog.at/de/p/sport-fitness/american-football/virgin-guards-magdeburg-vs-erfurt-indigos-heim-7451648781894828271.html
LOCATION:Heinrich Germer Stadion
GEO:52.105740;11.601539
URL:https://eventfrog.at/de/p/sport-fitness/american-football/virgin-guards-magdeburg-vs-erfurt-indigos-heim-7451648781894828271.html
END:VEVENT
END:VCALENDAR