BEGIN:VCALENDAR
VERSION:2.0
PRODID:EVENTFROG//EVENTGROUP//ICAL
BEGIN:VEVENT
UID:20260425T151815Z-7451572274753214655@eventfrog.at
DTSTAMP:20260425T151815Z
DTSTART:20260605T173000Z
SUMMARY:Musical OZ Thurzelg
DESCRIPTION:Schüler zeigen The Greatest Showman in drei Aufführungen im OZ Thurzelg mit Musik, Tanz und Emotionen. Jetzt Tickets sichern!\n\nhttps://eventfrog.at/de/p/musicals-shows/musical/musical-oz-thurzelg-7451572274753214655.html
LOCATION:Mehrzweckhalle Thurzelg
GEO:47.452360;9.165980
URL:https://eventfrog.at/de/p/musicals-shows/musical/musical-oz-thurzelg-7451572274753214655.html
END:VEVENT
END:VCALENDAR