BEGIN:VCALENDAR
VERSION:2.0
PRODID:EVENTFROG//EVENTGROUP//ICAL
BEGIN:VEVENT
UID:20260419T165906Z-7437633636025807027@eventfrog.at
DTSTAMP:20260419T165906Z
DTSTART:20260426T130000Z
SUMMARY:Jazzy – Chaos im Regenwald
DESCRIPTION:Animation von Tim Harper.\n\nhttps://eventfrog.at/de/p/freizeit-ausfluege/jazzy-chaos-im-regenwald-7437633636025807027.html
LOCATION:Kino Rosental
GEO:47.442578;9.533443
URL:https://eventfrog.at/de/p/freizeit-ausfluege/jazzy-chaos-im-regenwald-7437633636025807027.html
END:VEVENT
BEGIN:VEVENT
UID:20260419T165906Z-7450301465124413996@eventfrog.at
DTSTAMP:20260419T165906Z
DTSTART:20260506T130000Z
SUMMARY:Jazzy – Chaos im Regenwald
DESCRIPTION:Animation von Tim Harper.\n\nhttps://eventfrog.at/de/p/freizeit-ausfluege/jazzy-chaos-im-regenwald-7450301465124413996.html
LOCATION:Kino Rosental
GEO:47.442578;9.533443
URL:https://eventfrog.at/de/p/freizeit-ausfluege/jazzy-chaos-im-regenwald-7450301465124413996.html
END:VEVENT
BEGIN:VEVENT
UID:20260419T165906Z-7450301465287991854@eventfrog.at
DTSTAMP:20260419T165906Z
DTSTART:20260513T130000Z
SUMMARY:Jazzy – Chaos im Regenwald
DESCRIPTION:Animation von Tim Harper.\n\nhttps://eventfrog.at/de/p/freizeit-ausfluege/jazzy-chaos-im-regenwald-7450301465287991854.html
LOCATION:Kino Rosental
GEO:47.442578;9.533443
URL:https://eventfrog.at/de/p/freizeit-ausfluege/jazzy-chaos-im-regenwald-7450301465287991854.html
END:VEVENT
END:VCALENDAR