BEGIN:VCALENDAR
VERSION:2.0
PRODID:EVENTFROG//EVENTGROUP//ICAL
BEGIN:VEVENT
UID:20260424T214230Z-7451389890640481961@eventfrog.at
DTSTAMP:20260424T214230Z
DTSTART:20260619T180000Z
SUMMARY:Charles Nguela
DESCRIPTION:Charles Nguela\n\nhttps://eventfrog.at/de/p/theater-buehne/charles-nguela-7451389890640481961.html
LOCATION:Casinotheater
GEO:47.499716;8.726641
URL:https://eventfrog.at/de/p/theater-buehne/charles-nguela-7451389890640481961.html
END:VEVENT
BEGIN:VEVENT
UID:20260424T214230Z-7451389893001875132@eventfrog.at
DTSTAMP:20260424T214230Z
DTSTART:20260620T150000Z
SUMMARY:Charles Nguela
DESCRIPTION:Charles Nguela\n\nhttps://eventfrog.at/de/p/theater-buehne/charles-nguela-7451389893001875132.html
LOCATION:Casinotheater
GEO:47.499716;8.726641
URL:https://eventfrog.at/de/p/theater-buehne/charles-nguela-7451389893001875132.html
END:VEVENT
BEGIN:VEVENT
UID:20260424T214230Z-7451389895388434268@eventfrog.at
DTSTAMP:20260424T214230Z
DTSTART:20260620T180000Z
SUMMARY:Charles Nguela
DESCRIPTION:Charles Nguela\n\nhttps://eventfrog.at/de/p/theater-buehne/charles-nguela-7451389895388434268.html
LOCATION:Casinotheater
GEO:47.499716;8.726641
URL:https://eventfrog.at/de/p/theater-buehne/charles-nguela-7451389895388434268.html
END:VEVENT
BEGIN:VEVENT
UID:20260424T214230Z-7451389897728855946@eventfrog.at
DTSTAMP:20260424T214230Z
DTSTART:20261111T190000Z
SUMMARY:Charles Nguela
DESCRIPTION:Charles Nguela\n\nhttps://eventfrog.at/de/p/theater-buehne/charles-nguela-7451389897728855946.html
LOCATION:Casinotheater
GEO:47.499716;8.726641
URL:https://eventfrog.at/de/p/theater-buehne/charles-nguela-7451389897728855946.html
END:VEVENT
BEGIN:VEVENT
UID:20260424T214230Z-7451389900094443413@eventfrog.at
DTSTAMP:20260424T214230Z
DTSTART:20261112T190000Z
SUMMARY:Charles Nguela
DESCRIPTION:Charles Nguela\n\nhttps://eventfrog.at/de/p/theater-buehne/charles-nguela-7451389900094443413.html
LOCATION:Casinotheater
GEO:47.499716;8.726641
URL:https://eventfrog.at/de/p/theater-buehne/charles-nguela-7451389900094443413.html
END:VEVENT
END:VCALENDAR