BEGIN:VCALENDAR
VERSION:2.0
PRODID:EVENTFROG//EVENTGROUP//ICAL
BEGIN:VEVENT
UID:20260419T215345Z-7451385362163719468@eventfrog.at
DTSTAMP:20260419T215345Z
DTSTART:20260509T150000Z
SUMMARY:Tanzfest Winterthur: Society
DESCRIPTION:Tanzfest Winterthur: Society\n\nhttps://eventfrog.at/de/p/theater-buehne/tanzfest-winterthur-society-7451385362163719468.html
LOCATION:Theater Winterthur
GEO:47.502060;8.727860
URL:https://eventfrog.at/de/p/theater-buehne/tanzfest-winterthur-society-7451385362163719468.html
END:VEVENT
BEGIN:VEVENT
UID:20260419T215345Z-7451385362339880237@eventfrog.at
DTSTAMP:20260419T215345Z
DTSTART:20260509T180000Z
SUMMARY:Tanzfest Winterthur: Society
DESCRIPTION:Tanzfest Winterthur: Society\n\nhttps://eventfrog.at/de/p/theater-buehne/tanzfest-winterthur-society-7451385362339880237.html
LOCATION:Theater Winterthur
GEO:47.502060;8.727860
URL:https://eventfrog.at/de/p/theater-buehne/tanzfest-winterthur-society-7451385362339880237.html
END:VEVENT
END:VCALENDAR