BEGIN:VCALENDAR
VERSION:2.0
PRODID:EVENTFROG//EVENTGROUP//ICAL
BEGIN:VEVENT
UID:20260421T172354Z-7451287109489412739@eventfrog.at
DTSTAMP:20260421T172354Z
DTSTART:20260928T163000Z
DTEND:20260928T193000Z
SUMMARY:GEORGISCHES FESTESSEN
DESCRIPTION:Georgisches Familienessen mit traditionellen Gerichten, hausgemachten Spezialitäten und georgischem Wein in festlicher Atmosphäre.\n\nhttps://eventfrog.at/de/p/essen-trinken/georgisches-festessen-7451287109489412739.html
LOCATION:Speiselokal Botanica
GEO:52.124513;11.628974
URL:https://eventfrog.at/de/p/essen-trinken/georgisches-festessen-7451287109489412739.html
END:VEVENT
BEGIN:VEVENT
UID:20260421T172354Z-7451287618015226744@eventfrog.at
DTSTAMP:20260421T172354Z
DTSTART:20260929T163000Z
DTEND:20260929T193000Z
SUMMARY:GEORGISCHES FESTESSEN
DESCRIPTION:Georgisches Familienessen mit traditionellen Gerichten, hausgemachten Spezialitäten und georgischem Wein in festlicher Atmosphäre.\n\nhttps://eventfrog.at/de/p/essen-trinken/georgisches-festessen-7451287618015226744.html
LOCATION:Speiselokal Botanica
GEO:52.124513;11.628974
URL:https://eventfrog.at/de/p/essen-trinken/georgisches-festessen-7451287618015226744.html
END:VEVENT
END:VCALENDAR