BEGIN:VCALENDAR
VERSION:2.0
PRODID:EVENTFROG//EVENTGROUP//ICAL
BEGIN:VEVENT
UID:20260421T183702Z-7451282969098978505@eventfrog.at
DTSTAMP:20260421T183702Z
DTSTART:20260530T183000Z
SUMMARY:The Prom - das Musical
DESCRIPTION:Das Musical «The Prom» erzählt mit Herz und Humor, wie Broadway-Stars gegen Ausgrenzung und konservative Moralvorstellungen kämpfen.\n\nhttps://eventfrog.at/de/p/musicals-shows/musical/the-prom-das-musical-7451282969098978505.html
LOCATION:Münsterländische Freilichtbühne  Greven-Reckenfeld e.V.
GEO:52.139434;7.546208
URL:https://eventfrog.at/de/p/musicals-shows/musical/the-prom-das-musical-7451282969098978505.html
END:VEVENT
BEGIN:VEVENT
UID:20260421T183702Z-7451283969352442857@eventfrog.at
DTSTAMP:20260421T183702Z
DTSTART:20260612T183000Z
SUMMARY:The Prom - das Musical
DESCRIPTION:Das Musical «The Prom» erzählt mit Herz und Humor, wie Broadway-Stars gegen Ausgrenzung und konservative Moralvorstellungen kämpfen.\n\nhttps://eventfrog.at/de/p/musicals-shows/musical/the-prom-das-musical-7451283969352442857.html
LOCATION:Münsterländische Freilichtbühne  Greven-Reckenfeld e.V.
GEO:52.139434;7.546208
URL:https://eventfrog.at/de/p/musicals-shows/musical/the-prom-das-musical-7451283969352442857.html
END:VEVENT
BEGIN:VEVENT
UID:20260421T183702Z-7451283969583130204@eventfrog.at
DTSTAMP:20260421T183702Z
DTSTART:20260613T183000Z
SUMMARY:The Prom - das Musical
DESCRIPTION:Das Musical «The Prom» erzählt mit Herz und Humor, wie Broadway-Stars gegen Ausgrenzung und konservative Moralvorstellungen kämpfen.\n\nhttps://eventfrog.at/de/p/musicals-shows/musical/the-prom-das-musical-7451283969583130204.html
LOCATION:Münsterländische Freilichtbühne  Greven-Reckenfeld e.V.
GEO:52.139434;7.546208
URL:https://eventfrog.at/de/p/musicals-shows/musical/the-prom-das-musical-7451283969583130204.html
END:VEVENT
BEGIN:VEVENT
UID:20260421T183702Z-7451283969700570760@eventfrog.at
DTSTAMP:20260421T183702Z
DTSTART:20260620T183000Z
SUMMARY:The Prom - das Musical
DESCRIPTION:Das Musical «The Prom» erzählt mit Herz und Humor, wie Broadway-Stars gegen Ausgrenzung und konservative Moralvorstellungen kämpfen.\n\nhttps://eventfrog.at/de/p/musicals-shows/musical/the-prom-das-musical-7451283969700570760.html
LOCATION:Münsterländische Freilichtbühne  Greven-Reckenfeld e.V.
GEO:52.139434;7.546208
URL:https://eventfrog.at/de/p/musicals-shows/musical/the-prom-das-musical-7451283969700570760.html
END:VEVENT
BEGIN:VEVENT
UID:20260421T183702Z-7451283969826399925@eventfrog.at
DTSTAMP:20260421T183702Z
DTSTART:20260626T183000Z
SUMMARY:The Prom - das Musical
DESCRIPTION:Das Musical «The Prom» erzählt mit Herz und Humor, wie Broadway-Stars gegen Ausgrenzung und konservative Moralvorstellungen kämpfen.\n\nhttps://eventfrog.at/de/p/musicals-shows/musical/the-prom-das-musical-7451283969826399925.html
LOCATION:Münsterländische Freilichtbühne  Greven-Reckenfeld e.V.
GEO:52.139434;7.546208
URL:https://eventfrog.at/de/p/musicals-shows/musical/the-prom-das-musical-7451283969826399925.html
END:VEVENT
BEGIN:VEVENT
UID:20260421T183702Z-7451283969948034749@eventfrog.at
DTSTAMP:20260421T183702Z
DTSTART:20260703T183000Z
SUMMARY:The Prom - das Musical
DESCRIPTION:Das Musical «The Prom» erzählt mit Herz und Humor, wie Broadway-Stars gegen Ausgrenzung und konservative Moralvorstellungen kämpfen.\n\nhttps://eventfrog.at/de/p/musicals-shows/musical/the-prom-das-musical-7451283969948034749.html
LOCATION:Münsterländische Freilichtbühne  Greven-Reckenfeld e.V.
GEO:52.139434;7.546208
URL:https://eventfrog.at/de/p/musicals-shows/musical/the-prom-das-musical-7451283969948034749.html
END:VEVENT
BEGIN:VEVENT
UID:20260421T183702Z-7451283970082252479@eventfrog.at
DTSTAMP:20260421T183702Z
DTSTART:20260710T183000Z
SUMMARY:The Prom - das Musical
DESCRIPTION:Das Musical «The Prom» erzählt mit Herz und Humor, wie Broadway-Stars gegen Ausgrenzung und konservative Moralvorstellungen kämpfen.\n\nhttps://eventfrog.at/de/p/musicals-shows/musical/the-prom-das-musical-7451283970082252479.html
LOCATION:Münsterländische Freilichtbühne  Greven-Reckenfeld e.V.
GEO:52.139434;7.546208
URL:https://eventfrog.at/de/p/musicals-shows/musical/the-prom-das-musical-7451283970082252479.html
END:VEVENT
BEGIN:VEVENT
UID:20260421T183702Z-7451283970208081679@eventfrog.at
DTSTAMP:20260421T183702Z
DTSTART:20260712T140000Z
SUMMARY:The Prom - das Musical
DESCRIPTION:Das Musical «The Prom» erzählt mit Herz und Humor, wie Broadway-Stars gegen Ausgrenzung und konservative Moralvorstellungen kämpfen.\n\nhttps://eventfrog.at/de/p/musicals-shows/musical/the-prom-das-musical-7451283970208081679.html
LOCATION:Münsterländische Freilichtbühne  Greven-Reckenfeld e.V.
GEO:52.139434;7.546208
URL:https://eventfrog.at/de/p/musicals-shows/musical/the-prom-das-musical-7451283970208081679.html
END:VEVENT
BEGIN:VEVENT
UID:20260421T183702Z-7451283970325522199@eventfrog.at
DTSTAMP:20260421T183702Z
DTSTART:20260718T183000Z
SUMMARY:The Prom - das Musical
DESCRIPTION:Das Musical «The Prom» erzählt mit Herz und Humor, wie Broadway-Stars gegen Ausgrenzung und konservative Moralvorstellungen kämpfen.\n\nhttps://eventfrog.at/de/p/musicals-shows/musical/the-prom-das-musical-7451283970325522199.html
LOCATION:Münsterländische Freilichtbühne  Greven-Reckenfeld e.V.
GEO:52.139434;7.546208
URL:https://eventfrog.at/de/p/musicals-shows/musical/the-prom-das-musical-7451283970325522199.html
END:VEVENT
BEGIN:VEVENT
UID:20260421T183702Z-7451283970447157031@eventfrog.at
DTSTAMP:20260421T183702Z
DTSTART:20260814T183000Z
SUMMARY:The Prom - das Musical
DESCRIPTION:Das Musical «The Prom» erzählt mit Herz und Humor, wie Broadway-Stars gegen Ausgrenzung und konservative Moralvorstellungen kämpfen.\n\nhttps://eventfrog.at/de/p/musicals-shows/musical/the-prom-das-musical-7451283970447157031.html
LOCATION:Münsterländische Freilichtbühne  Greven-Reckenfeld e.V.
GEO:52.139434;7.546208
URL:https://eventfrog.at/de/p/musicals-shows/musical/the-prom-das-musical-7451283970447157031.html
END:VEVENT
BEGIN:VEVENT
UID:20260421T183702Z-7451286548375431564@eventfrog.at
DTSTAMP:20260421T183702Z
DTSTART:20260828T183000Z
SUMMARY:The Prom - das Musical
DESCRIPTION:Das Musical «The Prom» erzählt mit Herz und Humor, wie Broadway-Stars gegen Ausgrenzung und konservative Moralvorstellungen kämpfen.\n\nhttps://eventfrog.at/de/p/musicals-shows/musical/the-prom-das-musical-7451286548375431564.html
LOCATION:Münsterländische Freilichtbühne  Greven-Reckenfeld e.V.
GEO:52.139434;7.546208
URL:https://eventfrog.at/de/p/musicals-shows/musical/the-prom-das-musical-7451286548375431564.html
END:VEVENT
BEGIN:VEVENT
UID:20260421T183702Z-7451286705389213342@eventfrog.at
DTSTAMP:20260421T183702Z
DTSTART:20260904T183000Z
SUMMARY:The Prom - das Musical
DESCRIPTION:Das Musical «The Prom» erzählt mit Herz und Humor, wie Broadway-Stars gegen Ausgrenzung und konservative Moralvorstellungen kämpfen.\n\nhttps://eventfrog.at/de/p/musicals-shows/musical/the-prom-das-musical-7451286705389213342.html
LOCATION:Münsterländische Freilichtbühne  Greven-Reckenfeld e.V.
GEO:52.139434;7.546208
URL:https://eventfrog.at/de/p/musicals-shows/musical/the-prom-das-musical-7451286705389213342.html
END:VEVENT
BEGIN:VEVENT
UID:20260421T183702Z-7451286845348959938@eventfrog.at
DTSTAMP:20260421T183702Z
DTSTART:20260905T183000Z
SUMMARY:The Prom - das Musical
DESCRIPTION:Das Musical «The Prom» erzählt mit Herz und Humor, wie Broadway-Stars gegen Ausgrenzung und konservative Moralvorstellungen kämpfen.\n\nhttps://eventfrog.at/de/p/musicals-shows/musical/the-prom-das-musical-7451286845348959938.html
LOCATION:Münsterländische Freilichtbühne  Greven-Reckenfeld e.V.
GEO:52.139434;7.546208
URL:https://eventfrog.at/de/p/musicals-shows/musical/the-prom-das-musical-7451286845348959938.html
END:VEVENT
BEGIN:VEVENT
UID:20260421T183702Z-7451286957848591803@eventfrog.at
DTSTAMP:20260421T183702Z
DTSTART:20260911T183000Z
SUMMARY:The Prom - das Musical
DESCRIPTION:Das Musical «The Prom» erzählt mit Herz und Humor, wie Broadway-Stars gegen Ausgrenzung und konservative Moralvorstellungen kämpfen.\n\nhttps://eventfrog.at/de/p/musicals-shows/musical/the-prom-das-musical-7451286957848591803.html
LOCATION:Münsterländische Freilichtbühne  Greven-Reckenfeld e.V.
GEO:52.139434;7.546208
URL:https://eventfrog.at/de/p/musicals-shows/musical/the-prom-das-musical-7451286957848591803.html
END:VEVENT
BEGIN:VEVENT
UID:20260421T183702Z-7451287059572993940@eventfrog.at
DTSTAMP:20260421T183702Z
DTSTART:20260912T183000Z
SUMMARY:The Prom - das Musical
DESCRIPTION:Das Musical «The Prom» erzählt mit Herz und Humor, wie Broadway-Stars gegen Ausgrenzung und konservative Moralvorstellungen kämpfen.\n\nhttps://eventfrog.at/de/p/musicals-shows/musical/the-prom-das-musical-7451287059572993940.html
LOCATION:Münsterländische Freilichtbühne  Greven-Reckenfeld e.V.
GEO:52.139434;7.546208
URL:https://eventfrog.at/de/p/musicals-shows/musical/the-prom-das-musical-7451287059572993940.html
END:VEVENT
END:VCALENDAR