BEGIN:VCALENDAR
VERSION:2.0
PRODID:EVENTFROG//EVENTGROUP//ICAL
BEGIN:VEVENT
UID:20260422T182829Z-7451271714070113290@eventfrog.at
DTSTAMP:20260422T182829Z
DTSTART:20260425T133000Z
DTEND:20260425T153000Z
SUMMARY:Trommelkreis in Eberstadt monatlich - Samstag
DESCRIPTION:Trommeln für Erwachsene in DA-Eberstadt monatlich im priv. Trommelkreis - Djembe-Leihtrommel möglich!\n\nhttps://eventfrog.at/de/p/kurse-seminare/musik-tanz/trommelkreis-in-eberstadt-monatlich-samstag-7451271714070113290.html
LOCATION:monatlicher priv. Trommelkreis/ kein Ticket
URL:https://eventfrog.at/de/p/kurse-seminare/musik-tanz/trommelkreis-in-eberstadt-monatlich-samstag-7451271714070113290.html
END:VEVENT
BEGIN:VEVENT
UID:20260422T182829Z-7451271714149805069@eventfrog.at
DTSTAMP:20260422T182829Z
DTSTART:20260502T133000Z
DTEND:20260502T153000Z
SUMMARY:Trommelkreis in Eberstadt monatlich - Samstag
DESCRIPTION:Trommeln für Erwachsene in DA-Eberstadt monatlich im priv. Trommelkreis - Djembe-Leihtrommel möglich!\n\nhttps://eventfrog.at/de/p/kurse-seminare/musik-tanz/trommelkreis-in-eberstadt-monatlich-samstag-7451271714149805069.html
LOCATION:monatlicher priv. Trommelkreis/ kein Ticket
URL:https://eventfrog.at/de/p/kurse-seminare/musik-tanz/trommelkreis-in-eberstadt-monatlich-samstag-7451271714149805069.html
END:VEVENT
BEGIN:VEVENT
UID:20260422T182829Z-7451271714216913935@eventfrog.at
DTSTAMP:20260422T182829Z
DTSTART:20260509T133000Z
DTEND:20260509T153000Z
SUMMARY:Trommelkreis in Eberstadt monatlich - Samstag
DESCRIPTION:Trommeln für Erwachsene in DA-Eberstadt monatlich im priv. Trommelkreis - Djembe-Leihtrommel möglich!\n\nhttps://eventfrog.at/de/p/kurse-seminare/musik-tanz/trommelkreis-in-eberstadt-monatlich-samstag-7451271714216913935.html
LOCATION:monatlicher priv. Trommelkreis/ kein Ticket
URL:https://eventfrog.at/de/p/kurse-seminare/musik-tanz/trommelkreis-in-eberstadt-monatlich-samstag-7451271714216913935.html
END:VEVENT
BEGIN:VEVENT
UID:20260422T182829Z-7451271714292411409@eventfrog.at
DTSTAMP:20260422T182829Z
DTSTART:20260516T133000Z
DTEND:20260516T153000Z
SUMMARY:Trommelkreis in Eberstadt monatlich - Samstag
DESCRIPTION:Trommeln für Erwachsene in DA-Eberstadt monatlich im priv. Trommelkreis - Djembe-Leihtrommel möglich!\n\nhttps://eventfrog.at/de/p/kurse-seminare/musik-tanz/trommelkreis-in-eberstadt-monatlich-samstag-7451271714292411409.html
LOCATION:monatlicher priv. Trommelkreis/ kein Ticket
URL:https://eventfrog.at/de/p/kurse-seminare/musik-tanz/trommelkreis-in-eberstadt-monatlich-samstag-7451271714292411409.html
END:VEVENT
BEGIN:VEVENT
UID:20260422T182829Z-7451271714372103187@eventfrog.at
DTSTAMP:20260422T182829Z
DTSTART:20260523T133000Z
DTEND:20260523T153000Z
SUMMARY:Trommelkreis in Eberstadt monatlich - Samstag
DESCRIPTION:Trommeln für Erwachsene in DA-Eberstadt monatlich im priv. Trommelkreis - Djembe-Leihtrommel möglich!\n\nhttps://eventfrog.at/de/p/kurse-seminare/musik-tanz/trommelkreis-in-eberstadt-monatlich-samstag-7451271714372103187.html
LOCATION:monatlicher priv. Trommelkreis/ kein Ticket
URL:https://eventfrog.at/de/p/kurse-seminare/musik-tanz/trommelkreis-in-eberstadt-monatlich-samstag-7451271714372103187.html
END:VEVENT
BEGIN:VEVENT
UID:20260422T182829Z-7451271714435017749@eventfrog.at
DTSTAMP:20260422T182829Z
DTSTART:20260530T133000Z
DTEND:20260530T153000Z
SUMMARY:Trommelkreis in Eberstadt monatlich - Samstag
DESCRIPTION:Trommeln für Erwachsene in DA-Eberstadt monatlich im priv. Trommelkreis - Djembe-Leihtrommel möglich!\n\nhttps://eventfrog.at/de/p/kurse-seminare/musik-tanz/trommelkreis-in-eberstadt-monatlich-samstag-7451271714435017749.html
LOCATION:monatlicher priv. Trommelkreis/ kein Ticket
URL:https://eventfrog.at/de/p/kurse-seminare/musik-tanz/trommelkreis-in-eberstadt-monatlich-samstag-7451271714435017749.html
END:VEVENT
END:VCALENDAR