BEGIN:VCALENDAR
VERSION:2.0
PRODID:EVENTFROG//EVENTGROUP//ICAL
BEGIN:VEVENT
UID:20260421T172354Z-7451263874890771426@eventfrog.at
DTSTAMP:20260421T172354Z
DTSTART:20260423T150000Z
DTEND:20260423T180000Z
SUMMARY:DIY Donnerstag im Sacred Space Lüneburg • Kintsugi Workshop
DESCRIPTION:Am 23. April reparierst du im Workshop eigene Keramik mit goldenen Akzenten und erfährst die Philosophie von Kintsugi.\n\nhttps://eventfrog.at/de/p/kurse-seminare/kunst-kultur/diy-donnerstag-im-sacred-space-lueneburg-kintsugi-workshop-7451263874890771426.html
LOCATION:Ahlert (Sacred Space Lüneburg)
GEO:53.248602;10.413162
URL:https://eventfrog.at/de/p/kurse-seminare/kunst-kultur/diy-donnerstag-im-sacred-space-lueneburg-kintsugi-workshop-7451263874890771426.html
END:VEVENT
END:VCALENDAR