BEGIN:VCALENDAR
VERSION:2.0
PRODID:EVENTFROG//EVENTGROUP//ICAL
BEGIN:VEVENT
UID:20260422T182829Z-7451227656794726450@eventfrog.at
DTSTAMP:20260422T182829Z
DTSTART:20260618T163000Z
DTEND:20260618T203000Z
SUMMARY:Eat the Film - Charlie und die Schokoladenfabrik
DESCRIPTION:Zu« Charlie und die Schokoladenfabrik »geniesst du ein Menü, das perfekt zu den Filmszenen passt und das Kinoerlebnis vertieft.\n\nhttps://eventfrog.at/de/p/essen-trinken/eat-the-film-charlie-und-die-schokoladenfabrik-7451227656794726450.html
LOCATION:Pishi
GEO:47.344570;7.918516
URL:https://eventfrog.at/de/p/essen-trinken/eat-the-film-charlie-und-die-schokoladenfabrik-7451227656794726450.html
END:VEVENT
BEGIN:VEVENT
UID:20260422T182829Z-7451228246341888080@eventfrog.at
DTSTAMP:20260422T182829Z
DTSTART:20260619T163000Z
DTEND:20260619T203000Z
SUMMARY:Eat the Film - Charlie und die Schokoladenfabrik
DESCRIPTION:Zu« Charlie und die Schokoladenfabrik »geniesst du ein Menü, das perfekt zu den Filmszenen passt und das Kinoerlebnis vertieft.\n\nhttps://eventfrog.at/de/p/essen-trinken/eat-the-film-charlie-und-die-schokoladenfabrik-7451228246341888080.html
LOCATION:Pishi
GEO:47.344570;7.918516
URL:https://eventfrog.at/de/p/essen-trinken/eat-the-film-charlie-und-die-schokoladenfabrik-7451228246341888080.html
END:VEVENT
BEGIN:VEVENT
UID:20260422T182829Z-7451228246543215299@eventfrog.at
DTSTAMP:20260422T182829Z
DTSTART:20260620T140000Z
DTEND:20260620T170000Z
SUMMARY:Eat the Film - Charlie und die Schokoladenfabrik
DESCRIPTION:Zu« Charlie und die Schokoladenfabrik »geniesst du ein Menü, das perfekt zu den Filmszenen passt und das Kinoerlebnis vertieft.\n\nhttps://eventfrog.at/de/p/essen-trinken/eat-the-film-charlie-und-die-schokoladenfabrik-7451228246543215299.html
LOCATION:Pishi
GEO:47.344570;7.918516
URL:https://eventfrog.at/de/p/essen-trinken/eat-the-film-charlie-und-die-schokoladenfabrik-7451228246543215299.html
END:VEVENT
BEGIN:VEVENT
UID:20260422T182829Z-7451228246694210311@eventfrog.at
DTSTAMP:20260422T182829Z
DTSTART:20260620T180000Z
DTEND:20260620T203000Z
SUMMARY:Eat the Film - Charlie und die Schokoladenfabrik
DESCRIPTION:Zu« Charlie und die Schokoladenfabrik »geniesst du ein Menü, das perfekt zu den Filmszenen passt und das Kinoerlebnis vertieft.\n\nhttps://eventfrog.at/de/p/essen-trinken/eat-the-film-charlie-und-die-schokoladenfabrik-7451228246694210311.html
LOCATION:Pishi
GEO:47.344570;7.918516
URL:https://eventfrog.at/de/p/essen-trinken/eat-the-film-charlie-und-die-schokoladenfabrik-7451228246694210311.html
END:VEVENT
BEGIN:VEVENT
UID:20260422T182829Z-7451228246861982497@eventfrog.at
DTSTAMP:20260422T182829Z
DTSTART:20260621T150000Z
DTEND:20260621T190000Z
SUMMARY:Eat the Film - Charlie und die Schokoladenfabrik
DESCRIPTION:Zu« Charlie und die Schokoladenfabrik »geniesst du ein Menü, das perfekt zu den Filmszenen passt und das Kinoerlebnis vertieft.\n\nhttps://eventfrog.at/de/p/essen-trinken/eat-the-film-charlie-und-die-schokoladenfabrik-7451228246861982497.html
LOCATION:Pishi
GEO:47.344570;7.918516
URL:https://eventfrog.at/de/p/essen-trinken/eat-the-film-charlie-und-die-schokoladenfabrik-7451228246861982497.html
END:VEVENT
BEGIN:VEVENT
UID:20260422T182829Z-7451228247004588835@eventfrog.at
DTSTAMP:20260422T182829Z
DTSTART:20260625T163000Z
DTEND:20260625T203000Z
SUMMARY:Eat the Film - Charlie und die Schokoladenfabrik
DESCRIPTION:Zu« Charlie und die Schokoladenfabrik »geniesst du ein Menü, das perfekt zu den Filmszenen passt und das Kinoerlebnis vertieft.\n\nhttps://eventfrog.at/de/p/essen-trinken/eat-the-film-charlie-und-die-schokoladenfabrik-7451228247004588835.html
LOCATION:Pishi
GEO:47.344570;7.918516
URL:https://eventfrog.at/de/p/essen-trinken/eat-the-film-charlie-und-die-schokoladenfabrik-7451228247004588835.html
END:VEVENT
BEGIN:VEVENT
UID:20260422T182829Z-7451228247126223654@eventfrog.at
DTSTAMP:20260422T182829Z
DTSTART:20260626T163000Z
DTEND:20260626T203000Z
SUMMARY:Eat the Film - Charlie und die Schokoladenfabrik
DESCRIPTION:Zu« Charlie und die Schokoladenfabrik »geniesst du ein Menü, das perfekt zu den Filmszenen passt und das Kinoerlebnis vertieft.\n\nhttps://eventfrog.at/de/p/essen-trinken/eat-the-film-charlie-und-die-schokoladenfabrik-7451228247126223654.html
LOCATION:Pishi
GEO:47.344570;7.918516
URL:https://eventfrog.at/de/p/essen-trinken/eat-the-film-charlie-und-die-schokoladenfabrik-7451228247126223654.html
END:VEVENT
BEGIN:VEVENT
UID:20260422T182829Z-7451228247755369332@eventfrog.at
DTSTAMP:20260422T182829Z
DTSTART:20260627T140000Z
DTEND:20260627T170000Z
SUMMARY:Eat the Film - Charlie und die Schokoladenfabrik
DESCRIPTION:Zu« Charlie und die Schokoladenfabrik »geniesst du ein Menü, das perfekt zu den Filmszenen passt und das Kinoerlebnis vertieft.\n\nhttps://eventfrog.at/de/p/essen-trinken/eat-the-film-charlie-und-die-schokoladenfabrik-7451228247755369332.html
LOCATION:Pishi
GEO:47.344570;7.918516
URL:https://eventfrog.at/de/p/essen-trinken/eat-the-film-charlie-und-die-schokoladenfabrik-7451228247755369332.html
END:VEVENT
BEGIN:VEVENT
UID:20260422T182829Z-7451228247881198460@eventfrog.at
DTSTAMP:20260422T182829Z
DTSTART:20260627T180000Z
DTEND:20260627T203000Z
SUMMARY:Eat the Film - Charlie und die Schokoladenfabrik
DESCRIPTION:Zu« Charlie und die Schokoladenfabrik »geniesst du ein Menü, das perfekt zu den Filmszenen passt und das Kinoerlebnis vertieft.\n\nhttps://eventfrog.at/de/p/essen-trinken/eat-the-film-charlie-und-die-schokoladenfabrik-7451228247881198460.html
LOCATION:Pishi
GEO:47.344570;7.918516
URL:https://eventfrog.at/de/p/essen-trinken/eat-the-film-charlie-und-die-schokoladenfabrik-7451228247881198460.html
END:VEVENT
BEGIN:VEVENT
UID:20260422T182829Z-7451228248002833278@eventfrog.at
DTSTAMP:20260422T182829Z
DTSTART:20260628T150000Z
DTEND:20260628T190000Z
SUMMARY:Eat the Film - Charlie und die Schokoladenfabrik
DESCRIPTION:Zu« Charlie und die Schokoladenfabrik »geniesst du ein Menü, das perfekt zu den Filmszenen passt und das Kinoerlebnis vertieft.\n\nhttps://eventfrog.at/de/p/essen-trinken/eat-the-film-charlie-und-die-schokoladenfabrik-7451228248002833278.html
LOCATION:Pishi
GEO:47.344570;7.918516
URL:https://eventfrog.at/de/p/essen-trinken/eat-the-film-charlie-und-die-schokoladenfabrik-7451228248002833278.html
END:VEVENT
END:VCALENDAR