BEGIN:VCALENDAR
VERSION:2.0
PRODID:EVENTFROG//EVENTGROUP//ICAL
BEGIN:VEVENT
UID:20260421T203528Z-7451212322838731542@eventfrog.at
DTSTAMP:20260421T203528Z
DTSTART:20260529T180000Z
DTEND:20260529T190000Z
SUMMARY:Theaterstück - Laute Schatten
DESCRIPTION:Ein Horrorstück von Miriam Schöpf über das Akzeptieren der eigenen dunklen Seiten begleitet von atmosphärischem Gesang und Schattenspiel.\n\nhttps://eventfrog.at/de/p/theater-buehne/theater/theaterstueck-laute-schatten-7451212322838731542.html
LOCATION:Theater Moller Haus
GEO:49.867875;8.650525
URL:https://eventfrog.at/de/p/theater-buehne/theater/theaterstueck-laute-schatten-7451212322838731542.html
END:VEVENT
BEGIN:VEVENT
UID:20260421T203528Z-7451213226342135573@eventfrog.at
DTSTAMP:20260421T203528Z
DTSTART:20260602T180000Z
SUMMARY:Theaterstück - Laute Schatten
DESCRIPTION:Ein Horrorstück von Miriam Schöpf über das Akzeptieren der eigenen dunklen Seiten begleitet von atmosphärischem Gesang und Schattenspiel.\n\nhttps://eventfrog.at/de/p/theater-buehne/theater/theaterstueck-laute-schatten-7451213226342135573.html
LOCATION:Theater Moller Haus
GEO:49.867875;8.650525
URL:https://eventfrog.at/de/p/theater-buehne/theater/theaterstueck-laute-schatten-7451213226342135573.html
END:VEVENT
BEGIN:VEVENT
UID:20260421T203528Z-7451213226606377353@eventfrog.at
DTSTAMP:20260421T203528Z
DTSTART:20260603T180000Z
SUMMARY:Theaterstück - Laute Schatten
DESCRIPTION:Ein Horrorstück von Miriam Schöpf über das Akzeptieren der eigenen dunklen Seiten begleitet von atmosphärischem Gesang und Schattenspiel.\n\nhttps://eventfrog.at/de/p/theater-buehne/theater/theaterstueck-laute-schatten-7451213226606377353.html
LOCATION:Theater Moller Haus
GEO:49.867875;8.650525
URL:https://eventfrog.at/de/p/theater-buehne/theater/theaterstueck-laute-schatten-7451213226606377353.html
END:VEVENT
BEGIN:VEVENT
UID:20260421T203528Z-7451213226774149580@eventfrog.at
DTSTAMP:20260421T203528Z
DTSTART:20260605T180000Z
SUMMARY:Theaterstück - Laute Schatten
DESCRIPTION:Ein Horrorstück von Miriam Schöpf über das Akzeptieren der eigenen dunklen Seiten begleitet von atmosphärischem Gesang und Schattenspiel.\n\nhttps://eventfrog.at/de/p/theater-buehne/theater/theaterstueck-laute-schatten-7451213226774149580.html
LOCATION:Theater Moller Haus
GEO:49.867875;8.650525
URL:https://eventfrog.at/de/p/theater-buehne/theater/theaterstueck-laute-schatten-7451213226774149580.html
END:VEVENT
BEGIN:VEVENT
UID:20260421T203528Z-7451213226916755941@eventfrog.at
DTSTAMP:20260421T203528Z
DTSTART:20260606T180000Z
SUMMARY:Theaterstück - Laute Schatten
DESCRIPTION:Ein Horrorstück von Miriam Schöpf über das Akzeptieren der eigenen dunklen Seiten begleitet von atmosphärischem Gesang und Schattenspiel.\n\nhttps://eventfrog.at/de/p/theater-buehne/theater/theaterstueck-laute-schatten-7451213226916755941.html
LOCATION:Theater Moller Haus
GEO:49.867875;8.650525
URL:https://eventfrog.at/de/p/theater-buehne/theater/theaterstueck-laute-schatten-7451213226916755941.html
END:VEVENT
END:VCALENDAR