BEGIN:VCALENDAR
VERSION:2.0
PRODID:EVENTFROG//EVENTGROUP//ICAL
BEGIN:VEVENT
UID:20260420T173557Z-7451029335593501789@eventfrog.at
DTSTAMP:20260420T173557Z
DTSTART:20260426T121500Z
DTEND:20260426T133000Z
SUMMARY:Öffentliche Stadtführungen Diessenhofen
DESCRIPTION:Öffentliche Stadtführungen Diessenhofen\n\nhttps://eventfrog.at/de/p/wissenschaft-und-technik/oeffentliche-stadtfuehrungen-diessenhofen-7451029335593501789.html
LOCATION:Diessenhofen
GEO:47.685735;8.758211
URL:https://eventfrog.at/de/p/wissenschaft-und-technik/oeffentliche-stadtfuehrungen-diessenhofen-7451029335593501789.html
END:VEVENT
BEGIN:VEVENT
UID:20260420T173557Z-7451029335765468254@eventfrog.at
DTSTAMP:20260420T173557Z
DTSTART:20260509T120000Z
DTEND:20260509T133000Z
SUMMARY:Öffentliche Stadtführungen Diessenhofen
DESCRIPTION:Öffentliche Stadtführungen Diessenhofen\n\nhttps://eventfrog.at/de/p/wissenschaft-und-technik/oeffentliche-stadtfuehrungen-diessenhofen-7451029335765468254.html
LOCATION:Diessenhofen
GEO:47.685735;8.758211
URL:https://eventfrog.at/de/p/wissenschaft-und-technik/oeffentliche-stadtfuehrungen-diessenhofen-7451029335765468254.html
END:VEVENT
BEGIN:VEVENT
UID:20260420T173557Z-7451029335941629024@eventfrog.at
DTSTAMP:20260420T173557Z
DTSTART:20260606T120000Z
DTEND:20260606T133000Z
SUMMARY:Öffentliche Stadtführungen Diessenhofen
DESCRIPTION:Öffentliche Stadtführungen Diessenhofen\n\nhttps://eventfrog.at/de/p/wissenschaft-und-technik/oeffentliche-stadtfuehrungen-diessenhofen-7451029335941629024.html
LOCATION:Diessenhofen
GEO:47.685735;8.758211
URL:https://eventfrog.at/de/p/wissenschaft-und-technik/oeffentliche-stadtfuehrungen-diessenhofen-7451029335941629024.html
END:VEVENT
BEGIN:VEVENT
UID:20260420T173557Z-7451029336113595491@eventfrog.at
DTSTAMP:20260420T173557Z
DTSTART:20260627T120000Z
DTEND:20260627T133000Z
SUMMARY:Öffentliche Stadtführungen Diessenhofen
DESCRIPTION:Öffentliche Stadtführungen Diessenhofen\n\nhttps://eventfrog.at/de/p/wissenschaft-und-technik/oeffentliche-stadtfuehrungen-diessenhofen-7451029336113595491.html
LOCATION:Diessenhofen
GEO:47.685735;8.758211
URL:https://eventfrog.at/de/p/wissenschaft-und-technik/oeffentliche-stadtfuehrungen-diessenhofen-7451029336113595491.html
END:VEVENT
BEGIN:VEVENT
UID:20260420T173557Z-7451029336285561957@eventfrog.at
DTSTAMP:20260420T173557Z
DTSTART:20260711T121500Z
DTEND:20260711T133000Z
SUMMARY:Öffentliche Stadtführungen Diessenhofen
DESCRIPTION:Öffentliche Stadtführungen Diessenhofen\n\nhttps://eventfrog.at/de/p/wissenschaft-und-technik/oeffentliche-stadtfuehrungen-diessenhofen-7451029336285561957.html
LOCATION:Diessenhofen
GEO:47.685735;8.758211
URL:https://eventfrog.at/de/p/wissenschaft-und-technik/oeffentliche-stadtfuehrungen-diessenhofen-7451029336285561957.html
END:VEVENT
BEGIN:VEVENT
UID:20260420T173557Z-7451029336470111334@eventfrog.at
DTSTAMP:20260420T173557Z
DTSTART:20260815T121500Z
DTEND:20260815T133000Z
SUMMARY:Öffentliche Stadtführungen Diessenhofen
DESCRIPTION:Öffentliche Stadtführungen Diessenhofen\n\nhttps://eventfrog.at/de/p/wissenschaft-und-technik/oeffentliche-stadtfuehrungen-diessenhofen-7451029336470111334.html
LOCATION:Diessenhofen
GEO:47.685735;8.758211
URL:https://eventfrog.at/de/p/wissenschaft-und-technik/oeffentliche-stadtfuehrungen-diessenhofen-7451029336470111334.html
END:VEVENT
BEGIN:VEVENT
UID:20260420T173557Z-7451029336650466408@eventfrog.at
DTSTAMP:20260420T173557Z
DTSTART:20260912T120000Z
DTEND:20260912T133000Z
SUMMARY:Öffentliche Stadtführungen Diessenhofen
DESCRIPTION:Öffentliche Stadtführungen Diessenhofen\n\nhttps://eventfrog.at/de/p/wissenschaft-und-technik/oeffentliche-stadtfuehrungen-diessenhofen-7451029336650466408.html
LOCATION:Diessenhofen
GEO:47.685735;8.758211
URL:https://eventfrog.at/de/p/wissenschaft-und-technik/oeffentliche-stadtfuehrungen-diessenhofen-7451029336650466408.html
END:VEVENT
BEGIN:VEVENT
UID:20260420T173557Z-7451029336826627198@eventfrog.at
DTSTAMP:20260420T173557Z
DTSTART:20261003T120000Z
DTEND:20261003T133000Z
SUMMARY:Öffentliche Stadtführungen Diessenhofen
DESCRIPTION:Öffentliche Stadtführungen Diessenhofen\n\nhttps://eventfrog.at/de/p/wissenschaft-und-technik/oeffentliche-stadtfuehrungen-diessenhofen-7451029336826627198.html
LOCATION:Diessenhofen
GEO:47.685735;8.758211
URL:https://eventfrog.at/de/p/wissenschaft-und-technik/oeffentliche-stadtfuehrungen-diessenhofen-7451029336826627198.html
END:VEVENT
END:VCALENDAR