BEGIN:VCALENDAR
VERSION:2.0
PRODID:EVENTFROG//EVENTGROUP//ICAL
BEGIN:VEVENT
UID:20260421T173032Z-7450936251908121860@eventfrog.at
DTSTAMP:20260421T173032Z
DTSTART:20260820T123000Z
DTEND:20260820T203000Z
SUMMARY:Dinner in the Sky Hamburg
DESCRIPTION:Geniesse ein exklusives Dinner auf ca. 50 m Höhe mit 360-Grad-Panorama über Köln, Düsseldorf und Hamburg im Sommer 2026.\n\nhttps://eventfrog.at/de/p/essen-trinken/dinner-in-the-sky-hamburg-7450936251908121860.html
LOCATION:Theaterpavillon am Großmarkt
GEO:53.543937;10.014993
URL:https://eventfrog.at/de/p/essen-trinken/dinner-in-the-sky-hamburg-7450936251908121860.html
END:VEVENT
BEGIN:VEVENT
UID:20260421T173032Z-7450936251971036422@eventfrog.at
DTSTAMP:20260421T173032Z
DTSTART:20260821T100000Z
DTEND:20260821T203000Z
SUMMARY:Dinner in the Sky Hamburg
DESCRIPTION:Geniesse ein exklusives Dinner auf ca. 50 m Höhe mit 360-Grad-Panorama über Köln, Düsseldorf und Hamburg im Sommer 2026.\n\nhttps://eventfrog.at/de/p/essen-trinken/dinner-in-the-sky-hamburg-7450936251971036422.html
LOCATION:Theaterpavillon am Großmarkt
GEO:53.543937;10.014993
URL:https://eventfrog.at/de/p/essen-trinken/dinner-in-the-sky-hamburg-7450936251971036422.html
END:VEVENT
BEGIN:VEVENT
UID:20260421T173032Z-7450936252038145288@eventfrog.at
DTSTAMP:20260421T173032Z
DTSTART:20260822T100000Z
DTEND:20260822T203000Z
SUMMARY:Dinner in the Sky Hamburg
DESCRIPTION:Geniesse ein exklusives Dinner auf ca. 50 m Höhe mit 360-Grad-Panorama über Köln, Düsseldorf und Hamburg im Sommer 2026.\n\nhttps://eventfrog.at/de/p/essen-trinken/dinner-in-the-sky-hamburg-7450936252038145288.html
LOCATION:Theaterpavillon am Großmarkt
GEO:53.543937;10.014993
URL:https://eventfrog.at/de/p/essen-trinken/dinner-in-the-sky-hamburg-7450936252038145288.html
END:VEVENT
BEGIN:VEVENT
UID:20260421T173032Z-7450936252101059850@eventfrog.at
DTSTAMP:20260421T173032Z
DTSTART:20260823T100000Z
DTEND:20260823T203000Z
SUMMARY:Dinner in the Sky Hamburg
DESCRIPTION:Geniesse ein exklusives Dinner auf ca. 50 m Höhe mit 360-Grad-Panorama über Köln, Düsseldorf und Hamburg im Sommer 2026.\n\nhttps://eventfrog.at/de/p/essen-trinken/dinner-in-the-sky-hamburg-7450936252101059850.html
LOCATION:Theaterpavillon am Großmarkt
GEO:53.543937;10.014993
URL:https://eventfrog.at/de/p/essen-trinken/dinner-in-the-sky-hamburg-7450936252101059850.html
END:VEVENT
BEGIN:VEVENT
UID:20260421T173032Z-7450936252180751629@eventfrog.at
DTSTAMP:20260421T173032Z
DTSTART:20260826T123000Z
DTEND:20260826T203000Z
SUMMARY:Dinner in the Sky Hamburg
DESCRIPTION:Geniesse ein exklusives Dinner auf ca. 50 m Höhe mit 360-Grad-Panorama über Köln, Düsseldorf und Hamburg im Sommer 2026.\n\nhttps://eventfrog.at/de/p/essen-trinken/dinner-in-the-sky-hamburg-7450936252180751629.html
LOCATION:Theaterpavillon am Großmarkt
GEO:53.543937;10.014993
URL:https://eventfrog.at/de/p/essen-trinken/dinner-in-the-sky-hamburg-7450936252180751629.html
END:VEVENT
BEGIN:VEVENT
UID:20260421T173032Z-7450936252243666191@eventfrog.at
DTSTAMP:20260421T173032Z
DTSTART:20260827T123000Z
DTEND:20260827T203000Z
SUMMARY:Dinner in the Sky Hamburg
DESCRIPTION:Geniesse ein exklusives Dinner auf ca. 50 m Höhe mit 360-Grad-Panorama über Köln, Düsseldorf und Hamburg im Sommer 2026.\n\nhttps://eventfrog.at/de/p/essen-trinken/dinner-in-the-sky-hamburg-7450936252243666191.html
LOCATION:Theaterpavillon am Großmarkt
GEO:53.543937;10.014993
URL:https://eventfrog.at/de/p/essen-trinken/dinner-in-the-sky-hamburg-7450936252243666191.html
END:VEVENT
BEGIN:VEVENT
UID:20260421T173032Z-7450936252319163665@eventfrog.at
DTSTAMP:20260421T173032Z
DTSTART:20260828T100000Z
DTEND:20260828T203000Z
SUMMARY:Dinner in the Sky Hamburg
DESCRIPTION:Geniesse ein exklusives Dinner auf ca. 50 m Höhe mit 360-Grad-Panorama über Köln, Düsseldorf und Hamburg im Sommer 2026.\n\nhttps://eventfrog.at/de/p/essen-trinken/dinner-in-the-sky-hamburg-7450936252319163665.html
LOCATION:Theaterpavillon am Großmarkt
GEO:53.543937;10.014993
URL:https://eventfrog.at/de/p/essen-trinken/dinner-in-the-sky-hamburg-7450936252319163665.html
END:VEVENT
BEGIN:VEVENT
UID:20260421T173032Z-7450936252382078227@eventfrog.at
DTSTAMP:20260421T173032Z
DTSTART:20260829T100000Z
DTEND:20260829T203000Z
SUMMARY:Dinner in the Sky Hamburg
DESCRIPTION:Geniesse ein exklusives Dinner auf ca. 50 m Höhe mit 360-Grad-Panorama über Köln, Düsseldorf und Hamburg im Sommer 2026.\n\nhttps://eventfrog.at/de/p/essen-trinken/dinner-in-the-sky-hamburg-7450936252382078227.html
LOCATION:Theaterpavillon am Großmarkt
GEO:53.543937;10.014993
URL:https://eventfrog.at/de/p/essen-trinken/dinner-in-the-sky-hamburg-7450936252382078227.html
END:VEVENT
BEGIN:VEVENT
UID:20260421T173032Z-7450936252444992790@eventfrog.at
DTSTAMP:20260421T173032Z
DTSTART:20260830T100000Z
DTEND:20260830T203000Z
SUMMARY:Dinner in the Sky Hamburg
DESCRIPTION:Geniesse ein exklusives Dinner auf ca. 50 m Höhe mit 360-Grad-Panorama über Köln, Düsseldorf und Hamburg im Sommer 2026.\n\nhttps://eventfrog.at/de/p/essen-trinken/dinner-in-the-sky-hamburg-7450936252444992790.html
LOCATION:Theaterpavillon am Großmarkt
GEO:53.543937;10.014993
URL:https://eventfrog.at/de/p/essen-trinken/dinner-in-the-sky-hamburg-7450936252444992790.html
END:VEVENT
END:VCALENDAR