BEGIN:VCALENDAR
VERSION:2.0
PRODID:EVENTFROG//EVENTGROUP//ICAL
BEGIN:VEVENT
UID:20260421T174133Z-7450923268020633785@eventfrog.at
DTSTAMP:20260421T174133Z
DTSTART:20260730T123000Z
DTEND:20260730T203000Z
SUMMARY:Dinner in the Sky Köln
DESCRIPTION:Dinner in the Sky kombiniert beste Kulinarik mit 360-Grad-Panorama in Köln, Düsseldorf und Hamburg - ein unvergessliches Erlebnis 2026.\n\nhttps://eventfrog.at/de/p/essen-trinken/dinner-in-the-sky-koeln-7450923268020633785.html
LOCATION:MediaPark
GEO:50.947783;6.943199
URL:https://eventfrog.at/de/p/essen-trinken/dinner-in-the-sky-koeln-7450923268020633785.html
END:VEVENT
BEGIN:VEVENT
UID:20260421T174133Z-7450923268083548359@eventfrog.at
DTSTAMP:20260421T174133Z
DTSTART:20260731T100000Z
DTEND:20260731T203000Z
SUMMARY:Dinner in the Sky Köln
DESCRIPTION:Dinner in the Sky kombiniert beste Kulinarik mit 360-Grad-Panorama in Köln, Düsseldorf und Hamburg - ein unvergessliches Erlebnis 2026.\n\nhttps://eventfrog.at/de/p/essen-trinken/dinner-in-the-sky-koeln-7450923268083548359.html
LOCATION:MediaPark
GEO:50.947783;6.943199
URL:https://eventfrog.at/de/p/essen-trinken/dinner-in-the-sky-koeln-7450923268083548359.html
END:VEVENT
BEGIN:VEVENT
UID:20260421T174133Z-7450923268150657225@eventfrog.at
DTSTAMP:20260421T174133Z
DTSTART:20260801T100000Z
DTEND:20260801T203000Z
SUMMARY:Dinner in the Sky Köln
DESCRIPTION:Dinner in the Sky kombiniert beste Kulinarik mit 360-Grad-Panorama in Köln, Düsseldorf und Hamburg - ein unvergessliches Erlebnis 2026.\n\nhttps://eventfrog.at/de/p/essen-trinken/dinner-in-the-sky-koeln-7450923268150657225.html
LOCATION:MediaPark
GEO:50.947783;6.943199
URL:https://eventfrog.at/de/p/essen-trinken/dinner-in-the-sky-koeln-7450923268150657225.html
END:VEVENT
BEGIN:VEVENT
UID:20260421T174133Z-7450923268213571787@eventfrog.at
DTSTAMP:20260421T174133Z
DTSTART:20260802T100000Z
DTEND:20260802T203000Z
SUMMARY:Dinner in the Sky Köln
DESCRIPTION:Dinner in the Sky kombiniert beste Kulinarik mit 360-Grad-Panorama in Köln, Düsseldorf und Hamburg - ein unvergessliches Erlebnis 2026.\n\nhttps://eventfrog.at/de/p/essen-trinken/dinner-in-the-sky-koeln-7450923268213571787.html
LOCATION:MediaPark
GEO:50.947783;6.943199
URL:https://eventfrog.at/de/p/essen-trinken/dinner-in-the-sky-koeln-7450923268213571787.html
END:VEVENT
BEGIN:VEVENT
UID:20260421T174133Z-7450923268276486350@eventfrog.at
DTSTAMP:20260421T174133Z
DTSTART:20260805T123000Z
DTEND:20260805T203000Z
SUMMARY:Dinner in the Sky Köln
DESCRIPTION:Dinner in the Sky kombiniert beste Kulinarik mit 360-Grad-Panorama in Köln, Düsseldorf und Hamburg - ein unvergessliches Erlebnis 2026.\n\nhttps://eventfrog.at/de/p/essen-trinken/dinner-in-the-sky-koeln-7450923268276486350.html
LOCATION:MediaPark
GEO:50.947783;6.943199
URL:https://eventfrog.at/de/p/essen-trinken/dinner-in-the-sky-koeln-7450923268276486350.html
END:VEVENT
BEGIN:VEVENT
UID:20260421T174133Z-7450923268343595216@eventfrog.at
DTSTAMP:20260421T174133Z
DTSTART:20260806T123000Z
DTEND:20260806T203000Z
SUMMARY:Dinner in the Sky Köln
DESCRIPTION:Dinner in the Sky kombiniert beste Kulinarik mit 360-Grad-Panorama in Köln, Düsseldorf und Hamburg - ein unvergessliches Erlebnis 2026.\n\nhttps://eventfrog.at/de/p/essen-trinken/dinner-in-the-sky-koeln-7450923268343595216.html
LOCATION:MediaPark
GEO:50.947783;6.943199
URL:https://eventfrog.at/de/p/essen-trinken/dinner-in-the-sky-koeln-7450923268343595216.html
END:VEVENT
BEGIN:VEVENT
UID:20260421T174133Z-7450923268406509778@eventfrog.at
DTSTAMP:20260421T174133Z
DTSTART:20260807T100000Z
DTEND:20260807T203000Z
SUMMARY:Dinner in the Sky Köln
DESCRIPTION:Dinner in the Sky kombiniert beste Kulinarik mit 360-Grad-Panorama in Köln, Düsseldorf und Hamburg - ein unvergessliches Erlebnis 2026.\n\nhttps://eventfrog.at/de/p/essen-trinken/dinner-in-the-sky-koeln-7450923268406509778.html
LOCATION:MediaPark
GEO:50.947783;6.943199
URL:https://eventfrog.at/de/p/essen-trinken/dinner-in-the-sky-koeln-7450923268406509778.html
END:VEVENT
BEGIN:VEVENT
UID:20260421T174133Z-7450923268469424340@eventfrog.at
DTSTAMP:20260421T174133Z
DTSTART:20260808T100000Z
DTEND:20260808T203000Z
SUMMARY:Dinner in the Sky Köln
DESCRIPTION:Dinner in the Sky kombiniert beste Kulinarik mit 360-Grad-Panorama in Köln, Düsseldorf und Hamburg - ein unvergessliches Erlebnis 2026.\n\nhttps://eventfrog.at/de/p/essen-trinken/dinner-in-the-sky-koeln-7450923268469424340.html
LOCATION:MediaPark
GEO:50.947783;6.943199
URL:https://eventfrog.at/de/p/essen-trinken/dinner-in-the-sky-koeln-7450923268469424340.html
END:VEVENT
BEGIN:VEVENT
UID:20260421T174133Z-7450923268532338902@eventfrog.at
DTSTAMP:20260421T174133Z
DTSTART:20260809T100000Z
DTEND:20260809T203000Z
SUMMARY:Dinner in the Sky Köln
DESCRIPTION:Dinner in the Sky kombiniert beste Kulinarik mit 360-Grad-Panorama in Köln, Düsseldorf und Hamburg - ein unvergessliches Erlebnis 2026.\n\nhttps://eventfrog.at/de/p/essen-trinken/dinner-in-the-sky-koeln-7450923268532338902.html
LOCATION:MediaPark
GEO:50.947783;6.943199
URL:https://eventfrog.at/de/p/essen-trinken/dinner-in-the-sky-koeln-7450923268532338902.html
END:VEVENT
BEGIN:VEVENT
UID:20260421T174133Z-7450923268599447768@eventfrog.at
DTSTAMP:20260421T174133Z
DTSTART:20260812T123000Z
DTEND:20260812T203000Z
SUMMARY:Dinner in the Sky Köln
DESCRIPTION:Dinner in the Sky kombiniert beste Kulinarik mit 360-Grad-Panorama in Köln, Düsseldorf und Hamburg - ein unvergessliches Erlebnis 2026.\n\nhttps://eventfrog.at/de/p/essen-trinken/dinner-in-the-sky-koeln-7450923268599447768.html
LOCATION:MediaPark
GEO:50.947783;6.943199
URL:https://eventfrog.at/de/p/essen-trinken/dinner-in-the-sky-koeln-7450923268599447768.html
END:VEVENT
BEGIN:VEVENT
UID:20260421T174133Z-7450923268662362331@eventfrog.at
DTSTAMP:20260421T174133Z
DTSTART:20260813T123000Z
DTEND:20260813T203000Z
SUMMARY:Dinner in the Sky Köln
DESCRIPTION:Dinner in the Sky kombiniert beste Kulinarik mit 360-Grad-Panorama in Köln, Düsseldorf und Hamburg - ein unvergessliches Erlebnis 2026.\n\nhttps://eventfrog.at/de/p/essen-trinken/dinner-in-the-sky-koeln-7450923268662362331.html
LOCATION:MediaPark
GEO:50.947783;6.943199
URL:https://eventfrog.at/de/p/essen-trinken/dinner-in-the-sky-koeln-7450923268662362331.html
END:VEVENT
BEGIN:VEVENT
UID:20260421T174133Z-7450923268725276904@eventfrog.at
DTSTAMP:20260421T174133Z
DTSTART:20260814T100000Z
DTEND:20260814T203000Z
SUMMARY:Dinner in the Sky Köln
DESCRIPTION:Dinner in the Sky kombiniert beste Kulinarik mit 360-Grad-Panorama in Köln, Düsseldorf und Hamburg - ein unvergessliches Erlebnis 2026.\n\nhttps://eventfrog.at/de/p/essen-trinken/dinner-in-the-sky-koeln-7450923268725276904.html
LOCATION:MediaPark
GEO:50.947783;6.943199
URL:https://eventfrog.at/de/p/essen-trinken/dinner-in-the-sky-koeln-7450923268725276904.html
END:VEVENT
BEGIN:VEVENT
UID:20260421T174133Z-7450923268792385770@eventfrog.at
DTSTAMP:20260421T174133Z
DTSTART:20260815T100000Z
DTEND:20260815T203000Z
SUMMARY:Dinner in the Sky Köln
DESCRIPTION:Dinner in the Sky kombiniert beste Kulinarik mit 360-Grad-Panorama in Köln, Düsseldorf und Hamburg - ein unvergessliches Erlebnis 2026.\n\nhttps://eventfrog.at/de/p/essen-trinken/dinner-in-the-sky-koeln-7450923268792385770.html
LOCATION:MediaPark
GEO:50.947783;6.943199
URL:https://eventfrog.at/de/p/essen-trinken/dinner-in-the-sky-koeln-7450923268792385770.html
END:VEVENT
BEGIN:VEVENT
UID:20260421T174133Z-7450923268855300336@eventfrog.at
DTSTAMP:20260421T174133Z
DTSTART:20260816T100000Z
DTEND:20260816T203000Z
SUMMARY:Dinner in the Sky Köln
DESCRIPTION:Dinner in the Sky kombiniert beste Kulinarik mit 360-Grad-Panorama in Köln, Düsseldorf und Hamburg - ein unvergessliches Erlebnis 2026.\n\nhttps://eventfrog.at/de/p/essen-trinken/dinner-in-the-sky-koeln-7450923268855300336.html
LOCATION:MediaPark
GEO:50.947783;6.943199
URL:https://eventfrog.at/de/p/essen-trinken/dinner-in-the-sky-koeln-7450923268855300336.html
END:VEVENT
END:VCALENDAR